BEGIN:VCALENDAR
VERSION:2.0
PRODID:-//MDA - Maison d&#039;adoration Yverdon - ECPv6.15.20//NONSGML v1.0//EN
CALSCALE:GREGORIAN
METHOD:PUBLISH
X-ORIGINAL-URL:https://maisondadoration.org
X-WR-CALDESC:Évènements pour MDA - Maison d&#039;adoration Yverdon
REFRESH-INTERVAL;VALUE=DURATION:PT1H
X-Robots-Tag:noindex
X-PUBLISHED-TTL:PT1H
BEGIN:VTIMEZONE
TZID:Europe/Paris
BEGIN:DAYLIGHT
TZOFFSETFROM:+0100
TZOFFSETTO:+0200
TZNAME:CEST
DTSTART:20290325T010000
END:DAYLIGHT
BEGIN:STANDARD
TZOFFSETFROM:+0200
TZOFFSETTO:+0100
TZNAME:CET
DTSTART:20291028T010000
END:STANDARD
BEGIN:DAYLIGHT
TZOFFSETFROM:+0100
TZOFFSETTO:+0200
TZNAME:CEST
DTSTART:20300331T010000
END:DAYLIGHT
BEGIN:STANDARD
TZOFFSETFROM:+0200
TZOFFSETTO:+0100
TZNAME:CET
DTSTART:20301027T010000
END:STANDARD
BEGIN:DAYLIGHT
TZOFFSETFROM:+0100
TZOFFSETTO:+0200
TZNAME:CEST
DTSTART:20310330T010000
END:DAYLIGHT
BEGIN:STANDARD
TZOFFSETFROM:+0200
TZOFFSETTO:+0100
TZNAME:CET
DTSTART:20311026T010000
END:STANDARD
END:VTIMEZONE
BEGIN:VEVENT
DTSTART;TZID=Europe/Paris:20300301T200000
DTEND;TZID=Europe/Paris:20300301T210000
DTSTAMP:20260424T002913
CREATED:20260306T175041Z
LAST-MODIFIED:20260306T175041Z
UID:10007606-1898625600-1898629200@maisondadoration.org
SUMMARY:Intercession et Adoration
DESCRIPTION:Nous avons besoin d’être constamment renouvelés dans le Saint-Esprit! \nVenons donc nous tenir ensemble dans la présence de Dieu. \nC’est ce qui nous manque le plus aujourd’hui! \nPour se faire\, Dieu met à disposition des endroits\, comme la Maison d’Adoration à Morija\, pour palier à ce besoin. \nAlors\, bienvenu(e)! \n« Invoque-Moi\, et Je te répondrai. » (Jérémie 33:3)
URL:https://maisondadoration.org/agenda/intercession-et-adoration/2030-03-01/
LOCATION:MDA\, Rue des Philosophes 2\, Yverdon-les-Bains\, 1400\, Suisse
END:VEVENT
BEGIN:VEVENT
DTSTART;TZID=Europe/Paris:20300301T200000
DTEND;TZID=Europe/Paris:20300301T213000
DTSTAMP:20260424T002913
CREATED:20250630T113339Z
LAST-MODIFIED:20250630T153708Z
UID:10002839-1898625600-1898631000@maisondadoration.org
SUMMARY:Intercession et adoration Mirko Tassone
DESCRIPTION:Allons à la rencontre du Seigneur Jésus… \nCes temps de prière et d’adoration hebdomadaires sont ouverts à tous \nWelcome !
URL:https://maisondadoration.org/agenda/adoration-et-intercession-mirko-tassone-2/2030-03-01/
LOCATION:MDA\, Rue des Philosophes 2\, Yverdon-les-Bains\, 1400\, Suisse
END:VEVENT
BEGIN:VEVENT
DTSTART;TZID=Europe/Paris:20300305T200000
DTEND;TZID=Europe/Paris:20300305T213000
DTSTAMP:20260424T002913
CREATED:20251212T101443Z
LAST-MODIFIED:20251212T101443Z
UID:10006549-1898971200-1898976600@maisondadoration.org
SUMMARY:Louange et intercession
DESCRIPTION:avec S. Freymond
URL:https://maisondadoration.org/agenda/louange-et-intercession-4/2030-03-05/
LOCATION:MDA\, Rue des Philosophes 2\, Yverdon-les-Bains\, 1400\, Suisse
END:VEVENT
BEGIN:VEVENT
DTSTART;TZID=Europe/Paris:20300306T100000
DTEND;TZID=Europe/Paris:20300306T113000
DTSTAMP:20260424T002914
CREATED:20241029T143619Z
LAST-MODIFIED:20241029T144032Z
UID:10007678-1899021600-1899027000@maisondadoration.org
SUMMARY:Louange et Intercession
DESCRIPTION:
URL:https://maisondadoration.org/agenda/louange-et-adoration/2030-03-06/
LOCATION:MDA\, Rue des Philosophes 2\, Yverdon-les-Bains\, 1400\, Suisse
CATEGORIES:Prière
END:VEVENT
BEGIN:VEVENT
DTSTART;TZID=Europe/Paris:20300307T113000
DTEND;TZID=Europe/Paris:20300307T123000
DTSTAMP:20260424T002914
CREATED:20260305T154433Z
LAST-MODIFIED:20260422T050344Z
UID:10007337-1899113400-1899117000@maisondadoration.org
SUMMARY:Lecture psaumes et louange
DESCRIPTION:
URL:https://maisondadoration.org/agenda/lecture-psaumes-et-louange-2/2030-03-07/
LOCATION:MDA\, Rue des Philosophes 2\, Yverdon-les-Bains\, 1400\, Suisse
END:VEVENT
BEGIN:VEVENT
DTSTART;TZID=Europe/Paris:20300308T200000
DTEND;TZID=Europe/Paris:20300308T210000
DTSTAMP:20260424T002914
CREATED:20260306T175041Z
LAST-MODIFIED:20260306T175041Z
UID:10007607-1899230400-1899234000@maisondadoration.org
SUMMARY:Intercession et Adoration
DESCRIPTION:Nous avons besoin d’être constamment renouvelés dans le Saint-Esprit! \nVenons donc nous tenir ensemble dans la présence de Dieu. \nC’est ce qui nous manque le plus aujourd’hui! \nPour se faire\, Dieu met à disposition des endroits\, comme la Maison d’Adoration à Morija\, pour palier à ce besoin. \nAlors\, bienvenu(e)! \n« Invoque-Moi\, et Je te répondrai. » (Jérémie 33:3)
URL:https://maisondadoration.org/agenda/intercession-et-adoration/2030-03-08/
LOCATION:MDA\, Rue des Philosophes 2\, Yverdon-les-Bains\, 1400\, Suisse
END:VEVENT
BEGIN:VEVENT
DTSTART;TZID=Europe/Paris:20300308T200000
DTEND;TZID=Europe/Paris:20300308T213000
DTSTAMP:20260424T002914
CREATED:20250630T113339Z
LAST-MODIFIED:20250630T153708Z
UID:10002840-1899230400-1899235800@maisondadoration.org
SUMMARY:Intercession et adoration Mirko Tassone
DESCRIPTION:Allons à la rencontre du Seigneur Jésus… \nCes temps de prière et d’adoration hebdomadaires sont ouverts à tous \nWelcome !
URL:https://maisondadoration.org/agenda/adoration-et-intercession-mirko-tassone-2/2030-03-08/
LOCATION:MDA\, Rue des Philosophes 2\, Yverdon-les-Bains\, 1400\, Suisse
END:VEVENT
BEGIN:VEVENT
DTSTART;TZID=Europe/Paris:20300312T200000
DTEND;TZID=Europe/Paris:20300312T213000
DTSTAMP:20260424T002914
CREATED:20251212T101443Z
LAST-MODIFIED:20251212T101443Z
UID:10006550-1899576000-1899581400@maisondadoration.org
SUMMARY:Louange et intercession
DESCRIPTION:avec S. Freymond
URL:https://maisondadoration.org/agenda/louange-et-intercession-4/2030-03-12/
LOCATION:MDA\, Rue des Philosophes 2\, Yverdon-les-Bains\, 1400\, Suisse
END:VEVENT
BEGIN:VEVENT
DTSTART;TZID=Europe/Paris:20300313T100000
DTEND;TZID=Europe/Paris:20300313T113000
DTSTAMP:20260424T002914
CREATED:20241029T143619Z
LAST-MODIFIED:20241029T144032Z
UID:10007679-1899626400-1899631800@maisondadoration.org
SUMMARY:Louange et Intercession
DESCRIPTION:
URL:https://maisondadoration.org/agenda/louange-et-adoration/2030-03-13/
LOCATION:MDA\, Rue des Philosophes 2\, Yverdon-les-Bains\, 1400\, Suisse
CATEGORIES:Prière
END:VEVENT
BEGIN:VEVENT
DTSTART;TZID=Europe/Paris:20300314T113000
DTEND;TZID=Europe/Paris:20300314T123000
DTSTAMP:20260424T002914
CREATED:20260305T154433Z
LAST-MODIFIED:20260422T050344Z
UID:10007338-1899718200-1899721800@maisondadoration.org
SUMMARY:Lecture psaumes et louange
DESCRIPTION:
URL:https://maisondadoration.org/agenda/lecture-psaumes-et-louange-2/2030-03-14/
LOCATION:MDA\, Rue des Philosophes 2\, Yverdon-les-Bains\, 1400\, Suisse
END:VEVENT
BEGIN:VEVENT
DTSTART;TZID=Europe/Paris:20300315T200000
DTEND;TZID=Europe/Paris:20300315T210000
DTSTAMP:20260424T002914
CREATED:20260306T175041Z
LAST-MODIFIED:20260306T175041Z
UID:10007608-1899835200-1899838800@maisondadoration.org
SUMMARY:Intercession et Adoration
DESCRIPTION:Nous avons besoin d’être constamment renouvelés dans le Saint-Esprit! \nVenons donc nous tenir ensemble dans la présence de Dieu. \nC’est ce qui nous manque le plus aujourd’hui! \nPour se faire\, Dieu met à disposition des endroits\, comme la Maison d’Adoration à Morija\, pour palier à ce besoin. \nAlors\, bienvenu(e)! \n« Invoque-Moi\, et Je te répondrai. » (Jérémie 33:3)
URL:https://maisondadoration.org/agenda/intercession-et-adoration/2030-03-15/
LOCATION:MDA\, Rue des Philosophes 2\, Yverdon-les-Bains\, 1400\, Suisse
END:VEVENT
BEGIN:VEVENT
DTSTART;TZID=Europe/Paris:20300315T200000
DTEND;TZID=Europe/Paris:20300315T213000
DTSTAMP:20260424T002914
CREATED:20250630T113339Z
LAST-MODIFIED:20250630T153708Z
UID:10002841-1899835200-1899840600@maisondadoration.org
SUMMARY:Intercession et adoration Mirko Tassone
DESCRIPTION:Allons à la rencontre du Seigneur Jésus… \nCes temps de prière et d’adoration hebdomadaires sont ouverts à tous \nWelcome !
URL:https://maisondadoration.org/agenda/adoration-et-intercession-mirko-tassone-2/2030-03-15/
LOCATION:MDA\, Rue des Philosophes 2\, Yverdon-les-Bains\, 1400\, Suisse
END:VEVENT
BEGIN:VEVENT
DTSTART;TZID=Europe/Paris:20300319T200000
DTEND;TZID=Europe/Paris:20300319T213000
DTSTAMP:20260424T002914
CREATED:20251212T101443Z
LAST-MODIFIED:20251212T101443Z
UID:10006551-1900180800-1900186200@maisondadoration.org
SUMMARY:Louange et intercession
DESCRIPTION:avec S. Freymond
URL:https://maisondadoration.org/agenda/louange-et-intercession-4/2030-03-19/
LOCATION:MDA\, Rue des Philosophes 2\, Yverdon-les-Bains\, 1400\, Suisse
END:VEVENT
BEGIN:VEVENT
DTSTART;TZID=Europe/Paris:20300320T100000
DTEND;TZID=Europe/Paris:20300320T113000
DTSTAMP:20260424T002914
CREATED:20241029T143619Z
LAST-MODIFIED:20241029T144032Z
UID:10007680-1900231200-1900236600@maisondadoration.org
SUMMARY:Louange et Intercession
DESCRIPTION:
URL:https://maisondadoration.org/agenda/louange-et-adoration/2030-03-20/
LOCATION:MDA\, Rue des Philosophes 2\, Yverdon-les-Bains\, 1400\, Suisse
CATEGORIES:Prière
END:VEVENT
BEGIN:VEVENT
DTSTART;TZID=Europe/Paris:20300321T113000
DTEND;TZID=Europe/Paris:20300321T123000
DTSTAMP:20260424T002914
CREATED:20260305T154433Z
LAST-MODIFIED:20260422T050344Z
UID:10007339-1900323000-1900326600@maisondadoration.org
SUMMARY:Lecture psaumes et louange
DESCRIPTION:
URL:https://maisondadoration.org/agenda/lecture-psaumes-et-louange-2/2030-03-21/
LOCATION:MDA\, Rue des Philosophes 2\, Yverdon-les-Bains\, 1400\, Suisse
END:VEVENT
BEGIN:VEVENT
DTSTART;TZID=Europe/Paris:20300322T200000
DTEND;TZID=Europe/Paris:20300322T210000
DTSTAMP:20260424T002914
CREATED:20260306T175041Z
LAST-MODIFIED:20260306T175041Z
UID:10007609-1900440000-1900443600@maisondadoration.org
SUMMARY:Intercession et Adoration
DESCRIPTION:Nous avons besoin d’être constamment renouvelés dans le Saint-Esprit! \nVenons donc nous tenir ensemble dans la présence de Dieu. \nC’est ce qui nous manque le plus aujourd’hui! \nPour se faire\, Dieu met à disposition des endroits\, comme la Maison d’Adoration à Morija\, pour palier à ce besoin. \nAlors\, bienvenu(e)! \n« Invoque-Moi\, et Je te répondrai. » (Jérémie 33:3)
URL:https://maisondadoration.org/agenda/intercession-et-adoration/2030-03-22/
LOCATION:MDA\, Rue des Philosophes 2\, Yverdon-les-Bains\, 1400\, Suisse
END:VEVENT
BEGIN:VEVENT
DTSTART;TZID=Europe/Paris:20300322T200000
DTEND;TZID=Europe/Paris:20300322T213000
DTSTAMP:20260424T002914
CREATED:20250630T113339Z
LAST-MODIFIED:20250630T153708Z
UID:10002842-1900440000-1900445400@maisondadoration.org
SUMMARY:Intercession et adoration Mirko Tassone
DESCRIPTION:Allons à la rencontre du Seigneur Jésus… \nCes temps de prière et d’adoration hebdomadaires sont ouverts à tous \nWelcome !
URL:https://maisondadoration.org/agenda/adoration-et-intercession-mirko-tassone-2/2030-03-22/
LOCATION:MDA\, Rue des Philosophes 2\, Yverdon-les-Bains\, 1400\, Suisse
END:VEVENT
BEGIN:VEVENT
DTSTART;TZID=Europe/Paris:20300326T200000
DTEND;TZID=Europe/Paris:20300326T213000
DTSTAMP:20260424T002914
CREATED:20251212T101443Z
LAST-MODIFIED:20251212T101443Z
UID:10006552-1900785600-1900791000@maisondadoration.org
SUMMARY:Louange et intercession
DESCRIPTION:avec S. Freymond
URL:https://maisondadoration.org/agenda/louange-et-intercession-4/2030-03-26/
LOCATION:MDA\, Rue des Philosophes 2\, Yverdon-les-Bains\, 1400\, Suisse
END:VEVENT
BEGIN:VEVENT
DTSTART;TZID=Europe/Paris:20300327T100000
DTEND;TZID=Europe/Paris:20300327T113000
DTSTAMP:20260424T002914
CREATED:20241029T143619Z
LAST-MODIFIED:20241029T144032Z
UID:10007681-1900836000-1900841400@maisondadoration.org
SUMMARY:Louange et Intercession
DESCRIPTION:
URL:https://maisondadoration.org/agenda/louange-et-adoration/2030-03-27/
LOCATION:MDA\, Rue des Philosophes 2\, Yverdon-les-Bains\, 1400\, Suisse
CATEGORIES:Prière
END:VEVENT
BEGIN:VEVENT
DTSTART;TZID=Europe/Paris:20300328T113000
DTEND;TZID=Europe/Paris:20300328T123000
DTSTAMP:20260424T002914
CREATED:20260305T154433Z
LAST-MODIFIED:20260422T050344Z
UID:10007340-1900927800-1900931400@maisondadoration.org
SUMMARY:Lecture psaumes et louange
DESCRIPTION:
URL:https://maisondadoration.org/agenda/lecture-psaumes-et-louange-2/2030-03-28/
LOCATION:MDA\, Rue des Philosophes 2\, Yverdon-les-Bains\, 1400\, Suisse
END:VEVENT
BEGIN:VEVENT
DTSTART;TZID=Europe/Paris:20300329T200000
DTEND;TZID=Europe/Paris:20300329T210000
DTSTAMP:20260424T002914
CREATED:20260306T175041Z
LAST-MODIFIED:20260306T175041Z
UID:10007610-1901044800-1901048400@maisondadoration.org
SUMMARY:Intercession et Adoration
DESCRIPTION:Nous avons besoin d’être constamment renouvelés dans le Saint-Esprit! \nVenons donc nous tenir ensemble dans la présence de Dieu. \nC’est ce qui nous manque le plus aujourd’hui! \nPour se faire\, Dieu met à disposition des endroits\, comme la Maison d’Adoration à Morija\, pour palier à ce besoin. \nAlors\, bienvenu(e)! \n« Invoque-Moi\, et Je te répondrai. » (Jérémie 33:3)
URL:https://maisondadoration.org/agenda/intercession-et-adoration/2030-03-29/
LOCATION:MDA\, Rue des Philosophes 2\, Yverdon-les-Bains\, 1400\, Suisse
END:VEVENT
BEGIN:VEVENT
DTSTART;TZID=Europe/Paris:20300329T200000
DTEND;TZID=Europe/Paris:20300329T213000
DTSTAMP:20260424T002914
CREATED:20250630T113339Z
LAST-MODIFIED:20250630T153708Z
UID:10002843-1901044800-1901050200@maisondadoration.org
SUMMARY:Intercession et adoration Mirko Tassone
DESCRIPTION:Allons à la rencontre du Seigneur Jésus… \nCes temps de prière et d’adoration hebdomadaires sont ouverts à tous \nWelcome !
URL:https://maisondadoration.org/agenda/adoration-et-intercession-mirko-tassone-2/2030-03-29/
LOCATION:MDA\, Rue des Philosophes 2\, Yverdon-les-Bains\, 1400\, Suisse
END:VEVENT
BEGIN:VEVENT
DTSTART;TZID=Europe/Paris:20300402T200000
DTEND;TZID=Europe/Paris:20300402T213000
DTSTAMP:20260424T002914
CREATED:20251212T101443Z
LAST-MODIFIED:20251212T101443Z
UID:10006553-1901390400-1901395800@maisondadoration.org
SUMMARY:Louange et intercession
DESCRIPTION:avec S. Freymond
URL:https://maisondadoration.org/agenda/louange-et-intercession-4/2030-04-02/
LOCATION:MDA\, Rue des Philosophes 2\, Yverdon-les-Bains\, 1400\, Suisse
END:VEVENT
BEGIN:VEVENT
DTSTART;TZID=Europe/Paris:20300403T100000
DTEND;TZID=Europe/Paris:20300403T113000
DTSTAMP:20260424T002914
CREATED:20241029T143619Z
LAST-MODIFIED:20241029T144032Z
UID:10007682-1901440800-1901446200@maisondadoration.org
SUMMARY:Louange et Intercession
DESCRIPTION:
URL:https://maisondadoration.org/agenda/louange-et-adoration/2030-04-03/
LOCATION:MDA\, Rue des Philosophes 2\, Yverdon-les-Bains\, 1400\, Suisse
CATEGORIES:Prière
END:VEVENT
BEGIN:VEVENT
DTSTART;TZID=Europe/Paris:20300404T113000
DTEND;TZID=Europe/Paris:20300404T123000
DTSTAMP:20260424T002914
CREATED:20260305T154433Z
LAST-MODIFIED:20260422T050344Z
UID:10007341-1901532600-1901536200@maisondadoration.org
SUMMARY:Lecture psaumes et louange
DESCRIPTION:
URL:https://maisondadoration.org/agenda/lecture-psaumes-et-louange-2/2030-04-04/
LOCATION:MDA\, Rue des Philosophes 2\, Yverdon-les-Bains\, 1400\, Suisse
END:VEVENT
BEGIN:VEVENT
DTSTART;TZID=Europe/Paris:20300405T200000
DTEND;TZID=Europe/Paris:20300405T210000
DTSTAMP:20260424T002914
CREATED:20260306T175041Z
LAST-MODIFIED:20260306T175041Z
UID:10007611-1901649600-1901653200@maisondadoration.org
SUMMARY:Intercession et Adoration
DESCRIPTION:Nous avons besoin d’être constamment renouvelés dans le Saint-Esprit! \nVenons donc nous tenir ensemble dans la présence de Dieu. \nC’est ce qui nous manque le plus aujourd’hui! \nPour se faire\, Dieu met à disposition des endroits\, comme la Maison d’Adoration à Morija\, pour palier à ce besoin. \nAlors\, bienvenu(e)! \n« Invoque-Moi\, et Je te répondrai. » (Jérémie 33:3)
URL:https://maisondadoration.org/agenda/intercession-et-adoration/2030-04-05/
LOCATION:MDA\, Rue des Philosophes 2\, Yverdon-les-Bains\, 1400\, Suisse
END:VEVENT
BEGIN:VEVENT
DTSTART;TZID=Europe/Paris:20300405T200000
DTEND;TZID=Europe/Paris:20300405T213000
DTSTAMP:20260424T002914
CREATED:20250630T113339Z
LAST-MODIFIED:20250630T153708Z
UID:10002844-1901649600-1901655000@maisondadoration.org
SUMMARY:Intercession et adoration Mirko Tassone
DESCRIPTION:Allons à la rencontre du Seigneur Jésus… \nCes temps de prière et d’adoration hebdomadaires sont ouverts à tous \nWelcome !
URL:https://maisondadoration.org/agenda/adoration-et-intercession-mirko-tassone-2/2030-04-05/
LOCATION:MDA\, Rue des Philosophes 2\, Yverdon-les-Bains\, 1400\, Suisse
END:VEVENT
BEGIN:VEVENT
DTSTART;TZID=Europe/Paris:20300409T200000
DTEND;TZID=Europe/Paris:20300409T213000
DTSTAMP:20260424T002914
CREATED:20251212T101443Z
LAST-MODIFIED:20251212T101443Z
UID:10006554-1901995200-1902000600@maisondadoration.org
SUMMARY:Louange et intercession
DESCRIPTION:avec S. Freymond
URL:https://maisondadoration.org/agenda/louange-et-intercession-4/2030-04-09/
LOCATION:MDA\, Rue des Philosophes 2\, Yverdon-les-Bains\, 1400\, Suisse
END:VEVENT
BEGIN:VEVENT
DTSTART;TZID=Europe/Paris:20300410T100000
DTEND;TZID=Europe/Paris:20300410T113000
DTSTAMP:20260424T002914
CREATED:20241029T143619Z
LAST-MODIFIED:20241029T144032Z
UID:10007683-1902045600-1902051000@maisondadoration.org
SUMMARY:Louange et Intercession
DESCRIPTION:
URL:https://maisondadoration.org/agenda/louange-et-adoration/2030-04-10/
LOCATION:MDA\, Rue des Philosophes 2\, Yverdon-les-Bains\, 1400\, Suisse
CATEGORIES:Prière
END:VEVENT
BEGIN:VEVENT
DTSTART;TZID=Europe/Paris:20300411T113000
DTEND;TZID=Europe/Paris:20300411T123000
DTSTAMP:20260424T002914
CREATED:20260305T154433Z
LAST-MODIFIED:20260422T050344Z
UID:10007342-1902137400-1902141000@maisondadoration.org
SUMMARY:Lecture psaumes et louange
DESCRIPTION:
URL:https://maisondadoration.org/agenda/lecture-psaumes-et-louange-2/2030-04-11/
LOCATION:MDA\, Rue des Philosophes 2\, Yverdon-les-Bains\, 1400\, Suisse
END:VEVENT
END:VCALENDAR