BEGIN:VCALENDAR
VERSION:2.0
PRODID:-//MDA - Maison d&#039;adoration Yverdon - ECPv6.15.20//NONSGML v1.0//EN
CALSCALE:GREGORIAN
METHOD:PUBLISH
X-ORIGINAL-URL:https://maisondadoration.org
X-WR-CALDESC:Évènements pour MDA - Maison d&#039;adoration Yverdon
REFRESH-INTERVAL;VALUE=DURATION:PT1H
X-Robots-Tag:noindex
X-PUBLISHED-TTL:PT1H
BEGIN:VTIMEZONE
TZID:Europe/Paris
BEGIN:DAYLIGHT
TZOFFSETFROM:+0100
TZOFFSETTO:+0200
TZNAME:CEST
DTSTART:20280326T010000
END:DAYLIGHT
BEGIN:STANDARD
TZOFFSETFROM:+0200
TZOFFSETTO:+0100
TZNAME:CET
DTSTART:20281029T010000
END:STANDARD
BEGIN:DAYLIGHT
TZOFFSETFROM:+0100
TZOFFSETTO:+0200
TZNAME:CEST
DTSTART:20290325T010000
END:DAYLIGHT
BEGIN:STANDARD
TZOFFSETFROM:+0200
TZOFFSETTO:+0100
TZNAME:CET
DTSTART:20291028T010000
END:STANDARD
BEGIN:DAYLIGHT
TZOFFSETFROM:+0100
TZOFFSETTO:+0200
TZNAME:CEST
DTSTART:20300331T010000
END:DAYLIGHT
BEGIN:STANDARD
TZOFFSETFROM:+0200
TZOFFSETTO:+0100
TZNAME:CET
DTSTART:20301027T010000
END:STANDARD
BEGIN:DAYLIGHT
TZOFFSETFROM:+0100
TZOFFSETTO:+0200
TZNAME:CEST
DTSTART:20310330T010000
END:DAYLIGHT
BEGIN:STANDARD
TZOFFSETFROM:+0200
TZOFFSETTO:+0100
TZNAME:CET
DTSTART:20311026T010000
END:STANDARD
END:VTIMEZONE
BEGIN:VEVENT
DTSTART;TZID=Europe/Paris:20291214T200000
DTEND;TZID=Europe/Paris:20291214T213000
DTSTAMP:20260423T001239
CREATED:20250630T113339Z
LAST-MODIFIED:20250630T153708Z
UID:10002828-1891972800-1891978200@maisondadoration.org
SUMMARY:Intercession et adoration Mirko Tassone
DESCRIPTION:Allons à la rencontre du Seigneur Jésus… \nCes temps de prière et d’adoration hebdomadaires sont ouverts à tous \nWelcome !
URL:https://maisondadoration.org/agenda/adoration-et-intercession-mirko-tassone-2/2029-12-14/
LOCATION:MDA\, Rue des Philosophes 2\, Yverdon-les-Bains\, 1400\, Suisse
END:VEVENT
BEGIN:VEVENT
DTSTART;TZID=Europe/Paris:20291218T200000
DTEND;TZID=Europe/Paris:20291218T213000
DTSTAMP:20260423T001239
CREATED:20251212T101443Z
LAST-MODIFIED:20251212T101443Z
UID:10006538-1892318400-1892323800@maisondadoration.org
SUMMARY:Louange et intercession
DESCRIPTION:avec S. Freymond
URL:https://maisondadoration.org/agenda/louange-et-intercession-4/2029-12-18/
LOCATION:MDA\, Rue des Philosophes 2\, Yverdon-les-Bains\, 1400\, Suisse
END:VEVENT
BEGIN:VEVENT
DTSTART;TZID=Europe/Paris:20291219T100000
DTEND;TZID=Europe/Paris:20291219T113000
DTSTAMP:20260423T001239
CREATED:20241029T143619Z
LAST-MODIFIED:20241029T144032Z
UID:10007667-1892368800-1892374200@maisondadoration.org
SUMMARY:Louange et Intercession
DESCRIPTION:
URL:https://maisondadoration.org/agenda/louange-et-adoration/2029-12-19/
LOCATION:MDA\, Rue des Philosophes 2\, Yverdon-les-Bains\, 1400\, Suisse
CATEGORIES:Prière
END:VEVENT
BEGIN:VEVENT
DTSTART;TZID=Europe/Paris:20291220T113000
DTEND;TZID=Europe/Paris:20291220T123000
DTSTAMP:20260423T001239
CREATED:20260305T154433Z
LAST-MODIFIED:20260422T050344Z
UID:10007326-1892460600-1892464200@maisondadoration.org
SUMMARY:Lecture psaumes et louange
DESCRIPTION:
URL:https://maisondadoration.org/agenda/lecture-psaumes-et-louange-2/2029-12-20/
LOCATION:MDA\, Rue des Philosophes 2\, Yverdon-les-Bains\, 1400\, Suisse
END:VEVENT
BEGIN:VEVENT
DTSTART;TZID=Europe/Paris:20291221T200000
DTEND;TZID=Europe/Paris:20291221T210000
DTSTAMP:20260423T001239
CREATED:20260306T175041Z
LAST-MODIFIED:20260306T175041Z
UID:10007596-1892577600-1892581200@maisondadoration.org
SUMMARY:Intercession et Adoration
DESCRIPTION:Nous avons besoin d’être constamment renouvelés dans le Saint-Esprit! \nVenons donc nous tenir ensemble dans la présence de Dieu. \nC’est ce qui nous manque le plus aujourd’hui! \nPour se faire\, Dieu met à disposition des endroits\, comme la Maison d’Adoration à Morija\, pour palier à ce besoin. \nAlors\, bienvenu(e)! \n« Invoque-Moi\, et Je te répondrai. » (Jérémie 33:3)
URL:https://maisondadoration.org/agenda/intercession-et-adoration/2029-12-21/
LOCATION:MDA\, Rue des Philosophes 2\, Yverdon-les-Bains\, 1400\, Suisse
END:VEVENT
BEGIN:VEVENT
DTSTART;TZID=Europe/Paris:20291221T200000
DTEND;TZID=Europe/Paris:20291221T213000
DTSTAMP:20260423T001239
CREATED:20250630T113339Z
LAST-MODIFIED:20250630T153708Z
UID:10002829-1892577600-1892583000@maisondadoration.org
SUMMARY:Intercession et adoration Mirko Tassone
DESCRIPTION:Allons à la rencontre du Seigneur Jésus… \nCes temps de prière et d’adoration hebdomadaires sont ouverts à tous \nWelcome !
URL:https://maisondadoration.org/agenda/adoration-et-intercession-mirko-tassone-2/2029-12-21/
LOCATION:MDA\, Rue des Philosophes 2\, Yverdon-les-Bains\, 1400\, Suisse
END:VEVENT
BEGIN:VEVENT
DTSTART;TZID=Europe/Paris:20291225T200000
DTEND;TZID=Europe/Paris:20291225T213000
DTSTAMP:20260423T001239
CREATED:20251212T101443Z
LAST-MODIFIED:20251212T101443Z
UID:10006539-1892923200-1892928600@maisondadoration.org
SUMMARY:Louange et intercession
DESCRIPTION:avec S. Freymond
URL:https://maisondadoration.org/agenda/louange-et-intercession-4/2029-12-25/
LOCATION:MDA\, Rue des Philosophes 2\, Yverdon-les-Bains\, 1400\, Suisse
END:VEVENT
BEGIN:VEVENT
DTSTART;TZID=Europe/Paris:20291226T100000
DTEND;TZID=Europe/Paris:20291226T113000
DTSTAMP:20260423T001239
CREATED:20241029T143619Z
LAST-MODIFIED:20241029T144032Z
UID:10007668-1892973600-1892979000@maisondadoration.org
SUMMARY:Louange et Intercession
DESCRIPTION:
URL:https://maisondadoration.org/agenda/louange-et-adoration/2029-12-26/
LOCATION:MDA\, Rue des Philosophes 2\, Yverdon-les-Bains\, 1400\, Suisse
CATEGORIES:Prière
END:VEVENT
BEGIN:VEVENT
DTSTART;TZID=Europe/Paris:20291227T113000
DTEND;TZID=Europe/Paris:20291227T123000
DTSTAMP:20260423T001239
CREATED:20260305T154433Z
LAST-MODIFIED:20260422T050344Z
UID:10007327-1893065400-1893069000@maisondadoration.org
SUMMARY:Lecture psaumes et louange
DESCRIPTION:
URL:https://maisondadoration.org/agenda/lecture-psaumes-et-louange-2/2029-12-27/
LOCATION:MDA\, Rue des Philosophes 2\, Yverdon-les-Bains\, 1400\, Suisse
END:VEVENT
BEGIN:VEVENT
DTSTART;TZID=Europe/Paris:20291228T200000
DTEND;TZID=Europe/Paris:20291228T210000
DTSTAMP:20260423T001239
CREATED:20260306T175041Z
LAST-MODIFIED:20260306T175041Z
UID:10007597-1893182400-1893186000@maisondadoration.org
SUMMARY:Intercession et Adoration
DESCRIPTION:Nous avons besoin d’être constamment renouvelés dans le Saint-Esprit! \nVenons donc nous tenir ensemble dans la présence de Dieu. \nC’est ce qui nous manque le plus aujourd’hui! \nPour se faire\, Dieu met à disposition des endroits\, comme la Maison d’Adoration à Morija\, pour palier à ce besoin. \nAlors\, bienvenu(e)! \n« Invoque-Moi\, et Je te répondrai. » (Jérémie 33:3)
URL:https://maisondadoration.org/agenda/intercession-et-adoration/2029-12-28/
LOCATION:MDA\, Rue des Philosophes 2\, Yverdon-les-Bains\, 1400\, Suisse
END:VEVENT
BEGIN:VEVENT
DTSTART;TZID=Europe/Paris:20291228T200000
DTEND;TZID=Europe/Paris:20291228T213000
DTSTAMP:20260423T001239
CREATED:20250630T113339Z
LAST-MODIFIED:20250630T153708Z
UID:10002830-1893182400-1893187800@maisondadoration.org
SUMMARY:Intercession et adoration Mirko Tassone
DESCRIPTION:Allons à la rencontre du Seigneur Jésus… \nCes temps de prière et d’adoration hebdomadaires sont ouverts à tous \nWelcome !
URL:https://maisondadoration.org/agenda/adoration-et-intercession-mirko-tassone-2/2029-12-28/
LOCATION:MDA\, Rue des Philosophes 2\, Yverdon-les-Bains\, 1400\, Suisse
END:VEVENT
BEGIN:VEVENT
DTSTART;TZID=Europe/Paris:20300101T200000
DTEND;TZID=Europe/Paris:20300101T213000
DTSTAMP:20260423T001239
CREATED:20251212T101443Z
LAST-MODIFIED:20251212T101443Z
UID:10006540-1893528000-1893533400@maisondadoration.org
SUMMARY:Louange et intercession
DESCRIPTION:avec S. Freymond
URL:https://maisondadoration.org/agenda/louange-et-intercession-4/2030-01-01/
LOCATION:MDA\, Rue des Philosophes 2\, Yverdon-les-Bains\, 1400\, Suisse
END:VEVENT
BEGIN:VEVENT
DTSTART;TZID=Europe/Paris:20300102T100000
DTEND;TZID=Europe/Paris:20300102T113000
DTSTAMP:20260423T001239
CREATED:20241029T143619Z
LAST-MODIFIED:20241029T144032Z
UID:10007669-1893578400-1893583800@maisondadoration.org
SUMMARY:Louange et Intercession
DESCRIPTION:
URL:https://maisondadoration.org/agenda/louange-et-adoration/2030-01-02/
LOCATION:MDA\, Rue des Philosophes 2\, Yverdon-les-Bains\, 1400\, Suisse
CATEGORIES:Prière
END:VEVENT
BEGIN:VEVENT
DTSTART;TZID=Europe/Paris:20300103T113000
DTEND;TZID=Europe/Paris:20300103T123000
DTSTAMP:20260423T001239
CREATED:20260305T154433Z
LAST-MODIFIED:20260422T050344Z
UID:10007328-1893670200-1893673800@maisondadoration.org
SUMMARY:Lecture psaumes et louange
DESCRIPTION:
URL:https://maisondadoration.org/agenda/lecture-psaumes-et-louange-2/2030-01-03/
LOCATION:MDA\, Rue des Philosophes 2\, Yverdon-les-Bains\, 1400\, Suisse
END:VEVENT
BEGIN:VEVENT
DTSTART;TZID=Europe/Paris:20300104T200000
DTEND;TZID=Europe/Paris:20300104T210000
DTSTAMP:20260423T001239
CREATED:20260306T175041Z
LAST-MODIFIED:20260306T175041Z
UID:10007598-1893787200-1893790800@maisondadoration.org
SUMMARY:Intercession et Adoration
DESCRIPTION:Nous avons besoin d’être constamment renouvelés dans le Saint-Esprit! \nVenons donc nous tenir ensemble dans la présence de Dieu. \nC’est ce qui nous manque le plus aujourd’hui! \nPour se faire\, Dieu met à disposition des endroits\, comme la Maison d’Adoration à Morija\, pour palier à ce besoin. \nAlors\, bienvenu(e)! \n« Invoque-Moi\, et Je te répondrai. » (Jérémie 33:3)
URL:https://maisondadoration.org/agenda/intercession-et-adoration/2030-01-04/
LOCATION:MDA\, Rue des Philosophes 2\, Yverdon-les-Bains\, 1400\, Suisse
END:VEVENT
BEGIN:VEVENT
DTSTART;TZID=Europe/Paris:20300104T200000
DTEND;TZID=Europe/Paris:20300104T213000
DTSTAMP:20260423T001239
CREATED:20250630T113339Z
LAST-MODIFIED:20250630T153708Z
UID:10002831-1893787200-1893792600@maisondadoration.org
SUMMARY:Intercession et adoration Mirko Tassone
DESCRIPTION:Allons à la rencontre du Seigneur Jésus… \nCes temps de prière et d’adoration hebdomadaires sont ouverts à tous \nWelcome !
URL:https://maisondadoration.org/agenda/adoration-et-intercession-mirko-tassone-2/2030-01-04/
LOCATION:MDA\, Rue des Philosophes 2\, Yverdon-les-Bains\, 1400\, Suisse
END:VEVENT
BEGIN:VEVENT
DTSTART;TZID=Europe/Paris:20300108T200000
DTEND;TZID=Europe/Paris:20300108T213000
DTSTAMP:20260423T001239
CREATED:20251212T101443Z
LAST-MODIFIED:20251212T101443Z
UID:10006541-1894132800-1894138200@maisondadoration.org
SUMMARY:Louange et intercession
DESCRIPTION:avec S. Freymond
URL:https://maisondadoration.org/agenda/louange-et-intercession-4/2030-01-08/
LOCATION:MDA\, Rue des Philosophes 2\, Yverdon-les-Bains\, 1400\, Suisse
END:VEVENT
BEGIN:VEVENT
DTSTART;TZID=Europe/Paris:20300109T100000
DTEND;TZID=Europe/Paris:20300109T113000
DTSTAMP:20260423T001239
CREATED:20241029T143619Z
LAST-MODIFIED:20241029T144032Z
UID:10007670-1894183200-1894188600@maisondadoration.org
SUMMARY:Louange et Intercession
DESCRIPTION:
URL:https://maisondadoration.org/agenda/louange-et-adoration/2030-01-09/
LOCATION:MDA\, Rue des Philosophes 2\, Yverdon-les-Bains\, 1400\, Suisse
CATEGORIES:Prière
END:VEVENT
BEGIN:VEVENT
DTSTART;TZID=Europe/Paris:20300110T113000
DTEND;TZID=Europe/Paris:20300110T123000
DTSTAMP:20260423T001239
CREATED:20260305T154433Z
LAST-MODIFIED:20260422T050344Z
UID:10007329-1894275000-1894278600@maisondadoration.org
SUMMARY:Lecture psaumes et louange
DESCRIPTION:
URL:https://maisondadoration.org/agenda/lecture-psaumes-et-louange-2/2030-01-10/
LOCATION:MDA\, Rue des Philosophes 2\, Yverdon-les-Bains\, 1400\, Suisse
END:VEVENT
BEGIN:VEVENT
DTSTART;TZID=Europe/Paris:20300111T200000
DTEND;TZID=Europe/Paris:20300111T210000
DTSTAMP:20260423T001239
CREATED:20260306T175041Z
LAST-MODIFIED:20260306T175041Z
UID:10007599-1894392000-1894395600@maisondadoration.org
SUMMARY:Intercession et Adoration
DESCRIPTION:Nous avons besoin d’être constamment renouvelés dans le Saint-Esprit! \nVenons donc nous tenir ensemble dans la présence de Dieu. \nC’est ce qui nous manque le plus aujourd’hui! \nPour se faire\, Dieu met à disposition des endroits\, comme la Maison d’Adoration à Morija\, pour palier à ce besoin. \nAlors\, bienvenu(e)! \n« Invoque-Moi\, et Je te répondrai. » (Jérémie 33:3)
URL:https://maisondadoration.org/agenda/intercession-et-adoration/2030-01-11/
LOCATION:MDA\, Rue des Philosophes 2\, Yverdon-les-Bains\, 1400\, Suisse
END:VEVENT
BEGIN:VEVENT
DTSTART;TZID=Europe/Paris:20300111T200000
DTEND;TZID=Europe/Paris:20300111T213000
DTSTAMP:20260423T001239
CREATED:20250630T113339Z
LAST-MODIFIED:20250630T153708Z
UID:10002832-1894392000-1894397400@maisondadoration.org
SUMMARY:Intercession et adoration Mirko Tassone
DESCRIPTION:Allons à la rencontre du Seigneur Jésus… \nCes temps de prière et d’adoration hebdomadaires sont ouverts à tous \nWelcome !
URL:https://maisondadoration.org/agenda/adoration-et-intercession-mirko-tassone-2/2030-01-11/
LOCATION:MDA\, Rue des Philosophes 2\, Yverdon-les-Bains\, 1400\, Suisse
END:VEVENT
BEGIN:VEVENT
DTSTART;TZID=Europe/Paris:20300115T200000
DTEND;TZID=Europe/Paris:20300115T213000
DTSTAMP:20260423T001239
CREATED:20251212T101443Z
LAST-MODIFIED:20251212T101443Z
UID:10006542-1894737600-1894743000@maisondadoration.org
SUMMARY:Louange et intercession
DESCRIPTION:avec S. Freymond
URL:https://maisondadoration.org/agenda/louange-et-intercession-4/2030-01-15/
LOCATION:MDA\, Rue des Philosophes 2\, Yverdon-les-Bains\, 1400\, Suisse
END:VEVENT
BEGIN:VEVENT
DTSTART;TZID=Europe/Paris:20300116T100000
DTEND;TZID=Europe/Paris:20300116T113000
DTSTAMP:20260423T001239
CREATED:20241029T143619Z
LAST-MODIFIED:20241029T144032Z
UID:10007671-1894788000-1894793400@maisondadoration.org
SUMMARY:Louange et Intercession
DESCRIPTION:
URL:https://maisondadoration.org/agenda/louange-et-adoration/2030-01-16/
LOCATION:MDA\, Rue des Philosophes 2\, Yverdon-les-Bains\, 1400\, Suisse
CATEGORIES:Prière
END:VEVENT
BEGIN:VEVENT
DTSTART;TZID=Europe/Paris:20300117T113000
DTEND;TZID=Europe/Paris:20300117T123000
DTSTAMP:20260423T001239
CREATED:20260305T154433Z
LAST-MODIFIED:20260422T050344Z
UID:10007330-1894879800-1894883400@maisondadoration.org
SUMMARY:Lecture psaumes et louange
DESCRIPTION:
URL:https://maisondadoration.org/agenda/lecture-psaumes-et-louange-2/2030-01-17/
LOCATION:MDA\, Rue des Philosophes 2\, Yverdon-les-Bains\, 1400\, Suisse
END:VEVENT
BEGIN:VEVENT
DTSTART;TZID=Europe/Paris:20300118T200000
DTEND;TZID=Europe/Paris:20300118T210000
DTSTAMP:20260423T001239
CREATED:20260306T175041Z
LAST-MODIFIED:20260306T175041Z
UID:10007600-1894996800-1895000400@maisondadoration.org
SUMMARY:Intercession et Adoration
DESCRIPTION:Nous avons besoin d’être constamment renouvelés dans le Saint-Esprit! \nVenons donc nous tenir ensemble dans la présence de Dieu. \nC’est ce qui nous manque le plus aujourd’hui! \nPour se faire\, Dieu met à disposition des endroits\, comme la Maison d’Adoration à Morija\, pour palier à ce besoin. \nAlors\, bienvenu(e)! \n« Invoque-Moi\, et Je te répondrai. » (Jérémie 33:3)
URL:https://maisondadoration.org/agenda/intercession-et-adoration/2030-01-18/
LOCATION:MDA\, Rue des Philosophes 2\, Yverdon-les-Bains\, 1400\, Suisse
END:VEVENT
BEGIN:VEVENT
DTSTART;TZID=Europe/Paris:20300118T200000
DTEND;TZID=Europe/Paris:20300118T213000
DTSTAMP:20260423T001239
CREATED:20250630T113339Z
LAST-MODIFIED:20250630T153708Z
UID:10002833-1894996800-1895002200@maisondadoration.org
SUMMARY:Intercession et adoration Mirko Tassone
DESCRIPTION:Allons à la rencontre du Seigneur Jésus… \nCes temps de prière et d’adoration hebdomadaires sont ouverts à tous \nWelcome !
URL:https://maisondadoration.org/agenda/adoration-et-intercession-mirko-tassone-2/2030-01-18/
LOCATION:MDA\, Rue des Philosophes 2\, Yverdon-les-Bains\, 1400\, Suisse
END:VEVENT
BEGIN:VEVENT
DTSTART;TZID=Europe/Paris:20300122T200000
DTEND;TZID=Europe/Paris:20300122T213000
DTSTAMP:20260423T001239
CREATED:20251212T101443Z
LAST-MODIFIED:20251212T101443Z
UID:10006543-1895342400-1895347800@maisondadoration.org
SUMMARY:Louange et intercession
DESCRIPTION:avec S. Freymond
URL:https://maisondadoration.org/agenda/louange-et-intercession-4/2030-01-22/
LOCATION:MDA\, Rue des Philosophes 2\, Yverdon-les-Bains\, 1400\, Suisse
END:VEVENT
BEGIN:VEVENT
DTSTART;TZID=Europe/Paris:20300123T100000
DTEND;TZID=Europe/Paris:20300123T113000
DTSTAMP:20260423T001240
CREATED:20241029T143619Z
LAST-MODIFIED:20241029T144032Z
UID:10007672-1895392800-1895398200@maisondadoration.org
SUMMARY:Louange et Intercession
DESCRIPTION:
URL:https://maisondadoration.org/agenda/louange-et-adoration/2030-01-23/
LOCATION:MDA\, Rue des Philosophes 2\, Yverdon-les-Bains\, 1400\, Suisse
CATEGORIES:Prière
END:VEVENT
BEGIN:VEVENT
DTSTART;TZID=Europe/Paris:20300124T113000
DTEND;TZID=Europe/Paris:20300124T123000
DTSTAMP:20260423T001240
CREATED:20260305T154433Z
LAST-MODIFIED:20260422T050344Z
UID:10007331-1895484600-1895488200@maisondadoration.org
SUMMARY:Lecture psaumes et louange
DESCRIPTION:
URL:https://maisondadoration.org/agenda/lecture-psaumes-et-louange-2/2030-01-24/
LOCATION:MDA\, Rue des Philosophes 2\, Yverdon-les-Bains\, 1400\, Suisse
END:VEVENT
BEGIN:VEVENT
DTSTART;TZID=Europe/Paris:20300125T200000
DTEND;TZID=Europe/Paris:20300125T210000
DTSTAMP:20260423T001240
CREATED:20260306T175041Z
LAST-MODIFIED:20260306T175041Z
UID:10007601-1895601600-1895605200@maisondadoration.org
SUMMARY:Intercession et Adoration
DESCRIPTION:Nous avons besoin d’être constamment renouvelés dans le Saint-Esprit! \nVenons donc nous tenir ensemble dans la présence de Dieu. \nC’est ce qui nous manque le plus aujourd’hui! \nPour se faire\, Dieu met à disposition des endroits\, comme la Maison d’Adoration à Morija\, pour palier à ce besoin. \nAlors\, bienvenu(e)! \n« Invoque-Moi\, et Je te répondrai. » (Jérémie 33:3)
URL:https://maisondadoration.org/agenda/intercession-et-adoration/2030-01-25/
LOCATION:MDA\, Rue des Philosophes 2\, Yverdon-les-Bains\, 1400\, Suisse
END:VEVENT
END:VCALENDAR