BEGIN:VCALENDAR
VERSION:2.0
PRODID:-//MDA - Maison d&#039;adoration Yverdon - ECPv6.15.20//NONSGML v1.0//EN
CALSCALE:GREGORIAN
METHOD:PUBLISH
X-ORIGINAL-URL:https://maisondadoration.org
X-WR-CALDESC:Évènements pour MDA - Maison d&#039;adoration Yverdon
REFRESH-INTERVAL;VALUE=DURATION:PT1H
X-Robots-Tag:noindex
X-PUBLISHED-TTL:PT1H
BEGIN:VTIMEZONE
TZID:Europe/Paris
BEGIN:DAYLIGHT
TZOFFSETFROM:+0100
TZOFFSETTO:+0200
TZNAME:CEST
DTSTART:20280326T010000
END:DAYLIGHT
BEGIN:STANDARD
TZOFFSETFROM:+0200
TZOFFSETTO:+0100
TZNAME:CET
DTSTART:20281029T010000
END:STANDARD
BEGIN:DAYLIGHT
TZOFFSETFROM:+0100
TZOFFSETTO:+0200
TZNAME:CEST
DTSTART:20290325T010000
END:DAYLIGHT
BEGIN:STANDARD
TZOFFSETFROM:+0200
TZOFFSETTO:+0100
TZNAME:CET
DTSTART:20291028T010000
END:STANDARD
BEGIN:DAYLIGHT
TZOFFSETFROM:+0100
TZOFFSETTO:+0200
TZNAME:CEST
DTSTART:20300331T010000
END:DAYLIGHT
BEGIN:STANDARD
TZOFFSETFROM:+0200
TZOFFSETTO:+0100
TZNAME:CET
DTSTART:20301027T010000
END:STANDARD
END:VTIMEZONE
BEGIN:VEVENT
DTSTART;TZID=Europe/Paris:20290529T200000
DTEND;TZID=Europe/Paris:20290529T213000
DTSTAMP:20260420T052713
CREATED:20251212T101443Z
LAST-MODIFIED:20251212T101443Z
UID:10006509-1874779200-1874784600@maisondadoration.org
SUMMARY:Louange et intercession
DESCRIPTION:avec S. Freymond
URL:https://maisondadoration.org/agenda/louange-et-intercession-4/2029-05-29/
LOCATION:MDA\, Rue des Philosophes 2\, Yverdon-les-Bains\, 1400\, Suisse
END:VEVENT
BEGIN:VEVENT
DTSTART;TZID=Europe/Paris:20290530T100000
DTEND;TZID=Europe/Paris:20290530T113000
DTSTAMP:20260420T052713
CREATED:20241029T143619Z
LAST-MODIFIED:20241029T144032Z
UID:10001990-1874829600-1874835000@maisondadoration.org
SUMMARY:Louange et Intercession
DESCRIPTION:
URL:https://maisondadoration.org/agenda/louange-et-adoration/2029-05-30/
LOCATION:MDA\, Rue des Philosophes 2\, Yverdon-les-Bains\, 1400\, Suisse
CATEGORIES:Prière
END:VEVENT
BEGIN:VEVENT
DTSTART;TZID=Europe/Paris:20290531T113000
DTEND;TZID=Europe/Paris:20290531T123000
DTSTAMP:20260420T052713
CREATED:20260305T154433Z
LAST-MODIFIED:20260305T154608Z
UID:10007297-1874921400-1874925000@maisondadoration.org
SUMMARY:Lecture psaumes et louange
DESCRIPTION:
URL:https://maisondadoration.org/agenda/lecture-psaumes-et-louange-2/2029-05-31/
LOCATION:MDA\, Rue des Philosophes 2\, Yverdon-les-Bains\, 1400\, Suisse
END:VEVENT
BEGIN:VEVENT
DTSTART;TZID=Europe/Paris:20290601T200000
DTEND;TZID=Europe/Paris:20290601T210000
DTSTAMP:20260420T052713
CREATED:20260306T175041Z
LAST-MODIFIED:20260306T175041Z
UID:10007567-1875038400-1875042000@maisondadoration.org
SUMMARY:Intercession et Adoration
DESCRIPTION:Nous avons besoin d’être constamment renouvelés dans le Saint-Esprit! \nVenons donc nous tenir ensemble dans la présence de Dieu. \nC’est ce qui nous manque le plus aujourd’hui! \nPour se faire\, Dieu met à disposition des endroits\, comme la Maison d’Adoration à Morija\, pour palier à ce besoin. \nAlors\, bienvenu(e)! \n« Invoque-Moi\, et Je te répondrai. » (Jérémie 33:3)
URL:https://maisondadoration.org/agenda/intercession-et-adoration/2029-06-01/
LOCATION:MDA\, Rue des Philosophes 2\, Yverdon-les-Bains\, 1400\, Suisse
END:VEVENT
BEGIN:VEVENT
DTSTART;TZID=Europe/Paris:20290601T200000
DTEND;TZID=Europe/Paris:20290601T213000
DTSTAMP:20260420T052713
CREATED:20250630T113339Z
LAST-MODIFIED:20250630T153708Z
UID:10002800-1875038400-1875043800@maisondadoration.org
SUMMARY:Intercession et adoration Mirko Tassone
DESCRIPTION:Allons à la rencontre du Seigneur Jésus… \nCes temps de prière et d’adoration hebdomadaires sont ouverts à tous \nWelcome !
URL:https://maisondadoration.org/agenda/adoration-et-intercession-mirko-tassone-2/2029-06-01/
LOCATION:MDA\, Rue des Philosophes 2\, Yverdon-les-Bains\, 1400\, Suisse
END:VEVENT
BEGIN:VEVENT
DTSTART;TZID=Europe/Paris:20290605T200000
DTEND;TZID=Europe/Paris:20290605T213000
DTSTAMP:20260420T052713
CREATED:20251212T101443Z
LAST-MODIFIED:20251212T101443Z
UID:10006510-1875384000-1875389400@maisondadoration.org
SUMMARY:Louange et intercession
DESCRIPTION:avec S. Freymond
URL:https://maisondadoration.org/agenda/louange-et-intercession-4/2029-06-05/
LOCATION:MDA\, Rue des Philosophes 2\, Yverdon-les-Bains\, 1400\, Suisse
END:VEVENT
BEGIN:VEVENT
DTSTART;TZID=Europe/Paris:20290606T100000
DTEND;TZID=Europe/Paris:20290606T113000
DTSTAMP:20260420T052713
CREATED:20241029T143619Z
LAST-MODIFIED:20241029T144032Z
UID:10001991-1875434400-1875439800@maisondadoration.org
SUMMARY:Louange et Intercession
DESCRIPTION:
URL:https://maisondadoration.org/agenda/louange-et-adoration/2029-06-06/
LOCATION:MDA\, Rue des Philosophes 2\, Yverdon-les-Bains\, 1400\, Suisse
CATEGORIES:Prière
END:VEVENT
BEGIN:VEVENT
DTSTART;TZID=Europe/Paris:20290607T113000
DTEND;TZID=Europe/Paris:20290607T123000
DTSTAMP:20260420T052713
CREATED:20260305T154433Z
LAST-MODIFIED:20260305T154608Z
UID:10007298-1875526200-1875529800@maisondadoration.org
SUMMARY:Lecture psaumes et louange
DESCRIPTION:
URL:https://maisondadoration.org/agenda/lecture-psaumes-et-louange-2/2029-06-07/
LOCATION:MDA\, Rue des Philosophes 2\, Yverdon-les-Bains\, 1400\, Suisse
END:VEVENT
BEGIN:VEVENT
DTSTART;TZID=Europe/Paris:20290608T200000
DTEND;TZID=Europe/Paris:20290608T210000
DTSTAMP:20260420T052713
CREATED:20260306T175041Z
LAST-MODIFIED:20260306T175041Z
UID:10007568-1875643200-1875646800@maisondadoration.org
SUMMARY:Intercession et Adoration
DESCRIPTION:Nous avons besoin d’être constamment renouvelés dans le Saint-Esprit! \nVenons donc nous tenir ensemble dans la présence de Dieu. \nC’est ce qui nous manque le plus aujourd’hui! \nPour se faire\, Dieu met à disposition des endroits\, comme la Maison d’Adoration à Morija\, pour palier à ce besoin. \nAlors\, bienvenu(e)! \n« Invoque-Moi\, et Je te répondrai. » (Jérémie 33:3)
URL:https://maisondadoration.org/agenda/intercession-et-adoration/2029-06-08/
LOCATION:MDA\, Rue des Philosophes 2\, Yverdon-les-Bains\, 1400\, Suisse
END:VEVENT
BEGIN:VEVENT
DTSTART;TZID=Europe/Paris:20290608T200000
DTEND;TZID=Europe/Paris:20290608T213000
DTSTAMP:20260420T052713
CREATED:20250630T113339Z
LAST-MODIFIED:20250630T153708Z
UID:10002801-1875643200-1875648600@maisondadoration.org
SUMMARY:Intercession et adoration Mirko Tassone
DESCRIPTION:Allons à la rencontre du Seigneur Jésus… \nCes temps de prière et d’adoration hebdomadaires sont ouverts à tous \nWelcome !
URL:https://maisondadoration.org/agenda/adoration-et-intercession-mirko-tassone-2/2029-06-08/
LOCATION:MDA\, Rue des Philosophes 2\, Yverdon-les-Bains\, 1400\, Suisse
END:VEVENT
BEGIN:VEVENT
DTSTART;TZID=Europe/Paris:20290612T200000
DTEND;TZID=Europe/Paris:20290612T213000
DTSTAMP:20260420T052713
CREATED:20251212T101443Z
LAST-MODIFIED:20251212T101443Z
UID:10006511-1875988800-1875994200@maisondadoration.org
SUMMARY:Louange et intercession
DESCRIPTION:avec S. Freymond
URL:https://maisondadoration.org/agenda/louange-et-intercession-4/2029-06-12/
LOCATION:MDA\, Rue des Philosophes 2\, Yverdon-les-Bains\, 1400\, Suisse
END:VEVENT
BEGIN:VEVENT
DTSTART;TZID=Europe/Paris:20290613T100000
DTEND;TZID=Europe/Paris:20290613T113000
DTSTAMP:20260420T052713
CREATED:20241029T143619Z
LAST-MODIFIED:20241029T144032Z
UID:10001992-1876039200-1876044600@maisondadoration.org
SUMMARY:Louange et Intercession
DESCRIPTION:
URL:https://maisondadoration.org/agenda/louange-et-adoration/2029-06-13/
LOCATION:MDA\, Rue des Philosophes 2\, Yverdon-les-Bains\, 1400\, Suisse
CATEGORIES:Prière
END:VEVENT
BEGIN:VEVENT
DTSTART;TZID=Europe/Paris:20290614T113000
DTEND;TZID=Europe/Paris:20290614T123000
DTSTAMP:20260420T052713
CREATED:20260305T154433Z
LAST-MODIFIED:20260305T154608Z
UID:10007299-1876131000-1876134600@maisondadoration.org
SUMMARY:Lecture psaumes et louange
DESCRIPTION:
URL:https://maisondadoration.org/agenda/lecture-psaumes-et-louange-2/2029-06-14/
LOCATION:MDA\, Rue des Philosophes 2\, Yverdon-les-Bains\, 1400\, Suisse
END:VEVENT
BEGIN:VEVENT
DTSTART;TZID=Europe/Paris:20290615T200000
DTEND;TZID=Europe/Paris:20290615T210000
DTSTAMP:20260420T052713
CREATED:20260306T175041Z
LAST-MODIFIED:20260306T175041Z
UID:10007569-1876248000-1876251600@maisondadoration.org
SUMMARY:Intercession et Adoration
DESCRIPTION:Nous avons besoin d’être constamment renouvelés dans le Saint-Esprit! \nVenons donc nous tenir ensemble dans la présence de Dieu. \nC’est ce qui nous manque le plus aujourd’hui! \nPour se faire\, Dieu met à disposition des endroits\, comme la Maison d’Adoration à Morija\, pour palier à ce besoin. \nAlors\, bienvenu(e)! \n« Invoque-Moi\, et Je te répondrai. » (Jérémie 33:3)
URL:https://maisondadoration.org/agenda/intercession-et-adoration/2029-06-15/
LOCATION:MDA\, Rue des Philosophes 2\, Yverdon-les-Bains\, 1400\, Suisse
END:VEVENT
BEGIN:VEVENT
DTSTART;TZID=Europe/Paris:20290615T200000
DTEND;TZID=Europe/Paris:20290615T213000
DTSTAMP:20260420T052713
CREATED:20250630T113339Z
LAST-MODIFIED:20250630T153708Z
UID:10002802-1876248000-1876253400@maisondadoration.org
SUMMARY:Intercession et adoration Mirko Tassone
DESCRIPTION:Allons à la rencontre du Seigneur Jésus… \nCes temps de prière et d’adoration hebdomadaires sont ouverts à tous \nWelcome !
URL:https://maisondadoration.org/agenda/adoration-et-intercession-mirko-tassone-2/2029-06-15/
LOCATION:MDA\, Rue des Philosophes 2\, Yverdon-les-Bains\, 1400\, Suisse
END:VEVENT
BEGIN:VEVENT
DTSTART;TZID=Europe/Paris:20290619T200000
DTEND;TZID=Europe/Paris:20290619T213000
DTSTAMP:20260420T052713
CREATED:20251212T101443Z
LAST-MODIFIED:20251212T101443Z
UID:10006512-1876593600-1876599000@maisondadoration.org
SUMMARY:Louange et intercession
DESCRIPTION:avec S. Freymond
URL:https://maisondadoration.org/agenda/louange-et-intercession-4/2029-06-19/
LOCATION:MDA\, Rue des Philosophes 2\, Yverdon-les-Bains\, 1400\, Suisse
END:VEVENT
BEGIN:VEVENT
DTSTART;TZID=Europe/Paris:20290620T100000
DTEND;TZID=Europe/Paris:20290620T113000
DTSTAMP:20260420T052713
CREATED:20241029T143619Z
LAST-MODIFIED:20241029T144032Z
UID:10001993-1876644000-1876649400@maisondadoration.org
SUMMARY:Louange et Intercession
DESCRIPTION:
URL:https://maisondadoration.org/agenda/louange-et-adoration/2029-06-20/
LOCATION:MDA\, Rue des Philosophes 2\, Yverdon-les-Bains\, 1400\, Suisse
CATEGORIES:Prière
END:VEVENT
BEGIN:VEVENT
DTSTART;TZID=Europe/Paris:20290621T113000
DTEND;TZID=Europe/Paris:20290621T123000
DTSTAMP:20260420T052713
CREATED:20260305T154433Z
LAST-MODIFIED:20260305T154608Z
UID:10007300-1876735800-1876739400@maisondadoration.org
SUMMARY:Lecture psaumes et louange
DESCRIPTION:
URL:https://maisondadoration.org/agenda/lecture-psaumes-et-louange-2/2029-06-21/
LOCATION:MDA\, Rue des Philosophes 2\, Yverdon-les-Bains\, 1400\, Suisse
END:VEVENT
BEGIN:VEVENT
DTSTART;TZID=Europe/Paris:20290622T200000
DTEND;TZID=Europe/Paris:20290622T210000
DTSTAMP:20260420T052713
CREATED:20260306T175041Z
LAST-MODIFIED:20260306T175041Z
UID:10007570-1876852800-1876856400@maisondadoration.org
SUMMARY:Intercession et Adoration
DESCRIPTION:Nous avons besoin d’être constamment renouvelés dans le Saint-Esprit! \nVenons donc nous tenir ensemble dans la présence de Dieu. \nC’est ce qui nous manque le plus aujourd’hui! \nPour se faire\, Dieu met à disposition des endroits\, comme la Maison d’Adoration à Morija\, pour palier à ce besoin. \nAlors\, bienvenu(e)! \n« Invoque-Moi\, et Je te répondrai. » (Jérémie 33:3)
URL:https://maisondadoration.org/agenda/intercession-et-adoration/2029-06-22/
LOCATION:MDA\, Rue des Philosophes 2\, Yverdon-les-Bains\, 1400\, Suisse
END:VEVENT
BEGIN:VEVENT
DTSTART;TZID=Europe/Paris:20290622T200000
DTEND;TZID=Europe/Paris:20290622T213000
DTSTAMP:20260420T052713
CREATED:20250630T113339Z
LAST-MODIFIED:20250630T153708Z
UID:10002803-1876852800-1876858200@maisondadoration.org
SUMMARY:Intercession et adoration Mirko Tassone
DESCRIPTION:Allons à la rencontre du Seigneur Jésus… \nCes temps de prière et d’adoration hebdomadaires sont ouverts à tous \nWelcome !
URL:https://maisondadoration.org/agenda/adoration-et-intercession-mirko-tassone-2/2029-06-22/
LOCATION:MDA\, Rue des Philosophes 2\, Yverdon-les-Bains\, 1400\, Suisse
END:VEVENT
BEGIN:VEVENT
DTSTART;TZID=Europe/Paris:20290626T200000
DTEND;TZID=Europe/Paris:20290626T213000
DTSTAMP:20260420T052713
CREATED:20251212T101443Z
LAST-MODIFIED:20251212T101443Z
UID:10006513-1877198400-1877203800@maisondadoration.org
SUMMARY:Louange et intercession
DESCRIPTION:avec S. Freymond
URL:https://maisondadoration.org/agenda/louange-et-intercession-4/2029-06-26/
LOCATION:MDA\, Rue des Philosophes 2\, Yverdon-les-Bains\, 1400\, Suisse
END:VEVENT
BEGIN:VEVENT
DTSTART;TZID=Europe/Paris:20290627T100000
DTEND;TZID=Europe/Paris:20290627T113000
DTSTAMP:20260420T052713
CREATED:20241029T143619Z
LAST-MODIFIED:20241029T144032Z
UID:10001994-1877248800-1877254200@maisondadoration.org
SUMMARY:Louange et Intercession
DESCRIPTION:
URL:https://maisondadoration.org/agenda/louange-et-adoration/2029-06-27/
LOCATION:MDA\, Rue des Philosophes 2\, Yverdon-les-Bains\, 1400\, Suisse
CATEGORIES:Prière
END:VEVENT
BEGIN:VEVENT
DTSTART;TZID=Europe/Paris:20290628T113000
DTEND;TZID=Europe/Paris:20290628T123000
DTSTAMP:20260420T052713
CREATED:20260305T154433Z
LAST-MODIFIED:20260305T154608Z
UID:10007301-1877340600-1877344200@maisondadoration.org
SUMMARY:Lecture psaumes et louange
DESCRIPTION:
URL:https://maisondadoration.org/agenda/lecture-psaumes-et-louange-2/2029-06-28/
LOCATION:MDA\, Rue des Philosophes 2\, Yverdon-les-Bains\, 1400\, Suisse
END:VEVENT
BEGIN:VEVENT
DTSTART;TZID=Europe/Paris:20290629T200000
DTEND;TZID=Europe/Paris:20290629T210000
DTSTAMP:20260420T052713
CREATED:20260306T175041Z
LAST-MODIFIED:20260306T175041Z
UID:10007571-1877457600-1877461200@maisondadoration.org
SUMMARY:Intercession et Adoration
DESCRIPTION:Nous avons besoin d’être constamment renouvelés dans le Saint-Esprit! \nVenons donc nous tenir ensemble dans la présence de Dieu. \nC’est ce qui nous manque le plus aujourd’hui! \nPour se faire\, Dieu met à disposition des endroits\, comme la Maison d’Adoration à Morija\, pour palier à ce besoin. \nAlors\, bienvenu(e)! \n« Invoque-Moi\, et Je te répondrai. » (Jérémie 33:3)
URL:https://maisondadoration.org/agenda/intercession-et-adoration/2029-06-29/
LOCATION:MDA\, Rue des Philosophes 2\, Yverdon-les-Bains\, 1400\, Suisse
END:VEVENT
BEGIN:VEVENT
DTSTART;TZID=Europe/Paris:20290629T200000
DTEND;TZID=Europe/Paris:20290629T213000
DTSTAMP:20260420T052713
CREATED:20250630T113339Z
LAST-MODIFIED:20250630T153708Z
UID:10002804-1877457600-1877463000@maisondadoration.org
SUMMARY:Intercession et adoration Mirko Tassone
DESCRIPTION:Allons à la rencontre du Seigneur Jésus… \nCes temps de prière et d’adoration hebdomadaires sont ouverts à tous \nWelcome !
URL:https://maisondadoration.org/agenda/adoration-et-intercession-mirko-tassone-2/2029-06-29/
LOCATION:MDA\, Rue des Philosophes 2\, Yverdon-les-Bains\, 1400\, Suisse
END:VEVENT
BEGIN:VEVENT
DTSTART;TZID=Europe/Paris:20290703T200000
DTEND;TZID=Europe/Paris:20290703T213000
DTSTAMP:20260420T052713
CREATED:20251212T101443Z
LAST-MODIFIED:20251212T101443Z
UID:10006514-1877803200-1877808600@maisondadoration.org
SUMMARY:Louange et intercession
DESCRIPTION:avec S. Freymond
URL:https://maisondadoration.org/agenda/louange-et-intercession-4/2029-07-03/
LOCATION:MDA\, Rue des Philosophes 2\, Yverdon-les-Bains\, 1400\, Suisse
END:VEVENT
BEGIN:VEVENT
DTSTART;TZID=Europe/Paris:20290704T100000
DTEND;TZID=Europe/Paris:20290704T113000
DTSTAMP:20260420T052713
CREATED:20241029T143619Z
LAST-MODIFIED:20241029T144032Z
UID:10001995-1877853600-1877859000@maisondadoration.org
SUMMARY:Louange et Intercession
DESCRIPTION:
URL:https://maisondadoration.org/agenda/louange-et-adoration/2029-07-04/
LOCATION:MDA\, Rue des Philosophes 2\, Yverdon-les-Bains\, 1400\, Suisse
CATEGORIES:Prière
END:VEVENT
BEGIN:VEVENT
DTSTART;TZID=Europe/Paris:20290705T113000
DTEND;TZID=Europe/Paris:20290705T123000
DTSTAMP:20260420T052713
CREATED:20260305T154433Z
LAST-MODIFIED:20260305T154608Z
UID:10007302-1877945400-1877949000@maisondadoration.org
SUMMARY:Lecture psaumes et louange
DESCRIPTION:
URL:https://maisondadoration.org/agenda/lecture-psaumes-et-louange-2/2029-07-05/
LOCATION:MDA\, Rue des Philosophes 2\, Yverdon-les-Bains\, 1400\, Suisse
END:VEVENT
BEGIN:VEVENT
DTSTART;TZID=Europe/Paris:20290706T200000
DTEND;TZID=Europe/Paris:20290706T210000
DTSTAMP:20260420T052713
CREATED:20260306T175041Z
LAST-MODIFIED:20260306T175041Z
UID:10007572-1878062400-1878066000@maisondadoration.org
SUMMARY:Intercession et Adoration
DESCRIPTION:Nous avons besoin d’être constamment renouvelés dans le Saint-Esprit! \nVenons donc nous tenir ensemble dans la présence de Dieu. \nC’est ce qui nous manque le plus aujourd’hui! \nPour se faire\, Dieu met à disposition des endroits\, comme la Maison d’Adoration à Morija\, pour palier à ce besoin. \nAlors\, bienvenu(e)! \n« Invoque-Moi\, et Je te répondrai. » (Jérémie 33:3)
URL:https://maisondadoration.org/agenda/intercession-et-adoration/2029-07-06/
LOCATION:MDA\, Rue des Philosophes 2\, Yverdon-les-Bains\, 1400\, Suisse
END:VEVENT
BEGIN:VEVENT
DTSTART;TZID=Europe/Paris:20290706T200000
DTEND;TZID=Europe/Paris:20290706T213000
DTSTAMP:20260420T052713
CREATED:20250630T113339Z
LAST-MODIFIED:20250630T153708Z
UID:10002805-1878062400-1878067800@maisondadoration.org
SUMMARY:Intercession et adoration Mirko Tassone
DESCRIPTION:Allons à la rencontre du Seigneur Jésus… \nCes temps de prière et d’adoration hebdomadaires sont ouverts à tous \nWelcome !
URL:https://maisondadoration.org/agenda/adoration-et-intercession-mirko-tassone-2/2029-07-06/
LOCATION:MDA\, Rue des Philosophes 2\, Yverdon-les-Bains\, 1400\, Suisse
END:VEVENT
END:VCALENDAR