BEGIN:VCALENDAR
VERSION:2.0
PRODID:-//MDA - Maison d&#039;adoration Yverdon - ECPv6.15.20//NONSGML v1.0//EN
CALSCALE:GREGORIAN
METHOD:PUBLISH
X-WR-CALNAME:MDA - Maison d&#039;adoration Yverdon
X-ORIGINAL-URL:https://maisondadoration.org
X-WR-CALDESC:Évènements pour MDA - Maison d&#039;adoration Yverdon
REFRESH-INTERVAL;VALUE=DURATION:PT1H
X-Robots-Tag:noindex
X-PUBLISHED-TTL:PT1H
BEGIN:VTIMEZONE
TZID:Europe/Paris
BEGIN:DAYLIGHT
TZOFFSETFROM:+0100
TZOFFSETTO:+0200
TZNAME:CEST
DTSTART:20280326T010000
END:DAYLIGHT
BEGIN:STANDARD
TZOFFSETFROM:+0200
TZOFFSETTO:+0100
TZNAME:CET
DTSTART:20281029T010000
END:STANDARD
BEGIN:DAYLIGHT
TZOFFSETFROM:+0100
TZOFFSETTO:+0200
TZNAME:CEST
DTSTART:20290325T010000
END:DAYLIGHT
BEGIN:STANDARD
TZOFFSETFROM:+0200
TZOFFSETTO:+0100
TZNAME:CET
DTSTART:20291028T010000
END:STANDARD
BEGIN:DAYLIGHT
TZOFFSETFROM:+0100
TZOFFSETTO:+0200
TZNAME:CEST
DTSTART:20300331T010000
END:DAYLIGHT
BEGIN:STANDARD
TZOFFSETFROM:+0200
TZOFFSETTO:+0100
TZNAME:CET
DTSTART:20301027T010000
END:STANDARD
END:VTIMEZONE
BEGIN:VEVENT
DTSTART;TZID=Europe/Paris:20290327T200000
DTEND;TZID=Europe/Paris:20290327T213000
DTSTAMP:20260420T001440
CREATED:20251212T101443Z
LAST-MODIFIED:20251212T101443Z
UID:10006500-1869336000-1869341400@maisondadoration.org
SUMMARY:Louange et intercession
DESCRIPTION:avec S. Freymond
URL:https://maisondadoration.org/agenda/louange-et-intercession-4/2029-03-27/
LOCATION:MDA\, Rue des Philosophes 2\, Yverdon-les-Bains\, 1400\, Suisse
END:VEVENT
BEGIN:VEVENT
DTSTART;TZID=Europe/Paris:20290328T100000
DTEND;TZID=Europe/Paris:20290328T113000
DTSTAMP:20260420T001440
CREATED:20241029T143619Z
LAST-MODIFIED:20241029T144032Z
UID:10001981-1869386400-1869391800@maisondadoration.org
SUMMARY:Louange et Intercession
DESCRIPTION:
URL:https://maisondadoration.org/agenda/louange-et-adoration/2029-03-28/
LOCATION:MDA\, Rue des Philosophes 2\, Yverdon-les-Bains\, 1400\, Suisse
CATEGORIES:Prière
END:VEVENT
BEGIN:VEVENT
DTSTART;TZID=Europe/Paris:20290329T113000
DTEND;TZID=Europe/Paris:20290329T123000
DTSTAMP:20260420T001440
CREATED:20260305T154433Z
LAST-MODIFIED:20260305T154608Z
UID:10007288-1869478200-1869481800@maisondadoration.org
SUMMARY:Lecture psaumes et louange
DESCRIPTION:
URL:https://maisondadoration.org/agenda/lecture-psaumes-et-louange-2/2029-03-29/
LOCATION:MDA\, Rue des Philosophes 2\, Yverdon-les-Bains\, 1400\, Suisse
END:VEVENT
BEGIN:VEVENT
DTSTART;TZID=Europe/Paris:20290330T200000
DTEND;TZID=Europe/Paris:20290330T210000
DTSTAMP:20260420T001440
CREATED:20260306T175041Z
LAST-MODIFIED:20260306T175041Z
UID:10007558-1869595200-1869598800@maisondadoration.org
SUMMARY:Intercession et Adoration
DESCRIPTION:Nous avons besoin d’être constamment renouvelés dans le Saint-Esprit! \nVenons donc nous tenir ensemble dans la présence de Dieu. \nC’est ce qui nous manque le plus aujourd’hui! \nPour se faire\, Dieu met à disposition des endroits\, comme la Maison d’Adoration à Morija\, pour palier à ce besoin. \nAlors\, bienvenu(e)! \n« Invoque-Moi\, et Je te répondrai. » (Jérémie 33:3)
URL:https://maisondadoration.org/agenda/intercession-et-adoration/2029-03-30/
LOCATION:MDA\, Rue des Philosophes 2\, Yverdon-les-Bains\, 1400\, Suisse
END:VEVENT
BEGIN:VEVENT
DTSTART;TZID=Europe/Paris:20290403T200000
DTEND;TZID=Europe/Paris:20290403T213000
DTSTAMP:20260420T001440
CREATED:20251212T101443Z
LAST-MODIFIED:20251212T101443Z
UID:10006501-1869940800-1869946200@maisondadoration.org
SUMMARY:Louange et intercession
DESCRIPTION:avec S. Freymond
URL:https://maisondadoration.org/agenda/louange-et-intercession-4/2029-04-03/
LOCATION:MDA\, Rue des Philosophes 2\, Yverdon-les-Bains\, 1400\, Suisse
END:VEVENT
BEGIN:VEVENT
DTSTART;TZID=Europe/Paris:20290404T100000
DTEND;TZID=Europe/Paris:20290404T113000
DTSTAMP:20260420T001440
CREATED:20241029T143619Z
LAST-MODIFIED:20241029T144032Z
UID:10001982-1869991200-1869996600@maisondadoration.org
SUMMARY:Louange et Intercession
DESCRIPTION:
URL:https://maisondadoration.org/agenda/louange-et-adoration/2029-04-04/
LOCATION:MDA\, Rue des Philosophes 2\, Yverdon-les-Bains\, 1400\, Suisse
CATEGORIES:Prière
END:VEVENT
BEGIN:VEVENT
DTSTART;TZID=Europe/Paris:20290405T113000
DTEND;TZID=Europe/Paris:20290405T123000
DTSTAMP:20260420T001440
CREATED:20260305T154433Z
LAST-MODIFIED:20260305T154608Z
UID:10007289-1870083000-1870086600@maisondadoration.org
SUMMARY:Lecture psaumes et louange
DESCRIPTION:
URL:https://maisondadoration.org/agenda/lecture-psaumes-et-louange-2/2029-04-05/
LOCATION:MDA\, Rue des Philosophes 2\, Yverdon-les-Bains\, 1400\, Suisse
END:VEVENT
BEGIN:VEVENT
DTSTART;TZID=Europe/Paris:20290406T200000
DTEND;TZID=Europe/Paris:20290406T210000
DTSTAMP:20260420T001440
CREATED:20260306T175041Z
LAST-MODIFIED:20260306T175041Z
UID:10007559-1870200000-1870203600@maisondadoration.org
SUMMARY:Intercession et Adoration
DESCRIPTION:Nous avons besoin d’être constamment renouvelés dans le Saint-Esprit! \nVenons donc nous tenir ensemble dans la présence de Dieu. \nC’est ce qui nous manque le plus aujourd’hui! \nPour se faire\, Dieu met à disposition des endroits\, comme la Maison d’Adoration à Morija\, pour palier à ce besoin. \nAlors\, bienvenu(e)! \n« Invoque-Moi\, et Je te répondrai. » (Jérémie 33:3)
URL:https://maisondadoration.org/agenda/intercession-et-adoration/2029-04-06/
LOCATION:MDA\, Rue des Philosophes 2\, Yverdon-les-Bains\, 1400\, Suisse
END:VEVENT
BEGIN:VEVENT
DTSTART;TZID=Europe/Paris:20290410T200000
DTEND;TZID=Europe/Paris:20290410T213000
DTSTAMP:20260420T001440
CREATED:20251212T101443Z
LAST-MODIFIED:20251212T101443Z
UID:10006502-1870545600-1870551000@maisondadoration.org
SUMMARY:Louange et intercession
DESCRIPTION:avec S. Freymond
URL:https://maisondadoration.org/agenda/louange-et-intercession-4/2029-04-10/
LOCATION:MDA\, Rue des Philosophes 2\, Yverdon-les-Bains\, 1400\, Suisse
END:VEVENT
BEGIN:VEVENT
DTSTART;TZID=Europe/Paris:20290411T100000
DTEND;TZID=Europe/Paris:20290411T113000
DTSTAMP:20260420T001440
CREATED:20241029T143619Z
LAST-MODIFIED:20241029T144032Z
UID:10001983-1870596000-1870601400@maisondadoration.org
SUMMARY:Louange et Intercession
DESCRIPTION:
URL:https://maisondadoration.org/agenda/louange-et-adoration/2029-04-11/
LOCATION:MDA\, Rue des Philosophes 2\, Yverdon-les-Bains\, 1400\, Suisse
CATEGORIES:Prière
END:VEVENT
BEGIN:VEVENT
DTSTART;TZID=Europe/Paris:20290412T113000
DTEND;TZID=Europe/Paris:20290412T123000
DTSTAMP:20260420T001440
CREATED:20260305T154433Z
LAST-MODIFIED:20260305T154608Z
UID:10007290-1870687800-1870691400@maisondadoration.org
SUMMARY:Lecture psaumes et louange
DESCRIPTION:
URL:https://maisondadoration.org/agenda/lecture-psaumes-et-louange-2/2029-04-12/
LOCATION:MDA\, Rue des Philosophes 2\, Yverdon-les-Bains\, 1400\, Suisse
END:VEVENT
BEGIN:VEVENT
DTSTART;TZID=Europe/Paris:20290413T200000
DTEND;TZID=Europe/Paris:20290413T210000
DTSTAMP:20260420T001440
CREATED:20260306T175041Z
LAST-MODIFIED:20260306T175041Z
UID:10007560-1870804800-1870808400@maisondadoration.org
SUMMARY:Intercession et Adoration
DESCRIPTION:Nous avons besoin d’être constamment renouvelés dans le Saint-Esprit! \nVenons donc nous tenir ensemble dans la présence de Dieu. \nC’est ce qui nous manque le plus aujourd’hui! \nPour se faire\, Dieu met à disposition des endroits\, comme la Maison d’Adoration à Morija\, pour palier à ce besoin. \nAlors\, bienvenu(e)! \n« Invoque-Moi\, et Je te répondrai. » (Jérémie 33:3)
URL:https://maisondadoration.org/agenda/intercession-et-adoration/2029-04-13/
LOCATION:MDA\, Rue des Philosophes 2\, Yverdon-les-Bains\, 1400\, Suisse
END:VEVENT
BEGIN:VEVENT
DTSTART;TZID=Europe/Paris:20290417T200000
DTEND;TZID=Europe/Paris:20290417T213000
DTSTAMP:20260420T001440
CREATED:20251212T101443Z
LAST-MODIFIED:20251212T101443Z
UID:10006503-1871150400-1871155800@maisondadoration.org
SUMMARY:Louange et intercession
DESCRIPTION:avec S. Freymond
URL:https://maisondadoration.org/agenda/louange-et-intercession-4/2029-04-17/
LOCATION:MDA\, Rue des Philosophes 2\, Yverdon-les-Bains\, 1400\, Suisse
END:VEVENT
BEGIN:VEVENT
DTSTART;TZID=Europe/Paris:20290418T100000
DTEND;TZID=Europe/Paris:20290418T113000
DTSTAMP:20260420T001440
CREATED:20241029T143619Z
LAST-MODIFIED:20241029T144032Z
UID:10001984-1871200800-1871206200@maisondadoration.org
SUMMARY:Louange et Intercession
DESCRIPTION:
URL:https://maisondadoration.org/agenda/louange-et-adoration/2029-04-18/
LOCATION:MDA\, Rue des Philosophes 2\, Yverdon-les-Bains\, 1400\, Suisse
CATEGORIES:Prière
END:VEVENT
BEGIN:VEVENT
DTSTART;TZID=Europe/Paris:20290419T113000
DTEND;TZID=Europe/Paris:20290419T123000
DTSTAMP:20260420T001440
CREATED:20260305T154433Z
LAST-MODIFIED:20260305T154608Z
UID:10007291-1871292600-1871296200@maisondadoration.org
SUMMARY:Lecture psaumes et louange
DESCRIPTION:
URL:https://maisondadoration.org/agenda/lecture-psaumes-et-louange-2/2029-04-19/
LOCATION:MDA\, Rue des Philosophes 2\, Yverdon-les-Bains\, 1400\, Suisse
END:VEVENT
BEGIN:VEVENT
DTSTART;TZID=Europe/Paris:20290420T200000
DTEND;TZID=Europe/Paris:20290420T210000
DTSTAMP:20260420T001440
CREATED:20260306T175041Z
LAST-MODIFIED:20260306T175041Z
UID:10007561-1871409600-1871413200@maisondadoration.org
SUMMARY:Intercession et Adoration
DESCRIPTION:Nous avons besoin d’être constamment renouvelés dans le Saint-Esprit! \nVenons donc nous tenir ensemble dans la présence de Dieu. \nC’est ce qui nous manque le plus aujourd’hui! \nPour se faire\, Dieu met à disposition des endroits\, comme la Maison d’Adoration à Morija\, pour palier à ce besoin. \nAlors\, bienvenu(e)! \n« Invoque-Moi\, et Je te répondrai. » (Jérémie 33:3)
URL:https://maisondadoration.org/agenda/intercession-et-adoration/2029-04-20/
LOCATION:MDA\, Rue des Philosophes 2\, Yverdon-les-Bains\, 1400\, Suisse
END:VEVENT
BEGIN:VEVENT
DTSTART;TZID=Europe/Paris:20290424T200000
DTEND;TZID=Europe/Paris:20290424T213000
DTSTAMP:20260420T001440
CREATED:20251212T101443Z
LAST-MODIFIED:20251212T101443Z
UID:10006504-1871755200-1871760600@maisondadoration.org
SUMMARY:Louange et intercession
DESCRIPTION:avec S. Freymond
URL:https://maisondadoration.org/agenda/louange-et-intercession-4/2029-04-24/
LOCATION:MDA\, Rue des Philosophes 2\, Yverdon-les-Bains\, 1400\, Suisse
END:VEVENT
BEGIN:VEVENT
DTSTART;TZID=Europe/Paris:20290425T100000
DTEND;TZID=Europe/Paris:20290425T113000
DTSTAMP:20260420T001440
CREATED:20241029T143619Z
LAST-MODIFIED:20241029T144032Z
UID:10001985-1871805600-1871811000@maisondadoration.org
SUMMARY:Louange et Intercession
DESCRIPTION:
URL:https://maisondadoration.org/agenda/louange-et-adoration/2029-04-25/
LOCATION:MDA\, Rue des Philosophes 2\, Yverdon-les-Bains\, 1400\, Suisse
CATEGORIES:Prière
END:VEVENT
BEGIN:VEVENT
DTSTART;TZID=Europe/Paris:20290426T113000
DTEND;TZID=Europe/Paris:20290426T123000
DTSTAMP:20260420T001440
CREATED:20260305T154433Z
LAST-MODIFIED:20260305T154608Z
UID:10007292-1871897400-1871901000@maisondadoration.org
SUMMARY:Lecture psaumes et louange
DESCRIPTION:
URL:https://maisondadoration.org/agenda/lecture-psaumes-et-louange-2/2029-04-26/
LOCATION:MDA\, Rue des Philosophes 2\, Yverdon-les-Bains\, 1400\, Suisse
END:VEVENT
BEGIN:VEVENT
DTSTART;TZID=Europe/Paris:20290427T200000
DTEND;TZID=Europe/Paris:20290427T210000
DTSTAMP:20260420T001440
CREATED:20260306T175041Z
LAST-MODIFIED:20260306T175041Z
UID:10007562-1872014400-1872018000@maisondadoration.org
SUMMARY:Intercession et Adoration
DESCRIPTION:Nous avons besoin d’être constamment renouvelés dans le Saint-Esprit! \nVenons donc nous tenir ensemble dans la présence de Dieu. \nC’est ce qui nous manque le plus aujourd’hui! \nPour se faire\, Dieu met à disposition des endroits\, comme la Maison d’Adoration à Morija\, pour palier à ce besoin. \nAlors\, bienvenu(e)! \n« Invoque-Moi\, et Je te répondrai. » (Jérémie 33:3)
URL:https://maisondadoration.org/agenda/intercession-et-adoration/2029-04-27/
LOCATION:MDA\, Rue des Philosophes 2\, Yverdon-les-Bains\, 1400\, Suisse
END:VEVENT
BEGIN:VEVENT
DTSTART;TZID=Europe/Paris:20290501T200000
DTEND;TZID=Europe/Paris:20290501T213000
DTSTAMP:20260420T001440
CREATED:20251212T101443Z
LAST-MODIFIED:20251212T101443Z
UID:10006505-1872360000-1872365400@maisondadoration.org
SUMMARY:Louange et intercession
DESCRIPTION:avec S. Freymond
URL:https://maisondadoration.org/agenda/louange-et-intercession-4/2029-05-01/
LOCATION:MDA\, Rue des Philosophes 2\, Yverdon-les-Bains\, 1400\, Suisse
END:VEVENT
BEGIN:VEVENT
DTSTART;TZID=Europe/Paris:20290502T100000
DTEND;TZID=Europe/Paris:20290502T113000
DTSTAMP:20260420T001440
CREATED:20241029T143619Z
LAST-MODIFIED:20241029T144032Z
UID:10001986-1872410400-1872415800@maisondadoration.org
SUMMARY:Louange et Intercession
DESCRIPTION:
URL:https://maisondadoration.org/agenda/louange-et-adoration/2029-05-02/
LOCATION:MDA\, Rue des Philosophes 2\, Yverdon-les-Bains\, 1400\, Suisse
CATEGORIES:Prière
END:VEVENT
BEGIN:VEVENT
DTSTART;TZID=Europe/Paris:20290503T113000
DTEND;TZID=Europe/Paris:20290503T123000
DTSTAMP:20260420T001440
CREATED:20260305T154433Z
LAST-MODIFIED:20260305T154608Z
UID:10007293-1872502200-1872505800@maisondadoration.org
SUMMARY:Lecture psaumes et louange
DESCRIPTION:
URL:https://maisondadoration.org/agenda/lecture-psaumes-et-louange-2/2029-05-03/
LOCATION:MDA\, Rue des Philosophes 2\, Yverdon-les-Bains\, 1400\, Suisse
END:VEVENT
BEGIN:VEVENT
DTSTART;TZID=Europe/Paris:20290504T200000
DTEND;TZID=Europe/Paris:20290504T210000
DTSTAMP:20260420T001440
CREATED:20260306T175041Z
LAST-MODIFIED:20260306T175041Z
UID:10007563-1872619200-1872622800@maisondadoration.org
SUMMARY:Intercession et Adoration
DESCRIPTION:Nous avons besoin d’être constamment renouvelés dans le Saint-Esprit! \nVenons donc nous tenir ensemble dans la présence de Dieu. \nC’est ce qui nous manque le plus aujourd’hui! \nPour se faire\, Dieu met à disposition des endroits\, comme la Maison d’Adoration à Morija\, pour palier à ce besoin. \nAlors\, bienvenu(e)! \n« Invoque-Moi\, et Je te répondrai. » (Jérémie 33:3)
URL:https://maisondadoration.org/agenda/intercession-et-adoration/2029-05-04/
LOCATION:MDA\, Rue des Philosophes 2\, Yverdon-les-Bains\, 1400\, Suisse
END:VEVENT
BEGIN:VEVENT
DTSTART;TZID=Europe/Paris:20290508T200000
DTEND;TZID=Europe/Paris:20290508T213000
DTSTAMP:20260420T001440
CREATED:20251212T101443Z
LAST-MODIFIED:20251212T101443Z
UID:10006506-1872964800-1872970200@maisondadoration.org
SUMMARY:Louange et intercession
DESCRIPTION:avec S. Freymond
URL:https://maisondadoration.org/agenda/louange-et-intercession-4/2029-05-08/
LOCATION:MDA\, Rue des Philosophes 2\, Yverdon-les-Bains\, 1400\, Suisse
END:VEVENT
BEGIN:VEVENT
DTSTART;TZID=Europe/Paris:20290509T100000
DTEND;TZID=Europe/Paris:20290509T113000
DTSTAMP:20260420T001440
CREATED:20241029T143619Z
LAST-MODIFIED:20241029T144032Z
UID:10001987-1873015200-1873020600@maisondadoration.org
SUMMARY:Louange et Intercession
DESCRIPTION:
URL:https://maisondadoration.org/agenda/louange-et-adoration/2029-05-09/
LOCATION:MDA\, Rue des Philosophes 2\, Yverdon-les-Bains\, 1400\, Suisse
CATEGORIES:Prière
END:VEVENT
BEGIN:VEVENT
DTSTART;TZID=Europe/Paris:20290510T113000
DTEND;TZID=Europe/Paris:20290510T123000
DTSTAMP:20260420T001440
CREATED:20260305T154433Z
LAST-MODIFIED:20260305T154608Z
UID:10007294-1873107000-1873110600@maisondadoration.org
SUMMARY:Lecture psaumes et louange
DESCRIPTION:
URL:https://maisondadoration.org/agenda/lecture-psaumes-et-louange-2/2029-05-10/
LOCATION:MDA\, Rue des Philosophes 2\, Yverdon-les-Bains\, 1400\, Suisse
END:VEVENT
BEGIN:VEVENT
DTSTART;TZID=Europe/Paris:20290511T200000
DTEND;TZID=Europe/Paris:20290511T210000
DTSTAMP:20260420T001440
CREATED:20260306T175041Z
LAST-MODIFIED:20260306T175041Z
UID:10007564-1873224000-1873227600@maisondadoration.org
SUMMARY:Intercession et Adoration
DESCRIPTION:Nous avons besoin d’être constamment renouvelés dans le Saint-Esprit! \nVenons donc nous tenir ensemble dans la présence de Dieu. \nC’est ce qui nous manque le plus aujourd’hui! \nPour se faire\, Dieu met à disposition des endroits\, comme la Maison d’Adoration à Morija\, pour palier à ce besoin. \nAlors\, bienvenu(e)! \n« Invoque-Moi\, et Je te répondrai. » (Jérémie 33:3)
URL:https://maisondadoration.org/agenda/intercession-et-adoration/2029-05-11/
LOCATION:MDA\, Rue des Philosophes 2\, Yverdon-les-Bains\, 1400\, Suisse
END:VEVENT
BEGIN:VEVENT
DTSTART;TZID=Europe/Paris:20290515T200000
DTEND;TZID=Europe/Paris:20290515T213000
DTSTAMP:20260420T001440
CREATED:20251212T101443Z
LAST-MODIFIED:20251212T101443Z
UID:10006507-1873569600-1873575000@maisondadoration.org
SUMMARY:Louange et intercession
DESCRIPTION:avec S. Freymond
URL:https://maisondadoration.org/agenda/louange-et-intercession-4/2029-05-15/
LOCATION:MDA\, Rue des Philosophes 2\, Yverdon-les-Bains\, 1400\, Suisse
END:VEVENT
BEGIN:VEVENT
DTSTART;TZID=Europe/Paris:20290516T100000
DTEND;TZID=Europe/Paris:20290516T113000
DTSTAMP:20260420T001440
CREATED:20241029T143619Z
LAST-MODIFIED:20241029T144032Z
UID:10001988-1873620000-1873625400@maisondadoration.org
SUMMARY:Louange et Intercession
DESCRIPTION:
URL:https://maisondadoration.org/agenda/louange-et-adoration/2029-05-16/
LOCATION:MDA\, Rue des Philosophes 2\, Yverdon-les-Bains\, 1400\, Suisse
CATEGORIES:Prière
END:VEVENT
END:VCALENDAR