BEGIN:VCALENDAR
VERSION:2.0
PRODID:-//MDA - Maison d&#039;adoration Yverdon - ECPv6.15.20//NONSGML v1.0//EN
CALSCALE:GREGORIAN
METHOD:PUBLISH
X-ORIGINAL-URL:https://maisondadoration.org
X-WR-CALDESC:Évènements pour MDA - Maison d&#039;adoration Yverdon
REFRESH-INTERVAL;VALUE=DURATION:PT1H
X-Robots-Tag:noindex
X-PUBLISHED-TTL:PT1H
BEGIN:VTIMEZONE
TZID:Europe/Paris
BEGIN:DAYLIGHT
TZOFFSETFROM:+0100
TZOFFSETTO:+0200
TZNAME:CEST
DTSTART:20290325T010000
END:DAYLIGHT
BEGIN:STANDARD
TZOFFSETFROM:+0200
TZOFFSETTO:+0100
TZNAME:CET
DTSTART:20291028T010000
END:STANDARD
BEGIN:DAYLIGHT
TZOFFSETFROM:+0100
TZOFFSETTO:+0200
TZNAME:CEST
DTSTART:20300331T010000
END:DAYLIGHT
BEGIN:STANDARD
TZOFFSETFROM:+0200
TZOFFSETTO:+0100
TZNAME:CET
DTSTART:20301027T010000
END:STANDARD
BEGIN:DAYLIGHT
TZOFFSETFROM:+0100
TZOFFSETTO:+0200
TZNAME:CEST
DTSTART:20310330T010000
END:DAYLIGHT
BEGIN:STANDARD
TZOFFSETFROM:+0200
TZOFFSETTO:+0100
TZNAME:CET
DTSTART:20311026T010000
END:STANDARD
END:VTIMEZONE
BEGIN:VEVENT
DTSTART;TZID=Europe/Paris:20300704T113000
DTEND;TZID=Europe/Paris:20300704T123000
DTSTAMP:20260424T184737
CREATED:20260305T154433Z
LAST-MODIFIED:20260422T050344Z
UID:10007354-1909395000-1909398600@maisondadoration.org
SUMMARY:Lecture psaumes et louange
DESCRIPTION:
URL:https://maisondadoration.org/agenda/lecture-psaumes-et-louange-2/2030-07-04/
LOCATION:MDA\, Rue des Philosophes 2\, Yverdon-les-Bains\, 1400\, Suisse
END:VEVENT
BEGIN:VEVENT
DTSTART;TZID=Europe/Paris:20300705T200000
DTEND;TZID=Europe/Paris:20300705T210000
DTSTAMP:20260424T184737
CREATED:20260306T175041Z
LAST-MODIFIED:20260306T175041Z
UID:10007624-1909512000-1909515600@maisondadoration.org
SUMMARY:Intercession et Adoration
DESCRIPTION:Nous avons besoin d’être constamment renouvelés dans le Saint-Esprit! \nVenons donc nous tenir ensemble dans la présence de Dieu. \nC’est ce qui nous manque le plus aujourd’hui! \nPour se faire\, Dieu met à disposition des endroits\, comme la Maison d’Adoration à Morija\, pour palier à ce besoin. \nAlors\, bienvenu(e)! \n« Invoque-Moi\, et Je te répondrai. » (Jérémie 33:3)
URL:https://maisondadoration.org/agenda/intercession-et-adoration/2030-07-05/
LOCATION:MDA\, Rue des Philosophes 2\, Yverdon-les-Bains\, 1400\, Suisse
END:VEVENT
BEGIN:VEVENT
DTSTART;TZID=Europe/Paris:20300705T200000
DTEND;TZID=Europe/Paris:20300705T213000
DTSTAMP:20260424T184737
CREATED:20250630T113339Z
LAST-MODIFIED:20250630T153708Z
UID:10002857-1909512000-1909517400@maisondadoration.org
SUMMARY:Intercession et adoration Mirko Tassone
DESCRIPTION:Allons à la rencontre du Seigneur Jésus… \nCes temps de prière et d’adoration hebdomadaires sont ouverts à tous \nWelcome !
URL:https://maisondadoration.org/agenda/adoration-et-intercession-mirko-tassone-2/2030-07-05/
LOCATION:MDA\, Rue des Philosophes 2\, Yverdon-les-Bains\, 1400\, Suisse
END:VEVENT
BEGIN:VEVENT
DTSTART;TZID=Europe/Paris:20300709T200000
DTEND;TZID=Europe/Paris:20300709T213000
DTSTAMP:20260424T184737
CREATED:20251212T101443Z
LAST-MODIFIED:20251212T101443Z
UID:10006567-1909857600-1909863000@maisondadoration.org
SUMMARY:Louange et intercession
DESCRIPTION:avec S. Freymond
URL:https://maisondadoration.org/agenda/louange-et-intercession-4/2030-07-09/
LOCATION:MDA\, Rue des Philosophes 2\, Yverdon-les-Bains\, 1400\, Suisse
END:VEVENT
BEGIN:VEVENT
DTSTART;TZID=Europe/Paris:20300710T100000
DTEND;TZID=Europe/Paris:20300710T113000
DTSTAMP:20260424T184737
CREATED:20241029T143619Z
LAST-MODIFIED:20241029T144032Z
UID:10007696-1909908000-1909913400@maisondadoration.org
SUMMARY:Louange et Intercession
DESCRIPTION:
URL:https://maisondadoration.org/agenda/louange-et-adoration/2030-07-10/
LOCATION:MDA\, Rue des Philosophes 2\, Yverdon-les-Bains\, 1400\, Suisse
CATEGORIES:Prière
END:VEVENT
BEGIN:VEVENT
DTSTART;TZID=Europe/Paris:20300711T113000
DTEND;TZID=Europe/Paris:20300711T123000
DTSTAMP:20260424T184737
CREATED:20260305T154433Z
LAST-MODIFIED:20260422T050344Z
UID:10007355-1909999800-1910003400@maisondadoration.org
SUMMARY:Lecture psaumes et louange
DESCRIPTION:
URL:https://maisondadoration.org/agenda/lecture-psaumes-et-louange-2/2030-07-11/
LOCATION:MDA\, Rue des Philosophes 2\, Yverdon-les-Bains\, 1400\, Suisse
END:VEVENT
BEGIN:VEVENT
DTSTART;TZID=Europe/Paris:20300712T200000
DTEND;TZID=Europe/Paris:20300712T210000
DTSTAMP:20260424T184737
CREATED:20260306T175041Z
LAST-MODIFIED:20260306T175041Z
UID:10007625-1910116800-1910120400@maisondadoration.org
SUMMARY:Intercession et Adoration
DESCRIPTION:Nous avons besoin d’être constamment renouvelés dans le Saint-Esprit! \nVenons donc nous tenir ensemble dans la présence de Dieu. \nC’est ce qui nous manque le plus aujourd’hui! \nPour se faire\, Dieu met à disposition des endroits\, comme la Maison d’Adoration à Morija\, pour palier à ce besoin. \nAlors\, bienvenu(e)! \n« Invoque-Moi\, et Je te répondrai. » (Jérémie 33:3)
URL:https://maisondadoration.org/agenda/intercession-et-adoration/2030-07-12/
LOCATION:MDA\, Rue des Philosophes 2\, Yverdon-les-Bains\, 1400\, Suisse
END:VEVENT
BEGIN:VEVENT
DTSTART;TZID=Europe/Paris:20300716T200000
DTEND;TZID=Europe/Paris:20300716T213000
DTSTAMP:20260424T184737
CREATED:20251212T101443Z
LAST-MODIFIED:20251212T101443Z
UID:10006568-1910462400-1910467800@maisondadoration.org
SUMMARY:Louange et intercession
DESCRIPTION:avec S. Freymond
URL:https://maisondadoration.org/agenda/louange-et-intercession-4/2030-07-16/
LOCATION:MDA\, Rue des Philosophes 2\, Yverdon-les-Bains\, 1400\, Suisse
END:VEVENT
BEGIN:VEVENT
DTSTART;TZID=Europe/Paris:20300717T100000
DTEND;TZID=Europe/Paris:20300717T113000
DTSTAMP:20260424T184737
CREATED:20241029T143619Z
LAST-MODIFIED:20241029T144032Z
UID:10007697-1910512800-1910518200@maisondadoration.org
SUMMARY:Louange et Intercession
DESCRIPTION:
URL:https://maisondadoration.org/agenda/louange-et-adoration/2030-07-17/
LOCATION:MDA\, Rue des Philosophes 2\, Yverdon-les-Bains\, 1400\, Suisse
CATEGORIES:Prière
END:VEVENT
BEGIN:VEVENT
DTSTART;TZID=Europe/Paris:20300718T113000
DTEND;TZID=Europe/Paris:20300718T123000
DTSTAMP:20260424T184737
CREATED:20260305T154433Z
LAST-MODIFIED:20260422T050344Z
UID:10007356-1910604600-1910608200@maisondadoration.org
SUMMARY:Lecture psaumes et louange
DESCRIPTION:
URL:https://maisondadoration.org/agenda/lecture-psaumes-et-louange-2/2030-07-18/
LOCATION:MDA\, Rue des Philosophes 2\, Yverdon-les-Bains\, 1400\, Suisse
END:VEVENT
BEGIN:VEVENT
DTSTART;TZID=Europe/Paris:20300719T200000
DTEND;TZID=Europe/Paris:20300719T210000
DTSTAMP:20260424T184737
CREATED:20260306T175041Z
LAST-MODIFIED:20260306T175041Z
UID:10007626-1910721600-1910725200@maisondadoration.org
SUMMARY:Intercession et Adoration
DESCRIPTION:Nous avons besoin d’être constamment renouvelés dans le Saint-Esprit! \nVenons donc nous tenir ensemble dans la présence de Dieu. \nC’est ce qui nous manque le plus aujourd’hui! \nPour se faire\, Dieu met à disposition des endroits\, comme la Maison d’Adoration à Morija\, pour palier à ce besoin. \nAlors\, bienvenu(e)! \n« Invoque-Moi\, et Je te répondrai. » (Jérémie 33:3)
URL:https://maisondadoration.org/agenda/intercession-et-adoration/2030-07-19/
LOCATION:MDA\, Rue des Philosophes 2\, Yverdon-les-Bains\, 1400\, Suisse
END:VEVENT
BEGIN:VEVENT
DTSTART;TZID=Europe/Paris:20300723T200000
DTEND;TZID=Europe/Paris:20300723T213000
DTSTAMP:20260424T184737
CREATED:20251212T101443Z
LAST-MODIFIED:20251212T101443Z
UID:10006569-1911067200-1911072600@maisondadoration.org
SUMMARY:Louange et intercession
DESCRIPTION:avec S. Freymond
URL:https://maisondadoration.org/agenda/louange-et-intercession-4/2030-07-23/
LOCATION:MDA\, Rue des Philosophes 2\, Yverdon-les-Bains\, 1400\, Suisse
END:VEVENT
BEGIN:VEVENT
DTSTART;TZID=Europe/Paris:20300724T100000
DTEND;TZID=Europe/Paris:20300724T113000
DTSTAMP:20260424T184737
CREATED:20241029T143619Z
LAST-MODIFIED:20241029T144032Z
UID:10007698-1911117600-1911123000@maisondadoration.org
SUMMARY:Louange et Intercession
DESCRIPTION:
URL:https://maisondadoration.org/agenda/louange-et-adoration/2030-07-24/
LOCATION:MDA\, Rue des Philosophes 2\, Yverdon-les-Bains\, 1400\, Suisse
CATEGORIES:Prière
END:VEVENT
BEGIN:VEVENT
DTSTART;TZID=Europe/Paris:20300725T113000
DTEND;TZID=Europe/Paris:20300725T123000
DTSTAMP:20260424T184737
CREATED:20260305T154433Z
LAST-MODIFIED:20260422T050344Z
UID:10007357-1911209400-1911213000@maisondadoration.org
SUMMARY:Lecture psaumes et louange
DESCRIPTION:
URL:https://maisondadoration.org/agenda/lecture-psaumes-et-louange-2/2030-07-25/
LOCATION:MDA\, Rue des Philosophes 2\, Yverdon-les-Bains\, 1400\, Suisse
END:VEVENT
BEGIN:VEVENT
DTSTART;TZID=Europe/Paris:20300726T200000
DTEND;TZID=Europe/Paris:20300726T210000
DTSTAMP:20260424T184737
CREATED:20260306T175041Z
LAST-MODIFIED:20260306T175041Z
UID:10007627-1911326400-1911330000@maisondadoration.org
SUMMARY:Intercession et Adoration
DESCRIPTION:Nous avons besoin d’être constamment renouvelés dans le Saint-Esprit! \nVenons donc nous tenir ensemble dans la présence de Dieu. \nC’est ce qui nous manque le plus aujourd’hui! \nPour se faire\, Dieu met à disposition des endroits\, comme la Maison d’Adoration à Morija\, pour palier à ce besoin. \nAlors\, bienvenu(e)! \n« Invoque-Moi\, et Je te répondrai. » (Jérémie 33:3)
URL:https://maisondadoration.org/agenda/intercession-et-adoration/2030-07-26/
LOCATION:MDA\, Rue des Philosophes 2\, Yverdon-les-Bains\, 1400\, Suisse
END:VEVENT
BEGIN:VEVENT
DTSTART;TZID=Europe/Paris:20300730T200000
DTEND;TZID=Europe/Paris:20300730T213000
DTSTAMP:20260424T184737
CREATED:20251212T101443Z
LAST-MODIFIED:20251212T101443Z
UID:10006570-1911672000-1911677400@maisondadoration.org
SUMMARY:Louange et intercession
DESCRIPTION:avec S. Freymond
URL:https://maisondadoration.org/agenda/louange-et-intercession-4/2030-07-30/
LOCATION:MDA\, Rue des Philosophes 2\, Yverdon-les-Bains\, 1400\, Suisse
END:VEVENT
BEGIN:VEVENT
DTSTART;TZID=Europe/Paris:20300731T100000
DTEND;TZID=Europe/Paris:20300731T113000
DTSTAMP:20260424T184737
CREATED:20241029T143619Z
LAST-MODIFIED:20241029T144032Z
UID:10007699-1911722400-1911727800@maisondadoration.org
SUMMARY:Louange et Intercession
DESCRIPTION:
URL:https://maisondadoration.org/agenda/louange-et-adoration/2030-07-31/
LOCATION:MDA\, Rue des Philosophes 2\, Yverdon-les-Bains\, 1400\, Suisse
CATEGORIES:Prière
END:VEVENT
BEGIN:VEVENT
DTSTART;TZID=Europe/Paris:20300801T113000
DTEND;TZID=Europe/Paris:20300801T123000
DTSTAMP:20260424T184737
CREATED:20260305T154433Z
LAST-MODIFIED:20260422T050344Z
UID:10007358-1911814200-1911817800@maisondadoration.org
SUMMARY:Lecture psaumes et louange
DESCRIPTION:
URL:https://maisondadoration.org/agenda/lecture-psaumes-et-louange-2/2030-08-01/
LOCATION:MDA\, Rue des Philosophes 2\, Yverdon-les-Bains\, 1400\, Suisse
END:VEVENT
BEGIN:VEVENT
DTSTART;TZID=Europe/Paris:20300802T200000
DTEND;TZID=Europe/Paris:20300802T210000
DTSTAMP:20260424T184737
CREATED:20260306T175041Z
LAST-MODIFIED:20260306T175041Z
UID:10007628-1911931200-1911934800@maisondadoration.org
SUMMARY:Intercession et Adoration
DESCRIPTION:Nous avons besoin d’être constamment renouvelés dans le Saint-Esprit! \nVenons donc nous tenir ensemble dans la présence de Dieu. \nC’est ce qui nous manque le plus aujourd’hui! \nPour se faire\, Dieu met à disposition des endroits\, comme la Maison d’Adoration à Morija\, pour palier à ce besoin. \nAlors\, bienvenu(e)! \n« Invoque-Moi\, et Je te répondrai. » (Jérémie 33:3)
URL:https://maisondadoration.org/agenda/intercession-et-adoration/2030-08-02/
LOCATION:MDA\, Rue des Philosophes 2\, Yverdon-les-Bains\, 1400\, Suisse
END:VEVENT
BEGIN:VEVENT
DTSTART;TZID=Europe/Paris:20300806T200000
DTEND;TZID=Europe/Paris:20300806T213000
DTSTAMP:20260424T184737
CREATED:20251212T101443Z
LAST-MODIFIED:20251212T101443Z
UID:10006571-1912276800-1912282200@maisondadoration.org
SUMMARY:Louange et intercession
DESCRIPTION:avec S. Freymond
URL:https://maisondadoration.org/agenda/louange-et-intercession-4/2030-08-06/
LOCATION:MDA\, Rue des Philosophes 2\, Yverdon-les-Bains\, 1400\, Suisse
END:VEVENT
BEGIN:VEVENT
DTSTART;TZID=Europe/Paris:20300807T100000
DTEND;TZID=Europe/Paris:20300807T113000
DTSTAMP:20260424T184737
CREATED:20241029T143619Z
LAST-MODIFIED:20241029T144032Z
UID:10007700-1912327200-1912332600@maisondadoration.org
SUMMARY:Louange et Intercession
DESCRIPTION:
URL:https://maisondadoration.org/agenda/louange-et-adoration/2030-08-07/
LOCATION:MDA\, Rue des Philosophes 2\, Yverdon-les-Bains\, 1400\, Suisse
CATEGORIES:Prière
END:VEVENT
BEGIN:VEVENT
DTSTART;TZID=Europe/Paris:20300808T113000
DTEND;TZID=Europe/Paris:20300808T123000
DTSTAMP:20260424T184737
CREATED:20260305T154433Z
LAST-MODIFIED:20260422T050344Z
UID:10007359-1912419000-1912422600@maisondadoration.org
SUMMARY:Lecture psaumes et louange
DESCRIPTION:
URL:https://maisondadoration.org/agenda/lecture-psaumes-et-louange-2/2030-08-08/
LOCATION:MDA\, Rue des Philosophes 2\, Yverdon-les-Bains\, 1400\, Suisse
END:VEVENT
BEGIN:VEVENT
DTSTART;TZID=Europe/Paris:20300809T200000
DTEND;TZID=Europe/Paris:20300809T210000
DTSTAMP:20260424T184737
CREATED:20260306T175041Z
LAST-MODIFIED:20260306T175041Z
UID:10007629-1912536000-1912539600@maisondadoration.org
SUMMARY:Intercession et Adoration
DESCRIPTION:Nous avons besoin d’être constamment renouvelés dans le Saint-Esprit! \nVenons donc nous tenir ensemble dans la présence de Dieu. \nC’est ce qui nous manque le plus aujourd’hui! \nPour se faire\, Dieu met à disposition des endroits\, comme la Maison d’Adoration à Morija\, pour palier à ce besoin. \nAlors\, bienvenu(e)! \n« Invoque-Moi\, et Je te répondrai. » (Jérémie 33:3)
URL:https://maisondadoration.org/agenda/intercession-et-adoration/2030-08-09/
LOCATION:MDA\, Rue des Philosophes 2\, Yverdon-les-Bains\, 1400\, Suisse
END:VEVENT
BEGIN:VEVENT
DTSTART;TZID=Europe/Paris:20300813T200000
DTEND;TZID=Europe/Paris:20300813T213000
DTSTAMP:20260424T184737
CREATED:20251212T101443Z
LAST-MODIFIED:20251212T101443Z
UID:10006572-1912881600-1912887000@maisondadoration.org
SUMMARY:Louange et intercession
DESCRIPTION:avec S. Freymond
URL:https://maisondadoration.org/agenda/louange-et-intercession-4/2030-08-13/
LOCATION:MDA\, Rue des Philosophes 2\, Yverdon-les-Bains\, 1400\, Suisse
END:VEVENT
BEGIN:VEVENT
DTSTART;TZID=Europe/Paris:20300814T100000
DTEND;TZID=Europe/Paris:20300814T113000
DTSTAMP:20260424T184737
CREATED:20241029T143619Z
LAST-MODIFIED:20241029T144032Z
UID:10007701-1912932000-1912937400@maisondadoration.org
SUMMARY:Louange et Intercession
DESCRIPTION:
URL:https://maisondadoration.org/agenda/louange-et-adoration/2030-08-14/
LOCATION:MDA\, Rue des Philosophes 2\, Yverdon-les-Bains\, 1400\, Suisse
CATEGORIES:Prière
END:VEVENT
BEGIN:VEVENT
DTSTART;TZID=Europe/Paris:20300815T113000
DTEND;TZID=Europe/Paris:20300815T123000
DTSTAMP:20260424T184737
CREATED:20260305T154433Z
LAST-MODIFIED:20260422T050344Z
UID:10007360-1913023800-1913027400@maisondadoration.org
SUMMARY:Lecture psaumes et louange
DESCRIPTION:
URL:https://maisondadoration.org/agenda/lecture-psaumes-et-louange-2/2030-08-15/
LOCATION:MDA\, Rue des Philosophes 2\, Yverdon-les-Bains\, 1400\, Suisse
END:VEVENT
BEGIN:VEVENT
DTSTART;TZID=Europe/Paris:20300816T200000
DTEND;TZID=Europe/Paris:20300816T210000
DTSTAMP:20260424T184737
CREATED:20260306T175041Z
LAST-MODIFIED:20260306T175041Z
UID:10007630-1913140800-1913144400@maisondadoration.org
SUMMARY:Intercession et Adoration
DESCRIPTION:Nous avons besoin d’être constamment renouvelés dans le Saint-Esprit! \nVenons donc nous tenir ensemble dans la présence de Dieu. \nC’est ce qui nous manque le plus aujourd’hui! \nPour se faire\, Dieu met à disposition des endroits\, comme la Maison d’Adoration à Morija\, pour palier à ce besoin. \nAlors\, bienvenu(e)! \n« Invoque-Moi\, et Je te répondrai. » (Jérémie 33:3)
URL:https://maisondadoration.org/agenda/intercession-et-adoration/2030-08-16/
LOCATION:MDA\, Rue des Philosophes 2\, Yverdon-les-Bains\, 1400\, Suisse
END:VEVENT
BEGIN:VEVENT
DTSTART;TZID=Europe/Paris:20300820T200000
DTEND;TZID=Europe/Paris:20300820T213000
DTSTAMP:20260424T184737
CREATED:20251212T101443Z
LAST-MODIFIED:20251212T101443Z
UID:10006573-1913486400-1913491800@maisondadoration.org
SUMMARY:Louange et intercession
DESCRIPTION:avec S. Freymond
URL:https://maisondadoration.org/agenda/louange-et-intercession-4/2030-08-20/
LOCATION:MDA\, Rue des Philosophes 2\, Yverdon-les-Bains\, 1400\, Suisse
END:VEVENT
BEGIN:VEVENT
DTSTART;TZID=Europe/Paris:20300821T100000
DTEND;TZID=Europe/Paris:20300821T113000
DTSTAMP:20260424T184737
CREATED:20241029T143619Z
LAST-MODIFIED:20241029T144032Z
UID:10007702-1913536800-1913542200@maisondadoration.org
SUMMARY:Louange et Intercession
DESCRIPTION:
URL:https://maisondadoration.org/agenda/louange-et-adoration/2030-08-21/
LOCATION:MDA\, Rue des Philosophes 2\, Yverdon-les-Bains\, 1400\, Suisse
CATEGORIES:Prière
END:VEVENT
BEGIN:VEVENT
DTSTART;TZID=Europe/Paris:20300822T113000
DTEND;TZID=Europe/Paris:20300822T123000
DTSTAMP:20260424T184737
CREATED:20260305T154433Z
LAST-MODIFIED:20260422T050344Z
UID:10007361-1913628600-1913632200@maisondadoration.org
SUMMARY:Lecture psaumes et louange
DESCRIPTION:
URL:https://maisondadoration.org/agenda/lecture-psaumes-et-louange-2/2030-08-22/
LOCATION:MDA\, Rue des Philosophes 2\, Yverdon-les-Bains\, 1400\, Suisse
END:VEVENT
END:VCALENDAR