BEGIN:VCALENDAR
VERSION:2.0
PRODID:-//MDA - Maison d&#039;adoration Yverdon - ECPv6.15.20//NONSGML v1.0//EN
CALSCALE:GREGORIAN
METHOD:PUBLISH
X-WR-CALNAME:MDA - Maison d&#039;adoration Yverdon
X-ORIGINAL-URL:https://maisondadoration.org
X-WR-CALDESC:Évènements pour MDA - Maison d&#039;adoration Yverdon
REFRESH-INTERVAL;VALUE=DURATION:PT1H
X-Robots-Tag:noindex
X-PUBLISHED-TTL:PT1H
BEGIN:VTIMEZONE
TZID:Europe/Paris
BEGIN:DAYLIGHT
TZOFFSETFROM:+0100
TZOFFSETTO:+0200
TZNAME:CEST
DTSTART:20290325T010000
END:DAYLIGHT
BEGIN:STANDARD
TZOFFSETFROM:+0200
TZOFFSETTO:+0100
TZNAME:CET
DTSTART:20291028T010000
END:STANDARD
BEGIN:DAYLIGHT
TZOFFSETFROM:+0100
TZOFFSETTO:+0200
TZNAME:CEST
DTSTART:20300331T010000
END:DAYLIGHT
BEGIN:STANDARD
TZOFFSETFROM:+0200
TZOFFSETTO:+0100
TZNAME:CET
DTSTART:20301027T010000
END:STANDARD
BEGIN:DAYLIGHT
TZOFFSETFROM:+0100
TZOFFSETTO:+0200
TZNAME:CEST
DTSTART:20310330T010000
END:DAYLIGHT
BEGIN:STANDARD
TZOFFSETFROM:+0200
TZOFFSETTO:+0100
TZNAME:CET
DTSTART:20311026T010000
END:STANDARD
END:VTIMEZONE
BEGIN:VEVENT
DTSTART;TZID=Europe/Paris:20300426T200000
DTEND;TZID=Europe/Paris:20300426T213000
DTSTAMP:20260424T121619
CREATED:20250630T113339Z
LAST-MODIFIED:20250630T153708Z
UID:10002847-1903464000-1903469400@maisondadoration.org
SUMMARY:Intercession et adoration Mirko Tassone
DESCRIPTION:Allons à la rencontre du Seigneur Jésus… \nCes temps de prière et d’adoration hebdomadaires sont ouverts à tous \nWelcome !
URL:https://maisondadoration.org/agenda/adoration-et-intercession-mirko-tassone-2/2030-04-26/
LOCATION:MDA\, Rue des Philosophes 2\, Yverdon-les-Bains\, 1400\, Suisse
END:VEVENT
BEGIN:VEVENT
DTSTART;TZID=Europe/Paris:20300430T200000
DTEND;TZID=Europe/Paris:20300430T213000
DTSTAMP:20260424T121619
CREATED:20251212T101443Z
LAST-MODIFIED:20251212T101443Z
UID:10006557-1903809600-1903815000@maisondadoration.org
SUMMARY:Louange et intercession
DESCRIPTION:avec S. Freymond
URL:https://maisondadoration.org/agenda/louange-et-intercession-4/2030-04-30/
LOCATION:MDA\, Rue des Philosophes 2\, Yverdon-les-Bains\, 1400\, Suisse
END:VEVENT
BEGIN:VEVENT
DTSTART;TZID=Europe/Paris:20300501T100000
DTEND;TZID=Europe/Paris:20300501T113000
DTSTAMP:20260424T121619
CREATED:20241029T143619Z
LAST-MODIFIED:20241029T144032Z
UID:10007686-1903860000-1903865400@maisondadoration.org
SUMMARY:Louange et Intercession
DESCRIPTION:
URL:https://maisondadoration.org/agenda/louange-et-adoration/2030-05-01/
LOCATION:MDA\, Rue des Philosophes 2\, Yverdon-les-Bains\, 1400\, Suisse
CATEGORIES:Prière
END:VEVENT
BEGIN:VEVENT
DTSTART;TZID=Europe/Paris:20300502T113000
DTEND;TZID=Europe/Paris:20300502T123000
DTSTAMP:20260424T121619
CREATED:20260305T154433Z
LAST-MODIFIED:20260422T050344Z
UID:10007345-1903951800-1903955400@maisondadoration.org
SUMMARY:Lecture psaumes et louange
DESCRIPTION:
URL:https://maisondadoration.org/agenda/lecture-psaumes-et-louange-2/2030-05-02/
LOCATION:MDA\, Rue des Philosophes 2\, Yverdon-les-Bains\, 1400\, Suisse
END:VEVENT
BEGIN:VEVENT
DTSTART;TZID=Europe/Paris:20300503T200000
DTEND;TZID=Europe/Paris:20300503T210000
DTSTAMP:20260424T121619
CREATED:20260306T175041Z
LAST-MODIFIED:20260306T175041Z
UID:10007615-1904068800-1904072400@maisondadoration.org
SUMMARY:Intercession et Adoration
DESCRIPTION:Nous avons besoin d’être constamment renouvelés dans le Saint-Esprit! \nVenons donc nous tenir ensemble dans la présence de Dieu. \nC’est ce qui nous manque le plus aujourd’hui! \nPour se faire\, Dieu met à disposition des endroits\, comme la Maison d’Adoration à Morija\, pour palier à ce besoin. \nAlors\, bienvenu(e)! \n« Invoque-Moi\, et Je te répondrai. » (Jérémie 33:3)
URL:https://maisondadoration.org/agenda/intercession-et-adoration/2030-05-03/
LOCATION:MDA\, Rue des Philosophes 2\, Yverdon-les-Bains\, 1400\, Suisse
END:VEVENT
BEGIN:VEVENT
DTSTART;TZID=Europe/Paris:20300503T200000
DTEND;TZID=Europe/Paris:20300503T213000
DTSTAMP:20260424T121619
CREATED:20250630T113339Z
LAST-MODIFIED:20250630T153708Z
UID:10002848-1904068800-1904074200@maisondadoration.org
SUMMARY:Intercession et adoration Mirko Tassone
DESCRIPTION:Allons à la rencontre du Seigneur Jésus… \nCes temps de prière et d’adoration hebdomadaires sont ouverts à tous \nWelcome !
URL:https://maisondadoration.org/agenda/adoration-et-intercession-mirko-tassone-2/2030-05-03/
LOCATION:MDA\, Rue des Philosophes 2\, Yverdon-les-Bains\, 1400\, Suisse
END:VEVENT
BEGIN:VEVENT
DTSTART;TZID=Europe/Paris:20300507T200000
DTEND;TZID=Europe/Paris:20300507T213000
DTSTAMP:20260424T121619
CREATED:20251212T101443Z
LAST-MODIFIED:20251212T101443Z
UID:10006558-1904414400-1904419800@maisondadoration.org
SUMMARY:Louange et intercession
DESCRIPTION:avec S. Freymond
URL:https://maisondadoration.org/agenda/louange-et-intercession-4/2030-05-07/
LOCATION:MDA\, Rue des Philosophes 2\, Yverdon-les-Bains\, 1400\, Suisse
END:VEVENT
BEGIN:VEVENT
DTSTART;TZID=Europe/Paris:20300508T100000
DTEND;TZID=Europe/Paris:20300508T113000
DTSTAMP:20260424T121619
CREATED:20241029T143619Z
LAST-MODIFIED:20241029T144032Z
UID:10007687-1904464800-1904470200@maisondadoration.org
SUMMARY:Louange et Intercession
DESCRIPTION:
URL:https://maisondadoration.org/agenda/louange-et-adoration/2030-05-08/
LOCATION:MDA\, Rue des Philosophes 2\, Yverdon-les-Bains\, 1400\, Suisse
CATEGORIES:Prière
END:VEVENT
BEGIN:VEVENT
DTSTART;TZID=Europe/Paris:20300509T113000
DTEND;TZID=Europe/Paris:20300509T123000
DTSTAMP:20260424T121619
CREATED:20260305T154433Z
LAST-MODIFIED:20260422T050344Z
UID:10007346-1904556600-1904560200@maisondadoration.org
SUMMARY:Lecture psaumes et louange
DESCRIPTION:
URL:https://maisondadoration.org/agenda/lecture-psaumes-et-louange-2/2030-05-09/
LOCATION:MDA\, Rue des Philosophes 2\, Yverdon-les-Bains\, 1400\, Suisse
END:VEVENT
BEGIN:VEVENT
DTSTART;TZID=Europe/Paris:20300510T200000
DTEND;TZID=Europe/Paris:20300510T210000
DTSTAMP:20260424T121619
CREATED:20260306T175041Z
LAST-MODIFIED:20260306T175041Z
UID:10007616-1904673600-1904677200@maisondadoration.org
SUMMARY:Intercession et Adoration
DESCRIPTION:Nous avons besoin d’être constamment renouvelés dans le Saint-Esprit! \nVenons donc nous tenir ensemble dans la présence de Dieu. \nC’est ce qui nous manque le plus aujourd’hui! \nPour se faire\, Dieu met à disposition des endroits\, comme la Maison d’Adoration à Morija\, pour palier à ce besoin. \nAlors\, bienvenu(e)! \n« Invoque-Moi\, et Je te répondrai. » (Jérémie 33:3)
URL:https://maisondadoration.org/agenda/intercession-et-adoration/2030-05-10/
LOCATION:MDA\, Rue des Philosophes 2\, Yverdon-les-Bains\, 1400\, Suisse
END:VEVENT
BEGIN:VEVENT
DTSTART;TZID=Europe/Paris:20300510T200000
DTEND;TZID=Europe/Paris:20300510T213000
DTSTAMP:20260424T121619
CREATED:20250630T113339Z
LAST-MODIFIED:20250630T153708Z
UID:10002849-1904673600-1904679000@maisondadoration.org
SUMMARY:Intercession et adoration Mirko Tassone
DESCRIPTION:Allons à la rencontre du Seigneur Jésus… \nCes temps de prière et d’adoration hebdomadaires sont ouverts à tous \nWelcome !
URL:https://maisondadoration.org/agenda/adoration-et-intercession-mirko-tassone-2/2030-05-10/
LOCATION:MDA\, Rue des Philosophes 2\, Yverdon-les-Bains\, 1400\, Suisse
END:VEVENT
BEGIN:VEVENT
DTSTART;TZID=Europe/Paris:20300514T200000
DTEND;TZID=Europe/Paris:20300514T213000
DTSTAMP:20260424T121619
CREATED:20251212T101443Z
LAST-MODIFIED:20251212T101443Z
UID:10006559-1905019200-1905024600@maisondadoration.org
SUMMARY:Louange et intercession
DESCRIPTION:avec S. Freymond
URL:https://maisondadoration.org/agenda/louange-et-intercession-4/2030-05-14/
LOCATION:MDA\, Rue des Philosophes 2\, Yverdon-les-Bains\, 1400\, Suisse
END:VEVENT
BEGIN:VEVENT
DTSTART;TZID=Europe/Paris:20300515T100000
DTEND;TZID=Europe/Paris:20300515T113000
DTSTAMP:20260424T121619
CREATED:20241029T143619Z
LAST-MODIFIED:20241029T144032Z
UID:10007688-1905069600-1905075000@maisondadoration.org
SUMMARY:Louange et Intercession
DESCRIPTION:
URL:https://maisondadoration.org/agenda/louange-et-adoration/2030-05-15/
LOCATION:MDA\, Rue des Philosophes 2\, Yverdon-les-Bains\, 1400\, Suisse
CATEGORIES:Prière
END:VEVENT
BEGIN:VEVENT
DTSTART;TZID=Europe/Paris:20300516T113000
DTEND;TZID=Europe/Paris:20300516T123000
DTSTAMP:20260424T121619
CREATED:20260305T154433Z
LAST-MODIFIED:20260422T050344Z
UID:10007347-1905161400-1905165000@maisondadoration.org
SUMMARY:Lecture psaumes et louange
DESCRIPTION:
URL:https://maisondadoration.org/agenda/lecture-psaumes-et-louange-2/2030-05-16/
LOCATION:MDA\, Rue des Philosophes 2\, Yverdon-les-Bains\, 1400\, Suisse
END:VEVENT
BEGIN:VEVENT
DTSTART;TZID=Europe/Paris:20300517T200000
DTEND;TZID=Europe/Paris:20300517T210000
DTSTAMP:20260424T121619
CREATED:20260306T175041Z
LAST-MODIFIED:20260306T175041Z
UID:10007617-1905278400-1905282000@maisondadoration.org
SUMMARY:Intercession et Adoration
DESCRIPTION:Nous avons besoin d’être constamment renouvelés dans le Saint-Esprit! \nVenons donc nous tenir ensemble dans la présence de Dieu. \nC’est ce qui nous manque le plus aujourd’hui! \nPour se faire\, Dieu met à disposition des endroits\, comme la Maison d’Adoration à Morija\, pour palier à ce besoin. \nAlors\, bienvenu(e)! \n« Invoque-Moi\, et Je te répondrai. » (Jérémie 33:3)
URL:https://maisondadoration.org/agenda/intercession-et-adoration/2030-05-17/
LOCATION:MDA\, Rue des Philosophes 2\, Yverdon-les-Bains\, 1400\, Suisse
END:VEVENT
BEGIN:VEVENT
DTSTART;TZID=Europe/Paris:20300517T200000
DTEND;TZID=Europe/Paris:20300517T213000
DTSTAMP:20260424T121619
CREATED:20250630T113339Z
LAST-MODIFIED:20250630T153708Z
UID:10002850-1905278400-1905283800@maisondadoration.org
SUMMARY:Intercession et adoration Mirko Tassone
DESCRIPTION:Allons à la rencontre du Seigneur Jésus… \nCes temps de prière et d’adoration hebdomadaires sont ouverts à tous \nWelcome !
URL:https://maisondadoration.org/agenda/adoration-et-intercession-mirko-tassone-2/2030-05-17/
LOCATION:MDA\, Rue des Philosophes 2\, Yverdon-les-Bains\, 1400\, Suisse
END:VEVENT
BEGIN:VEVENT
DTSTART;TZID=Europe/Paris:20300521T200000
DTEND;TZID=Europe/Paris:20300521T213000
DTSTAMP:20260424T121619
CREATED:20251212T101443Z
LAST-MODIFIED:20251212T101443Z
UID:10006560-1905624000-1905629400@maisondadoration.org
SUMMARY:Louange et intercession
DESCRIPTION:avec S. Freymond
URL:https://maisondadoration.org/agenda/louange-et-intercession-4/2030-05-21/
LOCATION:MDA\, Rue des Philosophes 2\, Yverdon-les-Bains\, 1400\, Suisse
END:VEVENT
BEGIN:VEVENT
DTSTART;TZID=Europe/Paris:20300522T100000
DTEND;TZID=Europe/Paris:20300522T113000
DTSTAMP:20260424T121619
CREATED:20241029T143619Z
LAST-MODIFIED:20241029T144032Z
UID:10007689-1905674400-1905679800@maisondadoration.org
SUMMARY:Louange et Intercession
DESCRIPTION:
URL:https://maisondadoration.org/agenda/louange-et-adoration/2030-05-22/
LOCATION:MDA\, Rue des Philosophes 2\, Yverdon-les-Bains\, 1400\, Suisse
CATEGORIES:Prière
END:VEVENT
BEGIN:VEVENT
DTSTART;TZID=Europe/Paris:20300523T113000
DTEND;TZID=Europe/Paris:20300523T123000
DTSTAMP:20260424T121619
CREATED:20260305T154433Z
LAST-MODIFIED:20260422T050344Z
UID:10007348-1905766200-1905769800@maisondadoration.org
SUMMARY:Lecture psaumes et louange
DESCRIPTION:
URL:https://maisondadoration.org/agenda/lecture-psaumes-et-louange-2/2030-05-23/
LOCATION:MDA\, Rue des Philosophes 2\, Yverdon-les-Bains\, 1400\, Suisse
END:VEVENT
BEGIN:VEVENT
DTSTART;TZID=Europe/Paris:20300524T200000
DTEND;TZID=Europe/Paris:20300524T210000
DTSTAMP:20260424T121619
CREATED:20260306T175041Z
LAST-MODIFIED:20260306T175041Z
UID:10007618-1905883200-1905886800@maisondadoration.org
SUMMARY:Intercession et Adoration
DESCRIPTION:Nous avons besoin d’être constamment renouvelés dans le Saint-Esprit! \nVenons donc nous tenir ensemble dans la présence de Dieu. \nC’est ce qui nous manque le plus aujourd’hui! \nPour se faire\, Dieu met à disposition des endroits\, comme la Maison d’Adoration à Morija\, pour palier à ce besoin. \nAlors\, bienvenu(e)! \n« Invoque-Moi\, et Je te répondrai. » (Jérémie 33:3)
URL:https://maisondadoration.org/agenda/intercession-et-adoration/2030-05-24/
LOCATION:MDA\, Rue des Philosophes 2\, Yverdon-les-Bains\, 1400\, Suisse
END:VEVENT
BEGIN:VEVENT
DTSTART;TZID=Europe/Paris:20300524T200000
DTEND;TZID=Europe/Paris:20300524T213000
DTSTAMP:20260424T121619
CREATED:20250630T113339Z
LAST-MODIFIED:20250630T153708Z
UID:10002851-1905883200-1905888600@maisondadoration.org
SUMMARY:Intercession et adoration Mirko Tassone
DESCRIPTION:Allons à la rencontre du Seigneur Jésus… \nCes temps de prière et d’adoration hebdomadaires sont ouverts à tous \nWelcome !
URL:https://maisondadoration.org/agenda/adoration-et-intercession-mirko-tassone-2/2030-05-24/
LOCATION:MDA\, Rue des Philosophes 2\, Yverdon-les-Bains\, 1400\, Suisse
END:VEVENT
BEGIN:VEVENT
DTSTART;TZID=Europe/Paris:20300528T200000
DTEND;TZID=Europe/Paris:20300528T213000
DTSTAMP:20260424T121619
CREATED:20251212T101443Z
LAST-MODIFIED:20251212T101443Z
UID:10006561-1906228800-1906234200@maisondadoration.org
SUMMARY:Louange et intercession
DESCRIPTION:avec S. Freymond
URL:https://maisondadoration.org/agenda/louange-et-intercession-4/2030-05-28/
LOCATION:MDA\, Rue des Philosophes 2\, Yverdon-les-Bains\, 1400\, Suisse
END:VEVENT
BEGIN:VEVENT
DTSTART;TZID=Europe/Paris:20300529T100000
DTEND;TZID=Europe/Paris:20300529T113000
DTSTAMP:20260424T121619
CREATED:20241029T143619Z
LAST-MODIFIED:20241029T144032Z
UID:10007690-1906279200-1906284600@maisondadoration.org
SUMMARY:Louange et Intercession
DESCRIPTION:
URL:https://maisondadoration.org/agenda/louange-et-adoration/2030-05-29/
LOCATION:MDA\, Rue des Philosophes 2\, Yverdon-les-Bains\, 1400\, Suisse
CATEGORIES:Prière
END:VEVENT
BEGIN:VEVENT
DTSTART;TZID=Europe/Paris:20300530T113000
DTEND;TZID=Europe/Paris:20300530T123000
DTSTAMP:20260424T121619
CREATED:20260305T154433Z
LAST-MODIFIED:20260422T050344Z
UID:10007349-1906371000-1906374600@maisondadoration.org
SUMMARY:Lecture psaumes et louange
DESCRIPTION:
URL:https://maisondadoration.org/agenda/lecture-psaumes-et-louange-2/2030-05-30/
LOCATION:MDA\, Rue des Philosophes 2\, Yverdon-les-Bains\, 1400\, Suisse
END:VEVENT
BEGIN:VEVENT
DTSTART;TZID=Europe/Paris:20300531T200000
DTEND;TZID=Europe/Paris:20300531T210000
DTSTAMP:20260424T121619
CREATED:20260306T175041Z
LAST-MODIFIED:20260306T175041Z
UID:10007619-1906488000-1906491600@maisondadoration.org
SUMMARY:Intercession et Adoration
DESCRIPTION:Nous avons besoin d’être constamment renouvelés dans le Saint-Esprit! \nVenons donc nous tenir ensemble dans la présence de Dieu. \nC’est ce qui nous manque le plus aujourd’hui! \nPour se faire\, Dieu met à disposition des endroits\, comme la Maison d’Adoration à Morija\, pour palier à ce besoin. \nAlors\, bienvenu(e)! \n« Invoque-Moi\, et Je te répondrai. » (Jérémie 33:3)
URL:https://maisondadoration.org/agenda/intercession-et-adoration/2030-05-31/
LOCATION:MDA\, Rue des Philosophes 2\, Yverdon-les-Bains\, 1400\, Suisse
END:VEVENT
BEGIN:VEVENT
DTSTART;TZID=Europe/Paris:20300531T200000
DTEND;TZID=Europe/Paris:20300531T213000
DTSTAMP:20260424T121619
CREATED:20250630T113339Z
LAST-MODIFIED:20250630T153708Z
UID:10002852-1906488000-1906493400@maisondadoration.org
SUMMARY:Intercession et adoration Mirko Tassone
DESCRIPTION:Allons à la rencontre du Seigneur Jésus… \nCes temps de prière et d’adoration hebdomadaires sont ouverts à tous \nWelcome !
URL:https://maisondadoration.org/agenda/adoration-et-intercession-mirko-tassone-2/2030-05-31/
LOCATION:MDA\, Rue des Philosophes 2\, Yverdon-les-Bains\, 1400\, Suisse
END:VEVENT
BEGIN:VEVENT
DTSTART;TZID=Europe/Paris:20300604T200000
DTEND;TZID=Europe/Paris:20300604T213000
DTSTAMP:20260424T121619
CREATED:20251212T101443Z
LAST-MODIFIED:20251212T101443Z
UID:10006562-1906833600-1906839000@maisondadoration.org
SUMMARY:Louange et intercession
DESCRIPTION:avec S. Freymond
URL:https://maisondadoration.org/agenda/louange-et-intercession-4/2030-06-04/
LOCATION:MDA\, Rue des Philosophes 2\, Yverdon-les-Bains\, 1400\, Suisse
END:VEVENT
BEGIN:VEVENT
DTSTART;TZID=Europe/Paris:20300605T100000
DTEND;TZID=Europe/Paris:20300605T113000
DTSTAMP:20260424T121619
CREATED:20241029T143619Z
LAST-MODIFIED:20241029T144032Z
UID:10007691-1906884000-1906889400@maisondadoration.org
SUMMARY:Louange et Intercession
DESCRIPTION:
URL:https://maisondadoration.org/agenda/louange-et-adoration/2030-06-05/
LOCATION:MDA\, Rue des Philosophes 2\, Yverdon-les-Bains\, 1400\, Suisse
CATEGORIES:Prière
END:VEVENT
BEGIN:VEVENT
DTSTART;TZID=Europe/Paris:20300606T113000
DTEND;TZID=Europe/Paris:20300606T123000
DTSTAMP:20260424T121619
CREATED:20260305T154433Z
LAST-MODIFIED:20260422T050344Z
UID:10007350-1906975800-1906979400@maisondadoration.org
SUMMARY:Lecture psaumes et louange
DESCRIPTION:
URL:https://maisondadoration.org/agenda/lecture-psaumes-et-louange-2/2030-06-06/
LOCATION:MDA\, Rue des Philosophes 2\, Yverdon-les-Bains\, 1400\, Suisse
END:VEVENT
BEGIN:VEVENT
DTSTART;TZID=Europe/Paris:20300607T200000
DTEND;TZID=Europe/Paris:20300607T210000
DTSTAMP:20260424T121619
CREATED:20260306T175041Z
LAST-MODIFIED:20260306T175041Z
UID:10007620-1907092800-1907096400@maisondadoration.org
SUMMARY:Intercession et Adoration
DESCRIPTION:Nous avons besoin d’être constamment renouvelés dans le Saint-Esprit! \nVenons donc nous tenir ensemble dans la présence de Dieu. \nC’est ce qui nous manque le plus aujourd’hui! \nPour se faire\, Dieu met à disposition des endroits\, comme la Maison d’Adoration à Morija\, pour palier à ce besoin. \nAlors\, bienvenu(e)! \n« Invoque-Moi\, et Je te répondrai. » (Jérémie 33:3)
URL:https://maisondadoration.org/agenda/intercession-et-adoration/2030-06-07/
LOCATION:MDA\, Rue des Philosophes 2\, Yverdon-les-Bains\, 1400\, Suisse
END:VEVENT
END:VCALENDAR