BEGIN:VCALENDAR
VERSION:2.0
PRODID:-//MDA - Maison d&#039;adoration Yverdon - ECPv6.15.20//NONSGML v1.0//EN
CALSCALE:GREGORIAN
METHOD:PUBLISH
X-ORIGINAL-URL:https://maisondadoration.org
X-WR-CALDESC:Évènements pour MDA - Maison d&#039;adoration Yverdon
REFRESH-INTERVAL;VALUE=DURATION:PT1H
X-Robots-Tag:noindex
X-PUBLISHED-TTL:PT1H
BEGIN:VTIMEZONE
TZID:Europe/Paris
BEGIN:DAYLIGHT
TZOFFSETFROM:+0100
TZOFFSETTO:+0200
TZNAME:CEST
DTSTART:20240331T010000
END:DAYLIGHT
BEGIN:STANDARD
TZOFFSETFROM:+0200
TZOFFSETTO:+0100
TZNAME:CET
DTSTART:20241027T010000
END:STANDARD
BEGIN:DAYLIGHT
TZOFFSETFROM:+0100
TZOFFSETTO:+0200
TZNAME:CEST
DTSTART:20250330T010000
END:DAYLIGHT
BEGIN:STANDARD
TZOFFSETFROM:+0200
TZOFFSETTO:+0100
TZNAME:CET
DTSTART:20251026T010000
END:STANDARD
BEGIN:DAYLIGHT
TZOFFSETFROM:+0100
TZOFFSETTO:+0200
TZNAME:CEST
DTSTART:20260329T010000
END:DAYLIGHT
BEGIN:STANDARD
TZOFFSETFROM:+0200
TZOFFSETTO:+0100
TZNAME:CET
DTSTART:20261025T010000
END:STANDARD
END:VTIMEZONE
BEGIN:VEVENT
DTSTART;TZID=Europe/Paris:20250820T100000
DTEND;TZID=Europe/Paris:20250820T113000
DTSTAMP:20260423T030804
CREATED:20241029T143619Z
LAST-MODIFIED:20241029T144032Z
UID:10001793-1755684000-1755689400@maisondadoration.org
SUMMARY:Louange et Intercession
DESCRIPTION:
URL:https://maisondadoration.org/agenda/louange-et-adoration/2025-08-20/
LOCATION:MDA\, Rue des Philosophes 2\, Yverdon-les-Bains\, 1400\, Suisse
CATEGORIES:Prière
END:VEVENT
BEGIN:VEVENT
DTSTART;TZID=Europe/Paris:20250813T100000
DTEND;TZID=Europe/Paris:20250813T113000
DTSTAMP:20260423T030804
CREATED:20241029T143619Z
LAST-MODIFIED:20241029T144032Z
UID:10001792-1755079200-1755084600@maisondadoration.org
SUMMARY:Louange et Intercession
DESCRIPTION:
URL:https://maisondadoration.org/agenda/louange-et-adoration/2025-08-13/
LOCATION:MDA\, Rue des Philosophes 2\, Yverdon-les-Bains\, 1400\, Suisse
CATEGORIES:Prière
END:VEVENT
BEGIN:VEVENT
DTSTART;TZID=Europe/Paris:20250806T100000
DTEND;TZID=Europe/Paris:20250806T113000
DTSTAMP:20260423T030804
CREATED:20241029T143619Z
LAST-MODIFIED:20241029T144032Z
UID:10001791-1754474400-1754479800@maisondadoration.org
SUMMARY:Louange et Intercession
DESCRIPTION:
URL:https://maisondadoration.org/agenda/louange-et-adoration/2025-08-06/
LOCATION:MDA\, Rue des Philosophes 2\, Yverdon-les-Bains\, 1400\, Suisse
CATEGORIES:Prière
END:VEVENT
BEGIN:VEVENT
DTSTART;TZID=Europe/Paris:20250730T100000
DTEND;TZID=Europe/Paris:20250730T113000
DTSTAMP:20260423T030804
CREATED:20241029T143619Z
LAST-MODIFIED:20241029T144032Z
UID:10001790-1753869600-1753875000@maisondadoration.org
SUMMARY:Louange et Intercession
DESCRIPTION:
URL:https://maisondadoration.org/agenda/louange-et-adoration/2025-07-30/
LOCATION:MDA\, Rue des Philosophes 2\, Yverdon-les-Bains\, 1400\, Suisse
CATEGORIES:Prière
END:VEVENT
BEGIN:VEVENT
DTSTART;TZID=Europe/Paris:20250723T100000
DTEND;TZID=Europe/Paris:20250723T113000
DTSTAMP:20260423T030804
CREATED:20241029T143619Z
LAST-MODIFIED:20241029T144032Z
UID:10001789-1753264800-1753270200@maisondadoration.org
SUMMARY:Louange et Intercession
DESCRIPTION:
URL:https://maisondadoration.org/agenda/louange-et-adoration/2025-07-23/
LOCATION:MDA\, Rue des Philosophes 2\, Yverdon-les-Bains\, 1400\, Suisse
CATEGORIES:Prière
END:VEVENT
BEGIN:VEVENT
DTSTART;TZID=Europe/Paris:20250716T100000
DTEND;TZID=Europe/Paris:20250716T113000
DTSTAMP:20260423T030804
CREATED:20241029T143619Z
LAST-MODIFIED:20241029T144032Z
UID:10001788-1752660000-1752665400@maisondadoration.org
SUMMARY:Louange et Intercession
DESCRIPTION:
URL:https://maisondadoration.org/agenda/louange-et-adoration/2025-07-16/
LOCATION:MDA\, Rue des Philosophes 2\, Yverdon-les-Bains\, 1400\, Suisse
CATEGORIES:Prière
END:VEVENT
BEGIN:VEVENT
DTSTART;TZID=Europe/Paris:20250709T100000
DTEND;TZID=Europe/Paris:20250709T113000
DTSTAMP:20260423T030804
CREATED:20241029T143619Z
LAST-MODIFIED:20241029T144032Z
UID:10001787-1752055200-1752060600@maisondadoration.org
SUMMARY:Louange et Intercession
DESCRIPTION:
URL:https://maisondadoration.org/agenda/louange-et-adoration/2025-07-09/
LOCATION:MDA\, Rue des Philosophes 2\, Yverdon-les-Bains\, 1400\, Suisse
CATEGORIES:Prière
END:VEVENT
BEGIN:VEVENT
DTSTART;TZID=Europe/Paris:20250702T100000
DTEND;TZID=Europe/Paris:20250702T113000
DTSTAMP:20260423T030804
CREATED:20241029T143619Z
LAST-MODIFIED:20241029T144032Z
UID:10001786-1751450400-1751455800@maisondadoration.org
SUMMARY:Louange et Intercession
DESCRIPTION:
URL:https://maisondadoration.org/agenda/louange-et-adoration/2025-07-02/
LOCATION:MDA\, Rue des Philosophes 2\, Yverdon-les-Bains\, 1400\, Suisse
CATEGORIES:Prière
END:VEVENT
BEGIN:VEVENT
DTSTART;TZID=Europe/Paris:20250625T100000
DTEND;TZID=Europe/Paris:20250625T113000
DTSTAMP:20260423T030804
CREATED:20241029T143619Z
LAST-MODIFIED:20241029T144032Z
UID:10001785-1750845600-1750851000@maisondadoration.org
SUMMARY:Louange et Intercession
DESCRIPTION:
URL:https://maisondadoration.org/agenda/louange-et-adoration/2025-06-25/
LOCATION:MDA\, Rue des Philosophes 2\, Yverdon-les-Bains\, 1400\, Suisse
CATEGORIES:Prière
END:VEVENT
BEGIN:VEVENT
DTSTART;TZID=Europe/Paris:20250618T100000
DTEND;TZID=Europe/Paris:20250618T113000
DTSTAMP:20260423T030804
CREATED:20241029T143619Z
LAST-MODIFIED:20241029T144032Z
UID:10001784-1750240800-1750246200@maisondadoration.org
SUMMARY:Louange et Intercession
DESCRIPTION:
URL:https://maisondadoration.org/agenda/louange-et-adoration/2025-06-18/
LOCATION:MDA\, Rue des Philosophes 2\, Yverdon-les-Bains\, 1400\, Suisse
CATEGORIES:Prière
END:VEVENT
BEGIN:VEVENT
DTSTART;TZID=Europe/Paris:20250611T100000
DTEND;TZID=Europe/Paris:20250611T113000
DTSTAMP:20260423T030804
CREATED:20241029T143619Z
LAST-MODIFIED:20241029T144032Z
UID:10001783-1749636000-1749641400@maisondadoration.org
SUMMARY:Louange et Intercession
DESCRIPTION:
URL:https://maisondadoration.org/agenda/louange-et-adoration/2025-06-11/
LOCATION:MDA\, Rue des Philosophes 2\, Yverdon-les-Bains\, 1400\, Suisse
CATEGORIES:Prière
END:VEVENT
BEGIN:VEVENT
DTSTART;TZID=Europe/Paris:20250604T100000
DTEND;TZID=Europe/Paris:20250604T113000
DTSTAMP:20260423T030804
CREATED:20241029T143619Z
LAST-MODIFIED:20241029T144032Z
UID:10001782-1749031200-1749036600@maisondadoration.org
SUMMARY:Louange et Intercession
DESCRIPTION:
URL:https://maisondadoration.org/agenda/louange-et-adoration/2025-06-04/
LOCATION:MDA\, Rue des Philosophes 2\, Yverdon-les-Bains\, 1400\, Suisse
CATEGORIES:Prière
END:VEVENT
BEGIN:VEVENT
DTSTART;TZID=Europe/Paris:20250528T100000
DTEND;TZID=Europe/Paris:20250528T113000
DTSTAMP:20260423T030804
CREATED:20241029T143619Z
LAST-MODIFIED:20241029T144032Z
UID:10001781-1748426400-1748431800@maisondadoration.org
SUMMARY:Louange et Intercession
DESCRIPTION:
URL:https://maisondadoration.org/agenda/louange-et-adoration/2025-05-28/
LOCATION:MDA\, Rue des Philosophes 2\, Yverdon-les-Bains\, 1400\, Suisse
CATEGORIES:Prière
END:VEVENT
BEGIN:VEVENT
DTSTART;TZID=Europe/Paris:20250521T100000
DTEND;TZID=Europe/Paris:20250521T113000
DTSTAMP:20260423T030804
CREATED:20241029T143619Z
LAST-MODIFIED:20241029T144032Z
UID:10001780-1747821600-1747827000@maisondadoration.org
SUMMARY:Louange et Intercession
DESCRIPTION:
URL:https://maisondadoration.org/agenda/louange-et-adoration/2025-05-21/
LOCATION:MDA\, Rue des Philosophes 2\, Yverdon-les-Bains\, 1400\, Suisse
CATEGORIES:Prière
END:VEVENT
BEGIN:VEVENT
DTSTART;TZID=Europe/Paris:20250514T100000
DTEND;TZID=Europe/Paris:20250514T113000
DTSTAMP:20260423T030804
CREATED:20241029T143619Z
LAST-MODIFIED:20241029T144032Z
UID:10001779-1747216800-1747222200@maisondadoration.org
SUMMARY:Louange et Intercession
DESCRIPTION:
URL:https://maisondadoration.org/agenda/louange-et-adoration/2025-05-14/
LOCATION:MDA\, Rue des Philosophes 2\, Yverdon-les-Bains\, 1400\, Suisse
CATEGORIES:Prière
END:VEVENT
BEGIN:VEVENT
DTSTART;TZID=Europe/Paris:20250507T100000
DTEND;TZID=Europe/Paris:20250507T113000
DTSTAMP:20260423T030804
CREATED:20241029T143619Z
LAST-MODIFIED:20241029T144032Z
UID:10001778-1746612000-1746617400@maisondadoration.org
SUMMARY:Louange et Intercession
DESCRIPTION:
URL:https://maisondadoration.org/agenda/louange-et-adoration/2025-05-07/
LOCATION:MDA\, Rue des Philosophes 2\, Yverdon-les-Bains\, 1400\, Suisse
CATEGORIES:Prière
END:VEVENT
BEGIN:VEVENT
DTSTART;TZID=Europe/Paris:20250430T100000
DTEND;TZID=Europe/Paris:20250430T113000
DTSTAMP:20260423T030804
CREATED:20241029T143619Z
LAST-MODIFIED:20241029T144032Z
UID:10001777-1746007200-1746012600@maisondadoration.org
SUMMARY:Louange et Intercession
DESCRIPTION:
URL:https://maisondadoration.org/agenda/louange-et-adoration/2025-04-30/
LOCATION:MDA\, Rue des Philosophes 2\, Yverdon-les-Bains\, 1400\, Suisse
CATEGORIES:Prière
END:VEVENT
BEGIN:VEVENT
DTSTART;TZID=Europe/Paris:20250423T100000
DTEND;TZID=Europe/Paris:20250423T113000
DTSTAMP:20260423T030804
CREATED:20241029T143619Z
LAST-MODIFIED:20241029T144032Z
UID:10001776-1745402400-1745407800@maisondadoration.org
SUMMARY:Louange et Intercession
DESCRIPTION:
URL:https://maisondadoration.org/agenda/louange-et-adoration/2025-04-23/
LOCATION:MDA\, Rue des Philosophes 2\, Yverdon-les-Bains\, 1400\, Suisse
CATEGORIES:Prière
END:VEVENT
END:VCALENDAR