BEGIN:VCALENDAR
VERSION:2.0
PRODID:-//MDA - Maison d&#039;adoration Yverdon - ECPv6.15.20//NONSGML v1.0//EN
CALSCALE:GREGORIAN
METHOD:PUBLISH
X-ORIGINAL-URL:https://maisondadoration.org
X-WR-CALDESC:Évènements pour MDA - Maison d&#039;adoration Yverdon
REFRESH-INTERVAL;VALUE=DURATION:PT1H
X-Robots-Tag:noindex
X-PUBLISHED-TTL:PT1H
BEGIN:VTIMEZONE
TZID:Europe/Paris
BEGIN:DAYLIGHT
TZOFFSETFROM:+0100
TZOFFSETTO:+0200
TZNAME:CEST
DTSTART:20240331T010000
END:DAYLIGHT
BEGIN:STANDARD
TZOFFSETFROM:+0200
TZOFFSETTO:+0100
TZNAME:CET
DTSTART:20241027T010000
END:STANDARD
BEGIN:DAYLIGHT
TZOFFSETFROM:+0100
TZOFFSETTO:+0200
TZNAME:CEST
DTSTART:20250330T010000
END:DAYLIGHT
BEGIN:STANDARD
TZOFFSETFROM:+0200
TZOFFSETTO:+0100
TZNAME:CET
DTSTART:20251026T010000
END:STANDARD
BEGIN:DAYLIGHT
TZOFFSETFROM:+0100
TZOFFSETTO:+0200
TZNAME:CEST
DTSTART:20260329T010000
END:DAYLIGHT
BEGIN:STANDARD
TZOFFSETFROM:+0200
TZOFFSETTO:+0100
TZNAME:CET
DTSTART:20261025T010000
END:STANDARD
BEGIN:DAYLIGHT
TZOFFSETFROM:+0100
TZOFFSETTO:+0200
TZNAME:CEST
DTSTART:20270328T010000
END:DAYLIGHT
BEGIN:STANDARD
TZOFFSETFROM:+0200
TZOFFSETTO:+0100
TZNAME:CET
DTSTART:20271031T010000
END:STANDARD
END:VTIMEZONE
BEGIN:VEVENT
DTSTART;TZID=Europe/Paris:20260128T100000
DTEND;TZID=Europe/Paris:20260128T113000
DTSTAMP:20260422T233357
CREATED:20241029T143619Z
LAST-MODIFIED:20241029T144032Z
UID:10001816-1769594400-1769599800@maisondadoration.org
SUMMARY:Louange et Intercession
DESCRIPTION:
URL:https://maisondadoration.org/agenda/louange-et-adoration/2026-01-28/
LOCATION:MDA\, Rue des Philosophes 2\, Yverdon-les-Bains\, 1400\, Suisse
CATEGORIES:Prière
END:VEVENT
BEGIN:VEVENT
DTSTART;TZID=Europe/Paris:20260121T100000
DTEND;TZID=Europe/Paris:20260121T113000
DTSTAMP:20260422T233357
CREATED:20241029T143619Z
LAST-MODIFIED:20241029T144032Z
UID:10001815-1768989600-1768995000@maisondadoration.org
SUMMARY:Louange et Intercession
DESCRIPTION:
URL:https://maisondadoration.org/agenda/louange-et-adoration/2026-01-21/
LOCATION:MDA\, Rue des Philosophes 2\, Yverdon-les-Bains\, 1400\, Suisse
CATEGORIES:Prière
END:VEVENT
BEGIN:VEVENT
DTSTART;TZID=Europe/Paris:20260114T100000
DTEND;TZID=Europe/Paris:20260114T113000
DTSTAMP:20260422T233357
CREATED:20241029T143619Z
LAST-MODIFIED:20241029T144032Z
UID:10001814-1768384800-1768390200@maisondadoration.org
SUMMARY:Louange et Intercession
DESCRIPTION:
URL:https://maisondadoration.org/agenda/louange-et-adoration/2026-01-14/
LOCATION:MDA\, Rue des Philosophes 2\, Yverdon-les-Bains\, 1400\, Suisse
CATEGORIES:Prière
END:VEVENT
BEGIN:VEVENT
DTSTART;TZID=Europe/Paris:20260107T100000
DTEND;TZID=Europe/Paris:20260107T113000
DTSTAMP:20260422T233357
CREATED:20241029T143619Z
LAST-MODIFIED:20241029T144032Z
UID:10001813-1767780000-1767785400@maisondadoration.org
SUMMARY:Louange et Intercession
DESCRIPTION:
URL:https://maisondadoration.org/agenda/louange-et-adoration/2026-01-07/
LOCATION:MDA\, Rue des Philosophes 2\, Yverdon-les-Bains\, 1400\, Suisse
CATEGORIES:Prière
END:VEVENT
BEGIN:VEVENT
DTSTART;TZID=Europe/Paris:20251231T100000
DTEND;TZID=Europe/Paris:20251231T113000
DTSTAMP:20260422T233357
CREATED:20241029T143619Z
LAST-MODIFIED:20241029T144032Z
UID:10001812-1767175200-1767180600@maisondadoration.org
SUMMARY:Louange et Intercession
DESCRIPTION:
URL:https://maisondadoration.org/agenda/louange-et-adoration/2025-12-31/
LOCATION:MDA\, Rue des Philosophes 2\, Yverdon-les-Bains\, 1400\, Suisse
CATEGORIES:Prière
END:VEVENT
BEGIN:VEVENT
DTSTART;TZID=Europe/Paris:20251224T100000
DTEND;TZID=Europe/Paris:20251224T113000
DTSTAMP:20260422T233357
CREATED:20241029T143619Z
LAST-MODIFIED:20241029T144032Z
UID:10001811-1766570400-1766575800@maisondadoration.org
SUMMARY:Louange et Intercession
DESCRIPTION:
URL:https://maisondadoration.org/agenda/louange-et-adoration/2025-12-24/
LOCATION:MDA\, Rue des Philosophes 2\, Yverdon-les-Bains\, 1400\, Suisse
CATEGORIES:Prière
END:VEVENT
BEGIN:VEVENT
DTSTART;TZID=Europe/Paris:20251217T100000
DTEND;TZID=Europe/Paris:20251217T113000
DTSTAMP:20260422T233357
CREATED:20241029T143619Z
LAST-MODIFIED:20241029T144032Z
UID:10001810-1765965600-1765971000@maisondadoration.org
SUMMARY:Louange et Intercession
DESCRIPTION:
URL:https://maisondadoration.org/agenda/louange-et-adoration/2025-12-17/
LOCATION:MDA\, Rue des Philosophes 2\, Yverdon-les-Bains\, 1400\, Suisse
CATEGORIES:Prière
END:VEVENT
BEGIN:VEVENT
DTSTART;TZID=Europe/Paris:20251210T100000
DTEND;TZID=Europe/Paris:20251210T113000
DTSTAMP:20260422T233357
CREATED:20241029T143619Z
LAST-MODIFIED:20241029T144032Z
UID:10001809-1765360800-1765366200@maisondadoration.org
SUMMARY:Louange et Intercession
DESCRIPTION:
URL:https://maisondadoration.org/agenda/louange-et-adoration/2025-12-10/
LOCATION:MDA\, Rue des Philosophes 2\, Yverdon-les-Bains\, 1400\, Suisse
CATEGORIES:Prière
END:VEVENT
BEGIN:VEVENT
DTSTART;TZID=Europe/Paris:20251206T130000
DTEND;TZID=Europe/Paris:20251206T230000
DTSTAMP:20260422T233357
CREATED:20250327T152729Z
LAST-MODIFIED:20250327T152729Z
UID:10002525-1765026000-1765062000@maisondadoration.org
SUMMARY:Tabernacle de louange MDA
DESCRIPTION:Un tabernacle de louange aura lieu à Morija dans la grande salle organisé par la MDA. Le 6 décembre de 13h à 23h \n10h de louange NON-STOP avec des groupes de la région et d’ailleurs. \nContactez nous pour y participer.  Entrée libre à tous… \ninfo@maisondadoration.org
URL:https://maisondadoration.org/agenda/tabernacle-de-louange-mda/
LOCATION:MDA\, Rue des Philosophes 2\, Yverdon-les-Bains\, 1400\, Suisse
CATEGORIES:Prière,Veilles
END:VEVENT
BEGIN:VEVENT
DTSTART;TZID=Europe/Paris:20251203T100000
DTEND;TZID=Europe/Paris:20251203T113000
DTSTAMP:20260422T233357
CREATED:20241029T143619Z
LAST-MODIFIED:20241029T144032Z
UID:10001808-1764756000-1764761400@maisondadoration.org
SUMMARY:Louange et Intercession
DESCRIPTION:
URL:https://maisondadoration.org/agenda/louange-et-adoration/2025-12-03/
LOCATION:MDA\, Rue des Philosophes 2\, Yverdon-les-Bains\, 1400\, Suisse
CATEGORIES:Prière
END:VEVENT
BEGIN:VEVENT
DTSTART;TZID=Europe/Paris:20251126T100000
DTEND;TZID=Europe/Paris:20251126T113000
DTSTAMP:20260422T233357
CREATED:20241029T143619Z
LAST-MODIFIED:20241029T144032Z
UID:10001807-1764151200-1764156600@maisondadoration.org
SUMMARY:Louange et Intercession
DESCRIPTION:
URL:https://maisondadoration.org/agenda/louange-et-adoration/2025-11-26/
LOCATION:MDA\, Rue des Philosophes 2\, Yverdon-les-Bains\, 1400\, Suisse
CATEGORIES:Prière
END:VEVENT
BEGIN:VEVENT
DTSTART;TZID=Europe/Paris:20251119T100000
DTEND;TZID=Europe/Paris:20251119T113000
DTSTAMP:20260422T233357
CREATED:20241029T143619Z
LAST-MODIFIED:20241029T144032Z
UID:10001806-1763546400-1763551800@maisondadoration.org
SUMMARY:Louange et Intercession
DESCRIPTION:
URL:https://maisondadoration.org/agenda/louange-et-adoration/2025-11-19/
LOCATION:MDA\, Rue des Philosophes 2\, Yverdon-les-Bains\, 1400\, Suisse
CATEGORIES:Prière
END:VEVENT
BEGIN:VEVENT
DTSTART;TZID=Europe/Paris:20251112T100000
DTEND;TZID=Europe/Paris:20251112T113000
DTSTAMP:20260422T233357
CREATED:20241029T143619Z
LAST-MODIFIED:20241029T144032Z
UID:10001805-1762941600-1762947000@maisondadoration.org
SUMMARY:Louange et Intercession
DESCRIPTION:
URL:https://maisondadoration.org/agenda/louange-et-adoration/2025-11-12/
LOCATION:MDA\, Rue des Philosophes 2\, Yverdon-les-Bains\, 1400\, Suisse
CATEGORIES:Prière
END:VEVENT
BEGIN:VEVENT
DTSTART;TZID=Europe/Paris:20251105T100000
DTEND;TZID=Europe/Paris:20251105T113000
DTSTAMP:20260422T233357
CREATED:20241029T143619Z
LAST-MODIFIED:20241029T144032Z
UID:10001804-1762336800-1762342200@maisondadoration.org
SUMMARY:Louange et Intercession
DESCRIPTION:
URL:https://maisondadoration.org/agenda/louange-et-adoration/2025-11-05/
LOCATION:MDA\, Rue des Philosophes 2\, Yverdon-les-Bains\, 1400\, Suisse
CATEGORIES:Prière
END:VEVENT
BEGIN:VEVENT
DTSTART;TZID=Europe/Paris:20251029T100000
DTEND;TZID=Europe/Paris:20251029T113000
DTSTAMP:20260422T233357
CREATED:20241029T143619Z
LAST-MODIFIED:20241029T144032Z
UID:10001803-1761732000-1761737400@maisondadoration.org
SUMMARY:Louange et Intercession
DESCRIPTION:
URL:https://maisondadoration.org/agenda/louange-et-adoration/2025-10-29/
LOCATION:MDA\, Rue des Philosophes 2\, Yverdon-les-Bains\, 1400\, Suisse
CATEGORIES:Prière
END:VEVENT
BEGIN:VEVENT
DTSTART;TZID=Europe/Paris:20251022T100000
DTEND;TZID=Europe/Paris:20251022T113000
DTSTAMP:20260422T233357
CREATED:20241029T143619Z
LAST-MODIFIED:20241029T144032Z
UID:10001802-1761127200-1761132600@maisondadoration.org
SUMMARY:Louange et Intercession
DESCRIPTION:
URL:https://maisondadoration.org/agenda/louange-et-adoration/2025-10-22/
LOCATION:MDA\, Rue des Philosophes 2\, Yverdon-les-Bains\, 1400\, Suisse
CATEGORIES:Prière
END:VEVENT
BEGIN:VEVENT
DTSTART;TZID=Europe/Paris:20251015T100000
DTEND;TZID=Europe/Paris:20251015T113000
DTSTAMP:20260422T233357
CREATED:20241029T143619Z
LAST-MODIFIED:20241029T144032Z
UID:10001801-1760522400-1760527800@maisondadoration.org
SUMMARY:Louange et Intercession
DESCRIPTION:
URL:https://maisondadoration.org/agenda/louange-et-adoration/2025-10-15/
LOCATION:MDA\, Rue des Philosophes 2\, Yverdon-les-Bains\, 1400\, Suisse
CATEGORIES:Prière
END:VEVENT
BEGIN:VEVENT
DTSTART;TZID=Europe/Paris:20251008T100000
DTEND;TZID=Europe/Paris:20251008T113000
DTSTAMP:20260422T233357
CREATED:20241029T143619Z
LAST-MODIFIED:20241029T144032Z
UID:10001800-1759917600-1759923000@maisondadoration.org
SUMMARY:Louange et Intercession
DESCRIPTION:
URL:https://maisondadoration.org/agenda/louange-et-adoration/2025-10-08/
LOCATION:MDA\, Rue des Philosophes 2\, Yverdon-les-Bains\, 1400\, Suisse
CATEGORIES:Prière
END:VEVENT
BEGIN:VEVENT
DTSTART;TZID=Europe/Paris:20251001T100000
DTEND;TZID=Europe/Paris:20251001T113000
DTSTAMP:20260422T233357
CREATED:20241029T143619Z
LAST-MODIFIED:20241029T144032Z
UID:10001799-1759312800-1759318200@maisondadoration.org
SUMMARY:Louange et Intercession
DESCRIPTION:
URL:https://maisondadoration.org/agenda/louange-et-adoration/2025-10-01/
LOCATION:MDA\, Rue des Philosophes 2\, Yverdon-les-Bains\, 1400\, Suisse
CATEGORIES:Prière
END:VEVENT
BEGIN:VEVENT
DTSTART;TZID=Europe/Paris:20250924T100000
DTEND;TZID=Europe/Paris:20250924T113000
DTSTAMP:20260422T233357
CREATED:20241029T143619Z
LAST-MODIFIED:20241029T144032Z
UID:10001798-1758708000-1758713400@maisondadoration.org
SUMMARY:Louange et Intercession
DESCRIPTION:
URL:https://maisondadoration.org/agenda/louange-et-adoration/2025-09-24/
LOCATION:MDA\, Rue des Philosophes 2\, Yverdon-les-Bains\, 1400\, Suisse
CATEGORIES:Prière
END:VEVENT
BEGIN:VEVENT
DTSTART;TZID=Europe/Paris:20250917T100000
DTEND;TZID=Europe/Paris:20250917T113000
DTSTAMP:20260422T233357
CREATED:20241029T143619Z
LAST-MODIFIED:20241029T144032Z
UID:10001797-1758103200-1758108600@maisondadoration.org
SUMMARY:Louange et Intercession
DESCRIPTION:
URL:https://maisondadoration.org/agenda/louange-et-adoration/2025-09-17/
LOCATION:MDA\, Rue des Philosophes 2\, Yverdon-les-Bains\, 1400\, Suisse
CATEGORIES:Prière
END:VEVENT
BEGIN:VEVENT
DTSTART;TZID=Europe/Paris:20250910T100000
DTEND;TZID=Europe/Paris:20250910T113000
DTSTAMP:20260422T233357
CREATED:20241029T143619Z
LAST-MODIFIED:20241029T144032Z
UID:10001796-1757498400-1757503800@maisondadoration.org
SUMMARY:Louange et Intercession
DESCRIPTION:
URL:https://maisondadoration.org/agenda/louange-et-adoration/2025-09-10/
LOCATION:MDA\, Rue des Philosophes 2\, Yverdon-les-Bains\, 1400\, Suisse
CATEGORIES:Prière
END:VEVENT
BEGIN:VEVENT
DTSTART;TZID=Europe/Paris:20250903T100000
DTEND;TZID=Europe/Paris:20250903T113000
DTSTAMP:20260422T233357
CREATED:20241029T143619Z
LAST-MODIFIED:20241029T144032Z
UID:10001795-1756893600-1756899000@maisondadoration.org
SUMMARY:Louange et Intercession
DESCRIPTION:
URL:https://maisondadoration.org/agenda/louange-et-adoration/2025-09-03/
LOCATION:MDA\, Rue des Philosophes 2\, Yverdon-les-Bains\, 1400\, Suisse
CATEGORIES:Prière
END:VEVENT
BEGIN:VEVENT
DTSTART;TZID=Europe/Paris:20250827T100000
DTEND;TZID=Europe/Paris:20250827T113000
DTSTAMP:20260422T233357
CREATED:20241029T143619Z
LAST-MODIFIED:20241029T144032Z
UID:10001794-1756288800-1756294200@maisondadoration.org
SUMMARY:Louange et Intercession
DESCRIPTION:
URL:https://maisondadoration.org/agenda/louange-et-adoration/2025-08-27/
LOCATION:MDA\, Rue des Philosophes 2\, Yverdon-les-Bains\, 1400\, Suisse
CATEGORIES:Prière
END:VEVENT
BEGIN:VEVENT
DTSTART;TZID=Europe/Paris:20250820T100000
DTEND;TZID=Europe/Paris:20250820T113000
DTSTAMP:20260422T233357
CREATED:20241029T143619Z
LAST-MODIFIED:20241029T144032Z
UID:10001793-1755684000-1755689400@maisondadoration.org
SUMMARY:Louange et Intercession
DESCRIPTION:
URL:https://maisondadoration.org/agenda/louange-et-adoration/2025-08-20/
LOCATION:MDA\, Rue des Philosophes 2\, Yverdon-les-Bains\, 1400\, Suisse
CATEGORIES:Prière
END:VEVENT
BEGIN:VEVENT
DTSTART;TZID=Europe/Paris:20250813T100000
DTEND;TZID=Europe/Paris:20250813T113000
DTSTAMP:20260422T233357
CREATED:20241029T143619Z
LAST-MODIFIED:20241029T144032Z
UID:10001792-1755079200-1755084600@maisondadoration.org
SUMMARY:Louange et Intercession
DESCRIPTION:
URL:https://maisondadoration.org/agenda/louange-et-adoration/2025-08-13/
LOCATION:MDA\, Rue des Philosophes 2\, Yverdon-les-Bains\, 1400\, Suisse
CATEGORIES:Prière
END:VEVENT
BEGIN:VEVENT
DTSTART;TZID=Europe/Paris:20250806T100000
DTEND;TZID=Europe/Paris:20250806T113000
DTSTAMP:20260422T233357
CREATED:20241029T143619Z
LAST-MODIFIED:20241029T144032Z
UID:10001791-1754474400-1754479800@maisondadoration.org
SUMMARY:Louange et Intercession
DESCRIPTION:
URL:https://maisondadoration.org/agenda/louange-et-adoration/2025-08-06/
LOCATION:MDA\, Rue des Philosophes 2\, Yverdon-les-Bains\, 1400\, Suisse
CATEGORIES:Prière
END:VEVENT
BEGIN:VEVENT
DTSTART;TZID=Europe/Paris:20250730T100000
DTEND;TZID=Europe/Paris:20250730T113000
DTSTAMP:20260422T233357
CREATED:20241029T143619Z
LAST-MODIFIED:20241029T144032Z
UID:10001790-1753869600-1753875000@maisondadoration.org
SUMMARY:Louange et Intercession
DESCRIPTION:
URL:https://maisondadoration.org/agenda/louange-et-adoration/2025-07-30/
LOCATION:MDA\, Rue des Philosophes 2\, Yverdon-les-Bains\, 1400\, Suisse
CATEGORIES:Prière
END:VEVENT
BEGIN:VEVENT
DTSTART;TZID=Europe/Paris:20250723T100000
DTEND;TZID=Europe/Paris:20250723T113000
DTSTAMP:20260422T233357
CREATED:20241029T143619Z
LAST-MODIFIED:20241029T144032Z
UID:10001789-1753264800-1753270200@maisondadoration.org
SUMMARY:Louange et Intercession
DESCRIPTION:
URL:https://maisondadoration.org/agenda/louange-et-adoration/2025-07-23/
LOCATION:MDA\, Rue des Philosophes 2\, Yverdon-les-Bains\, 1400\, Suisse
CATEGORIES:Prière
END:VEVENT
BEGIN:VEVENT
DTSTART;TZID=Europe/Paris:20250716T100000
DTEND;TZID=Europe/Paris:20250716T113000
DTSTAMP:20260422T233357
CREATED:20241029T143619Z
LAST-MODIFIED:20241029T144032Z
UID:10001788-1752660000-1752665400@maisondadoration.org
SUMMARY:Louange et Intercession
DESCRIPTION:
URL:https://maisondadoration.org/agenda/louange-et-adoration/2025-07-16/
LOCATION:MDA\, Rue des Philosophes 2\, Yverdon-les-Bains\, 1400\, Suisse
CATEGORIES:Prière
END:VEVENT
END:VCALENDAR