BEGIN:VCALENDAR
VERSION:2.0
PRODID:-//MDA - Maison d&#039;adoration Yverdon - ECPv6.15.20//NONSGML v1.0//EN
CALSCALE:GREGORIAN
METHOD:PUBLISH
X-ORIGINAL-URL:https://maisondadoration.org
X-WR-CALDESC:Évènements pour MDA - Maison d&#039;adoration Yverdon
REFRESH-INTERVAL;VALUE=DURATION:PT1H
X-Robots-Tag:noindex
X-PUBLISHED-TTL:PT1H
BEGIN:VTIMEZONE
TZID:Europe/Paris
BEGIN:DAYLIGHT
TZOFFSETFROM:+0100
TZOFFSETTO:+0200
TZNAME:CEST
DTSTART:20290325T010000
END:DAYLIGHT
BEGIN:STANDARD
TZOFFSETFROM:+0200
TZOFFSETTO:+0100
TZNAME:CET
DTSTART:20291028T010000
END:STANDARD
BEGIN:DAYLIGHT
TZOFFSETFROM:+0100
TZOFFSETTO:+0200
TZNAME:CEST
DTSTART:20300331T010000
END:DAYLIGHT
BEGIN:STANDARD
TZOFFSETFROM:+0200
TZOFFSETTO:+0100
TZNAME:CET
DTSTART:20301027T010000
END:STANDARD
BEGIN:DAYLIGHT
TZOFFSETFROM:+0100
TZOFFSETTO:+0200
TZNAME:CEST
DTSTART:20310330T010000
END:DAYLIGHT
BEGIN:STANDARD
TZOFFSETFROM:+0200
TZOFFSETTO:+0100
TZNAME:CET
DTSTART:20311026T010000
END:STANDARD
BEGIN:DAYLIGHT
TZOFFSETFROM:+0100
TZOFFSETTO:+0200
TZNAME:CEST
DTSTART:20320328T010000
END:DAYLIGHT
BEGIN:STANDARD
TZOFFSETFROM:+0200
TZOFFSETTO:+0100
TZNAME:CET
DTSTART:20321031T010000
END:STANDARD
END:VTIMEZONE
BEGIN:VEVENT
DTSTART;TZID=Europe/Paris:20300619T100000
DTEND;TZID=Europe/Paris:20300619T113000
DTSTAMP:20260424T020122
CREATED:20241029T143619Z
LAST-MODIFIED:20241029T144032Z
UID:10007693-1908093600-1908099000@maisondadoration.org
SUMMARY:Louange et Intercession
DESCRIPTION:
URL:https://maisondadoration.org/agenda/louange-et-adoration/2030-06-19/
LOCATION:MDA\, Rue des Philosophes 2\, Yverdon-les-Bains\, 1400\, Suisse
CATEGORIES:Prière
END:VEVENT
BEGIN:VEVENT
DTSTART;TZID=Europe/Paris:20300626T100000
DTEND;TZID=Europe/Paris:20300626T113000
DTSTAMP:20260424T020122
CREATED:20241029T143619Z
LAST-MODIFIED:20241029T144032Z
UID:10007694-1908698400-1908703800@maisondadoration.org
SUMMARY:Louange et Intercession
DESCRIPTION:
URL:https://maisondadoration.org/agenda/louange-et-adoration/2030-06-26/
LOCATION:MDA\, Rue des Philosophes 2\, Yverdon-les-Bains\, 1400\, Suisse
CATEGORIES:Prière
END:VEVENT
BEGIN:VEVENT
DTSTART;TZID=Europe/Paris:20300703T100000
DTEND;TZID=Europe/Paris:20300703T113000
DTSTAMP:20260424T020122
CREATED:20241029T143619Z
LAST-MODIFIED:20241029T144032Z
UID:10007695-1909303200-1909308600@maisondadoration.org
SUMMARY:Louange et Intercession
DESCRIPTION:
URL:https://maisondadoration.org/agenda/louange-et-adoration/2030-07-03/
LOCATION:MDA\, Rue des Philosophes 2\, Yverdon-les-Bains\, 1400\, Suisse
CATEGORIES:Prière
END:VEVENT
BEGIN:VEVENT
DTSTART;TZID=Europe/Paris:20300710T100000
DTEND;TZID=Europe/Paris:20300710T113000
DTSTAMP:20260424T020122
CREATED:20241029T143619Z
LAST-MODIFIED:20241029T144032Z
UID:10007696-1909908000-1909913400@maisondadoration.org
SUMMARY:Louange et Intercession
DESCRIPTION:
URL:https://maisondadoration.org/agenda/louange-et-adoration/2030-07-10/
LOCATION:MDA\, Rue des Philosophes 2\, Yverdon-les-Bains\, 1400\, Suisse
CATEGORIES:Prière
END:VEVENT
BEGIN:VEVENT
DTSTART;TZID=Europe/Paris:20300717T100000
DTEND;TZID=Europe/Paris:20300717T113000
DTSTAMP:20260424T020122
CREATED:20241029T143619Z
LAST-MODIFIED:20241029T144032Z
UID:10007697-1910512800-1910518200@maisondadoration.org
SUMMARY:Louange et Intercession
DESCRIPTION:
URL:https://maisondadoration.org/agenda/louange-et-adoration/2030-07-17/
LOCATION:MDA\, Rue des Philosophes 2\, Yverdon-les-Bains\, 1400\, Suisse
CATEGORIES:Prière
END:VEVENT
BEGIN:VEVENT
DTSTART;TZID=Europe/Paris:20300724T100000
DTEND;TZID=Europe/Paris:20300724T113000
DTSTAMP:20260424T020122
CREATED:20241029T143619Z
LAST-MODIFIED:20241029T144032Z
UID:10007698-1911117600-1911123000@maisondadoration.org
SUMMARY:Louange et Intercession
DESCRIPTION:
URL:https://maisondadoration.org/agenda/louange-et-adoration/2030-07-24/
LOCATION:MDA\, Rue des Philosophes 2\, Yverdon-les-Bains\, 1400\, Suisse
CATEGORIES:Prière
END:VEVENT
BEGIN:VEVENT
DTSTART;TZID=Europe/Paris:20300731T100000
DTEND;TZID=Europe/Paris:20300731T113000
DTSTAMP:20260424T020122
CREATED:20241029T143619Z
LAST-MODIFIED:20241029T144032Z
UID:10007699-1911722400-1911727800@maisondadoration.org
SUMMARY:Louange et Intercession
DESCRIPTION:
URL:https://maisondadoration.org/agenda/louange-et-adoration/2030-07-31/
LOCATION:MDA\, Rue des Philosophes 2\, Yverdon-les-Bains\, 1400\, Suisse
CATEGORIES:Prière
END:VEVENT
BEGIN:VEVENT
DTSTART;TZID=Europe/Paris:20300807T100000
DTEND;TZID=Europe/Paris:20300807T113000
DTSTAMP:20260424T020122
CREATED:20241029T143619Z
LAST-MODIFIED:20241029T144032Z
UID:10007700-1912327200-1912332600@maisondadoration.org
SUMMARY:Louange et Intercession
DESCRIPTION:
URL:https://maisondadoration.org/agenda/louange-et-adoration/2030-08-07/
LOCATION:MDA\, Rue des Philosophes 2\, Yverdon-les-Bains\, 1400\, Suisse
CATEGORIES:Prière
END:VEVENT
BEGIN:VEVENT
DTSTART;TZID=Europe/Paris:20300814T100000
DTEND;TZID=Europe/Paris:20300814T113000
DTSTAMP:20260424T020122
CREATED:20241029T143619Z
LAST-MODIFIED:20241029T144032Z
UID:10007701-1912932000-1912937400@maisondadoration.org
SUMMARY:Louange et Intercession
DESCRIPTION:
URL:https://maisondadoration.org/agenda/louange-et-adoration/2030-08-14/
LOCATION:MDA\, Rue des Philosophes 2\, Yverdon-les-Bains\, 1400\, Suisse
CATEGORIES:Prière
END:VEVENT
BEGIN:VEVENT
DTSTART;TZID=Europe/Paris:20300821T100000
DTEND;TZID=Europe/Paris:20300821T113000
DTSTAMP:20260424T020122
CREATED:20241029T143619Z
LAST-MODIFIED:20241029T144032Z
UID:10007702-1913536800-1913542200@maisondadoration.org
SUMMARY:Louange et Intercession
DESCRIPTION:
URL:https://maisondadoration.org/agenda/louange-et-adoration/2030-08-21/
LOCATION:MDA\, Rue des Philosophes 2\, Yverdon-les-Bains\, 1400\, Suisse
CATEGORIES:Prière
END:VEVENT
BEGIN:VEVENT
DTSTART;TZID=Europe/Paris:20300828T100000
DTEND;TZID=Europe/Paris:20300828T113000
DTSTAMP:20260424T020122
CREATED:20241029T143619Z
LAST-MODIFIED:20241029T144032Z
UID:10007703-1914141600-1914147000@maisondadoration.org
SUMMARY:Louange et Intercession
DESCRIPTION:
URL:https://maisondadoration.org/agenda/louange-et-adoration/2030-08-28/
LOCATION:MDA\, Rue des Philosophes 2\, Yverdon-les-Bains\, 1400\, Suisse
CATEGORIES:Prière
END:VEVENT
BEGIN:VEVENT
DTSTART;TZID=Europe/Paris:20300904T100000
DTEND;TZID=Europe/Paris:20300904T113000
DTSTAMP:20260424T020122
CREATED:20241029T143619Z
LAST-MODIFIED:20241029T144032Z
UID:10007704-1914746400-1914751800@maisondadoration.org
SUMMARY:Louange et Intercession
DESCRIPTION:
URL:https://maisondadoration.org/agenda/louange-et-adoration/2030-09-04/
LOCATION:MDA\, Rue des Philosophes 2\, Yverdon-les-Bains\, 1400\, Suisse
CATEGORIES:Prière
END:VEVENT
BEGIN:VEVENT
DTSTART;TZID=Europe/Paris:20300911T100000
DTEND;TZID=Europe/Paris:20300911T113000
DTSTAMP:20260424T020122
CREATED:20241029T143619Z
LAST-MODIFIED:20241029T144032Z
UID:10007705-1915351200-1915356600@maisondadoration.org
SUMMARY:Louange et Intercession
DESCRIPTION:
URL:https://maisondadoration.org/agenda/louange-et-adoration/2030-09-11/
LOCATION:MDA\, Rue des Philosophes 2\, Yverdon-les-Bains\, 1400\, Suisse
CATEGORIES:Prière
END:VEVENT
BEGIN:VEVENT
DTSTART;TZID=Europe/Paris:20300918T100000
DTEND;TZID=Europe/Paris:20300918T113000
DTSTAMP:20260424T020122
CREATED:20241029T143619Z
LAST-MODIFIED:20241029T144032Z
UID:10007706-1915956000-1915961400@maisondadoration.org
SUMMARY:Louange et Intercession
DESCRIPTION:
URL:https://maisondadoration.org/agenda/louange-et-adoration/2030-09-18/
LOCATION:MDA\, Rue des Philosophes 2\, Yverdon-les-Bains\, 1400\, Suisse
CATEGORIES:Prière
END:VEVENT
BEGIN:VEVENT
DTSTART;TZID=Europe/Paris:20300925T100000
DTEND;TZID=Europe/Paris:20300925T113000
DTSTAMP:20260424T020122
CREATED:20241029T143619Z
LAST-MODIFIED:20241029T144032Z
UID:10007707-1916560800-1916566200@maisondadoration.org
SUMMARY:Louange et Intercession
DESCRIPTION:
URL:https://maisondadoration.org/agenda/louange-et-adoration/2030-09-25/
LOCATION:MDA\, Rue des Philosophes 2\, Yverdon-les-Bains\, 1400\, Suisse
CATEGORIES:Prière
END:VEVENT
BEGIN:VEVENT
DTSTART;TZID=Europe/Paris:20301002T100000
DTEND;TZID=Europe/Paris:20301002T113000
DTSTAMP:20260424T020122
CREATED:20241029T143619Z
LAST-MODIFIED:20241029T144032Z
UID:10007708-1917165600-1917171000@maisondadoration.org
SUMMARY:Louange et Intercession
DESCRIPTION:
URL:https://maisondadoration.org/agenda/louange-et-adoration/2030-10-02/
LOCATION:MDA\, Rue des Philosophes 2\, Yverdon-les-Bains\, 1400\, Suisse
CATEGORIES:Prière
END:VEVENT
BEGIN:VEVENT
DTSTART;TZID=Europe/Paris:20301009T100000
DTEND;TZID=Europe/Paris:20301009T113000
DTSTAMP:20260424T020122
CREATED:20241029T143619Z
LAST-MODIFIED:20241029T144032Z
UID:10007709-1917770400-1917775800@maisondadoration.org
SUMMARY:Louange et Intercession
DESCRIPTION:
URL:https://maisondadoration.org/agenda/louange-et-adoration/2030-10-09/
LOCATION:MDA\, Rue des Philosophes 2\, Yverdon-les-Bains\, 1400\, Suisse
CATEGORIES:Prière
END:VEVENT
BEGIN:VEVENT
DTSTART;TZID=Europe/Paris:20301016T100000
DTEND;TZID=Europe/Paris:20301016T113000
DTSTAMP:20260424T020122
CREATED:20241029T143619Z
LAST-MODIFIED:20241029T144032Z
UID:10007710-1918375200-1918380600@maisondadoration.org
SUMMARY:Louange et Intercession
DESCRIPTION:
URL:https://maisondadoration.org/agenda/louange-et-adoration/2030-10-16/
LOCATION:MDA\, Rue des Philosophes 2\, Yverdon-les-Bains\, 1400\, Suisse
CATEGORIES:Prière
END:VEVENT
BEGIN:VEVENT
DTSTART;TZID=Europe/Paris:20301023T100000
DTEND;TZID=Europe/Paris:20301023T113000
DTSTAMP:20260424T020122
CREATED:20241029T143619Z
LAST-MODIFIED:20241029T144032Z
UID:10007711-1918980000-1918985400@maisondadoration.org
SUMMARY:Louange et Intercession
DESCRIPTION:
URL:https://maisondadoration.org/agenda/louange-et-adoration/2030-10-23/
LOCATION:MDA\, Rue des Philosophes 2\, Yverdon-les-Bains\, 1400\, Suisse
CATEGORIES:Prière
END:VEVENT
BEGIN:VEVENT
DTSTART;TZID=Europe/Paris:20301030T100000
DTEND;TZID=Europe/Paris:20301030T113000
DTSTAMP:20260424T020122
CREATED:20241029T143619Z
LAST-MODIFIED:20241029T144032Z
UID:10007712-1919584800-1919590200@maisondadoration.org
SUMMARY:Louange et Intercession
DESCRIPTION:
URL:https://maisondadoration.org/agenda/louange-et-adoration/2030-10-30/
LOCATION:MDA\, Rue des Philosophes 2\, Yverdon-les-Bains\, 1400\, Suisse
CATEGORIES:Prière
END:VEVENT
BEGIN:VEVENT
DTSTART;TZID=Europe/Paris:20301106T100000
DTEND;TZID=Europe/Paris:20301106T113000
DTSTAMP:20260424T020122
CREATED:20241029T143619Z
LAST-MODIFIED:20241029T144032Z
UID:10007713-1920189600-1920195000@maisondadoration.org
SUMMARY:Louange et Intercession
DESCRIPTION:
URL:https://maisondadoration.org/agenda/louange-et-adoration/2030-11-06/
LOCATION:MDA\, Rue des Philosophes 2\, Yverdon-les-Bains\, 1400\, Suisse
CATEGORIES:Prière
END:VEVENT
BEGIN:VEVENT
DTSTART;TZID=Europe/Paris:20301113T100000
DTEND;TZID=Europe/Paris:20301113T113000
DTSTAMP:20260424T020122
CREATED:20241029T143619Z
LAST-MODIFIED:20241029T144032Z
UID:10007714-1920794400-1920799800@maisondadoration.org
SUMMARY:Louange et Intercession
DESCRIPTION:
URL:https://maisondadoration.org/agenda/louange-et-adoration/2030-11-13/
LOCATION:MDA\, Rue des Philosophes 2\, Yverdon-les-Bains\, 1400\, Suisse
CATEGORIES:Prière
END:VEVENT
BEGIN:VEVENT
DTSTART;TZID=Europe/Paris:20301120T100000
DTEND;TZID=Europe/Paris:20301120T113000
DTSTAMP:20260424T020122
CREATED:20241029T143619Z
LAST-MODIFIED:20241029T144032Z
UID:10007715-1921399200-1921404600@maisondadoration.org
SUMMARY:Louange et Intercession
DESCRIPTION:
URL:https://maisondadoration.org/agenda/louange-et-adoration/2030-11-20/
LOCATION:MDA\, Rue des Philosophes 2\, Yverdon-les-Bains\, 1400\, Suisse
CATEGORIES:Prière
END:VEVENT
BEGIN:VEVENT
DTSTART;TZID=Europe/Paris:20301127T100000
DTEND;TZID=Europe/Paris:20301127T113000
DTSTAMP:20260424T020122
CREATED:20241029T143619Z
LAST-MODIFIED:20241029T144032Z
UID:10007716-1922004000-1922009400@maisondadoration.org
SUMMARY:Louange et Intercession
DESCRIPTION:
URL:https://maisondadoration.org/agenda/louange-et-adoration/2030-11-27/
LOCATION:MDA\, Rue des Philosophes 2\, Yverdon-les-Bains\, 1400\, Suisse
CATEGORIES:Prière
END:VEVENT
BEGIN:VEVENT
DTSTART;TZID=Europe/Paris:20301204T100000
DTEND;TZID=Europe/Paris:20301204T113000
DTSTAMP:20260424T020122
CREATED:20241029T143619Z
LAST-MODIFIED:20241029T144032Z
UID:10007717-1922608800-1922614200@maisondadoration.org
SUMMARY:Louange et Intercession
DESCRIPTION:
URL:https://maisondadoration.org/agenda/louange-et-adoration/2030-12-04/
LOCATION:MDA\, Rue des Philosophes 2\, Yverdon-les-Bains\, 1400\, Suisse
CATEGORIES:Prière
END:VEVENT
BEGIN:VEVENT
DTSTART;TZID=Europe/Paris:20301211T100000
DTEND;TZID=Europe/Paris:20301211T113000
DTSTAMP:20260424T020122
CREATED:20241029T143619Z
LAST-MODIFIED:20241029T144032Z
UID:10007718-1923213600-1923219000@maisondadoration.org
SUMMARY:Louange et Intercession
DESCRIPTION:
URL:https://maisondadoration.org/agenda/louange-et-adoration/2030-12-11/
LOCATION:MDA\, Rue des Philosophes 2\, Yverdon-les-Bains\, 1400\, Suisse
CATEGORIES:Prière
END:VEVENT
BEGIN:VEVENT
DTSTART;TZID=Europe/Paris:20301218T100000
DTEND;TZID=Europe/Paris:20301218T113000
DTSTAMP:20260424T020122
CREATED:20241029T143619Z
LAST-MODIFIED:20241029T144032Z
UID:10007719-1923818400-1923823800@maisondadoration.org
SUMMARY:Louange et Intercession
DESCRIPTION:
URL:https://maisondadoration.org/agenda/louange-et-adoration/2030-12-18/
LOCATION:MDA\, Rue des Philosophes 2\, Yverdon-les-Bains\, 1400\, Suisse
CATEGORIES:Prière
END:VEVENT
BEGIN:VEVENT
DTSTART;TZID=Europe/Paris:20301225T100000
DTEND;TZID=Europe/Paris:20301225T113000
DTSTAMP:20260424T020122
CREATED:20241029T143619Z
LAST-MODIFIED:20241029T144032Z
UID:10007720-1924423200-1924428600@maisondadoration.org
SUMMARY:Louange et Intercession
DESCRIPTION:
URL:https://maisondadoration.org/agenda/louange-et-adoration/2030-12-25/
LOCATION:MDA\, Rue des Philosophes 2\, Yverdon-les-Bains\, 1400\, Suisse
CATEGORIES:Prière
END:VEVENT
BEGIN:VEVENT
DTSTART;TZID=Europe/Paris:20310101T100000
DTEND;TZID=Europe/Paris:20310101T113000
DTSTAMP:20260424T020122
CREATED:20241029T143619Z
LAST-MODIFIED:20241029T144032Z
UID:10007721-1925028000-1925033400@maisondadoration.org
SUMMARY:Louange et Intercession
DESCRIPTION:
URL:https://maisondadoration.org/agenda/louange-et-adoration/2031-01-01/
LOCATION:MDA\, Rue des Philosophes 2\, Yverdon-les-Bains\, 1400\, Suisse
CATEGORIES:Prière
END:VEVENT
BEGIN:VEVENT
DTSTART;TZID=Europe/Paris:20310108T100000
DTEND;TZID=Europe/Paris:20310108T113000
DTSTAMP:20260424T020122
CREATED:20241029T143619Z
LAST-MODIFIED:20241029T144032Z
UID:10007722-1925632800-1925638200@maisondadoration.org
SUMMARY:Louange et Intercession
DESCRIPTION:
URL:https://maisondadoration.org/agenda/louange-et-adoration/2031-01-08/
LOCATION:MDA\, Rue des Philosophes 2\, Yverdon-les-Bains\, 1400\, Suisse
CATEGORIES:Prière
END:VEVENT
END:VCALENDAR