BEGIN:VCALENDAR
VERSION:2.0
PRODID:-//MDA - Maison d&#039;adoration Yverdon - ECPv6.15.20//NONSGML v1.0//EN
CALSCALE:GREGORIAN
METHOD:PUBLISH
X-ORIGINAL-URL:https://maisondadoration.org
X-WR-CALDESC:Évènements pour MDA - Maison d&#039;adoration Yverdon
REFRESH-INTERVAL;VALUE=DURATION:PT1H
X-Robots-Tag:noindex
X-PUBLISHED-TTL:PT1H
BEGIN:VTIMEZONE
TZID:Europe/Paris
BEGIN:DAYLIGHT
TZOFFSETFROM:+0100
TZOFFSETTO:+0200
TZNAME:CEST
DTSTART:20270328T010000
END:DAYLIGHT
BEGIN:STANDARD
TZOFFSETFROM:+0200
TZOFFSETTO:+0100
TZNAME:CET
DTSTART:20271031T010000
END:STANDARD
BEGIN:DAYLIGHT
TZOFFSETFROM:+0100
TZOFFSETTO:+0200
TZNAME:CEST
DTSTART:20280326T010000
END:DAYLIGHT
BEGIN:STANDARD
TZOFFSETFROM:+0200
TZOFFSETTO:+0100
TZNAME:CET
DTSTART:20281029T010000
END:STANDARD
BEGIN:DAYLIGHT
TZOFFSETFROM:+0100
TZOFFSETTO:+0200
TZNAME:CEST
DTSTART:20290325T010000
END:DAYLIGHT
BEGIN:STANDARD
TZOFFSETFROM:+0200
TZOFFSETTO:+0100
TZNAME:CET
DTSTART:20291028T010000
END:STANDARD
BEGIN:DAYLIGHT
TZOFFSETFROM:+0100
TZOFFSETTO:+0200
TZNAME:CEST
DTSTART:20300331T010000
END:DAYLIGHT
BEGIN:STANDARD
TZOFFSETFROM:+0200
TZOFFSETTO:+0100
TZNAME:CET
DTSTART:20301027T010000
END:STANDARD
END:VTIMEZONE
BEGIN:VEVENT
DTSTART;TZID=Europe/Paris:20280816T100000
DTEND;TZID=Europe/Paris:20280816T113000
DTSTAMP:20260423T124339
CREATED:20241029T143619Z
LAST-MODIFIED:20241029T144032Z
UID:10001949-1850032800-1850038200@maisondadoration.org
SUMMARY:Louange et Intercession
DESCRIPTION:
URL:https://maisondadoration.org/agenda/louange-et-adoration/2028-08-16/
LOCATION:MDA\, Rue des Philosophes 2\, Yverdon-les-Bains\, 1400\, Suisse
CATEGORIES:Prière
END:VEVENT
BEGIN:VEVENT
DTSTART;TZID=Europe/Paris:20280823T100000
DTEND;TZID=Europe/Paris:20280823T113000
DTSTAMP:20260423T124339
CREATED:20241029T143619Z
LAST-MODIFIED:20241029T144032Z
UID:10001950-1850637600-1850643000@maisondadoration.org
SUMMARY:Louange et Intercession
DESCRIPTION:
URL:https://maisondadoration.org/agenda/louange-et-adoration/2028-08-23/
LOCATION:MDA\, Rue des Philosophes 2\, Yverdon-les-Bains\, 1400\, Suisse
CATEGORIES:Prière
END:VEVENT
BEGIN:VEVENT
DTSTART;TZID=Europe/Paris:20280830T100000
DTEND;TZID=Europe/Paris:20280830T113000
DTSTAMP:20260423T124339
CREATED:20241029T143619Z
LAST-MODIFIED:20241029T144032Z
UID:10001951-1851242400-1851247800@maisondadoration.org
SUMMARY:Louange et Intercession
DESCRIPTION:
URL:https://maisondadoration.org/agenda/louange-et-adoration/2028-08-30/
LOCATION:MDA\, Rue des Philosophes 2\, Yverdon-les-Bains\, 1400\, Suisse
CATEGORIES:Prière
END:VEVENT
BEGIN:VEVENT
DTSTART;TZID=Europe/Paris:20280906T100000
DTEND;TZID=Europe/Paris:20280906T113000
DTSTAMP:20260423T124339
CREATED:20241029T143619Z
LAST-MODIFIED:20241029T144032Z
UID:10001952-1851847200-1851852600@maisondadoration.org
SUMMARY:Louange et Intercession
DESCRIPTION:
URL:https://maisondadoration.org/agenda/louange-et-adoration/2028-09-06/
LOCATION:MDA\, Rue des Philosophes 2\, Yverdon-les-Bains\, 1400\, Suisse
CATEGORIES:Prière
END:VEVENT
BEGIN:VEVENT
DTSTART;TZID=Europe/Paris:20280913T100000
DTEND;TZID=Europe/Paris:20280913T113000
DTSTAMP:20260423T124339
CREATED:20241029T143619Z
LAST-MODIFIED:20241029T144032Z
UID:10001953-1852452000-1852457400@maisondadoration.org
SUMMARY:Louange et Intercession
DESCRIPTION:
URL:https://maisondadoration.org/agenda/louange-et-adoration/2028-09-13/
LOCATION:MDA\, Rue des Philosophes 2\, Yverdon-les-Bains\, 1400\, Suisse
CATEGORIES:Prière
END:VEVENT
BEGIN:VEVENT
DTSTART;TZID=Europe/Paris:20280920T100000
DTEND;TZID=Europe/Paris:20280920T113000
DTSTAMP:20260423T124339
CREATED:20241029T143619Z
LAST-MODIFIED:20241029T144032Z
UID:10001954-1853056800-1853062200@maisondadoration.org
SUMMARY:Louange et Intercession
DESCRIPTION:
URL:https://maisondadoration.org/agenda/louange-et-adoration/2028-09-20/
LOCATION:MDA\, Rue des Philosophes 2\, Yverdon-les-Bains\, 1400\, Suisse
CATEGORIES:Prière
END:VEVENT
BEGIN:VEVENT
DTSTART;TZID=Europe/Paris:20280927T100000
DTEND;TZID=Europe/Paris:20280927T113000
DTSTAMP:20260423T124339
CREATED:20241029T143619Z
LAST-MODIFIED:20241029T144032Z
UID:10001955-1853661600-1853667000@maisondadoration.org
SUMMARY:Louange et Intercession
DESCRIPTION:
URL:https://maisondadoration.org/agenda/louange-et-adoration/2028-09-27/
LOCATION:MDA\, Rue des Philosophes 2\, Yverdon-les-Bains\, 1400\, Suisse
CATEGORIES:Prière
END:VEVENT
BEGIN:VEVENT
DTSTART;TZID=Europe/Paris:20281004T100000
DTEND;TZID=Europe/Paris:20281004T113000
DTSTAMP:20260423T124339
CREATED:20241029T143619Z
LAST-MODIFIED:20241029T144032Z
UID:10001956-1854266400-1854271800@maisondadoration.org
SUMMARY:Louange et Intercession
DESCRIPTION:
URL:https://maisondadoration.org/agenda/louange-et-adoration/2028-10-04/
LOCATION:MDA\, Rue des Philosophes 2\, Yverdon-les-Bains\, 1400\, Suisse
CATEGORIES:Prière
END:VEVENT
BEGIN:VEVENT
DTSTART;TZID=Europe/Paris:20281011T100000
DTEND;TZID=Europe/Paris:20281011T113000
DTSTAMP:20260423T124339
CREATED:20241029T143619Z
LAST-MODIFIED:20241029T144032Z
UID:10001957-1854871200-1854876600@maisondadoration.org
SUMMARY:Louange et Intercession
DESCRIPTION:
URL:https://maisondadoration.org/agenda/louange-et-adoration/2028-10-11/
LOCATION:MDA\, Rue des Philosophes 2\, Yverdon-les-Bains\, 1400\, Suisse
CATEGORIES:Prière
END:VEVENT
BEGIN:VEVENT
DTSTART;TZID=Europe/Paris:20281018T100000
DTEND;TZID=Europe/Paris:20281018T113000
DTSTAMP:20260423T124339
CREATED:20241029T143619Z
LAST-MODIFIED:20241029T144032Z
UID:10001958-1855476000-1855481400@maisondadoration.org
SUMMARY:Louange et Intercession
DESCRIPTION:
URL:https://maisondadoration.org/agenda/louange-et-adoration/2028-10-18/
LOCATION:MDA\, Rue des Philosophes 2\, Yverdon-les-Bains\, 1400\, Suisse
CATEGORIES:Prière
END:VEVENT
BEGIN:VEVENT
DTSTART;TZID=Europe/Paris:20281025T100000
DTEND;TZID=Europe/Paris:20281025T113000
DTSTAMP:20260423T124339
CREATED:20241029T143619Z
LAST-MODIFIED:20241029T144032Z
UID:10001959-1856080800-1856086200@maisondadoration.org
SUMMARY:Louange et Intercession
DESCRIPTION:
URL:https://maisondadoration.org/agenda/louange-et-adoration/2028-10-25/
LOCATION:MDA\, Rue des Philosophes 2\, Yverdon-les-Bains\, 1400\, Suisse
CATEGORIES:Prière
END:VEVENT
BEGIN:VEVENT
DTSTART;TZID=Europe/Paris:20281101T100000
DTEND;TZID=Europe/Paris:20281101T113000
DTSTAMP:20260423T124339
CREATED:20241029T143619Z
LAST-MODIFIED:20241029T144032Z
UID:10001960-1856685600-1856691000@maisondadoration.org
SUMMARY:Louange et Intercession
DESCRIPTION:
URL:https://maisondadoration.org/agenda/louange-et-adoration/2028-11-01/
LOCATION:MDA\, Rue des Philosophes 2\, Yverdon-les-Bains\, 1400\, Suisse
CATEGORIES:Prière
END:VEVENT
BEGIN:VEVENT
DTSTART;TZID=Europe/Paris:20281108T100000
DTEND;TZID=Europe/Paris:20281108T113000
DTSTAMP:20260423T124339
CREATED:20241029T143619Z
LAST-MODIFIED:20241029T144032Z
UID:10001961-1857290400-1857295800@maisondadoration.org
SUMMARY:Louange et Intercession
DESCRIPTION:
URL:https://maisondadoration.org/agenda/louange-et-adoration/2028-11-08/
LOCATION:MDA\, Rue des Philosophes 2\, Yverdon-les-Bains\, 1400\, Suisse
CATEGORIES:Prière
END:VEVENT
BEGIN:VEVENT
DTSTART;TZID=Europe/Paris:20281115T100000
DTEND;TZID=Europe/Paris:20281115T113000
DTSTAMP:20260423T124339
CREATED:20241029T143619Z
LAST-MODIFIED:20241029T144032Z
UID:10001962-1857895200-1857900600@maisondadoration.org
SUMMARY:Louange et Intercession
DESCRIPTION:
URL:https://maisondadoration.org/agenda/louange-et-adoration/2028-11-15/
LOCATION:MDA\, Rue des Philosophes 2\, Yverdon-les-Bains\, 1400\, Suisse
CATEGORIES:Prière
END:VEVENT
BEGIN:VEVENT
DTSTART;TZID=Europe/Paris:20281122T100000
DTEND;TZID=Europe/Paris:20281122T113000
DTSTAMP:20260423T124339
CREATED:20241029T143619Z
LAST-MODIFIED:20241029T144032Z
UID:10001963-1858500000-1858505400@maisondadoration.org
SUMMARY:Louange et Intercession
DESCRIPTION:
URL:https://maisondadoration.org/agenda/louange-et-adoration/2028-11-22/
LOCATION:MDA\, Rue des Philosophes 2\, Yverdon-les-Bains\, 1400\, Suisse
CATEGORIES:Prière
END:VEVENT
BEGIN:VEVENT
DTSTART;TZID=Europe/Paris:20281129T100000
DTEND;TZID=Europe/Paris:20281129T113000
DTSTAMP:20260423T124339
CREATED:20241029T143619Z
LAST-MODIFIED:20241029T144032Z
UID:10001964-1859104800-1859110200@maisondadoration.org
SUMMARY:Louange et Intercession
DESCRIPTION:
URL:https://maisondadoration.org/agenda/louange-et-adoration/2028-11-29/
LOCATION:MDA\, Rue des Philosophes 2\, Yverdon-les-Bains\, 1400\, Suisse
CATEGORIES:Prière
END:VEVENT
BEGIN:VEVENT
DTSTART;TZID=Europe/Paris:20281206T100000
DTEND;TZID=Europe/Paris:20281206T113000
DTSTAMP:20260423T124339
CREATED:20241029T143619Z
LAST-MODIFIED:20241029T144032Z
UID:10001965-1859709600-1859715000@maisondadoration.org
SUMMARY:Louange et Intercession
DESCRIPTION:
URL:https://maisondadoration.org/agenda/louange-et-adoration/2028-12-06/
LOCATION:MDA\, Rue des Philosophes 2\, Yverdon-les-Bains\, 1400\, Suisse
CATEGORIES:Prière
END:VEVENT
BEGIN:VEVENT
DTSTART;TZID=Europe/Paris:20281213T100000
DTEND;TZID=Europe/Paris:20281213T113000
DTSTAMP:20260423T124339
CREATED:20241029T143619Z
LAST-MODIFIED:20241029T144032Z
UID:10001966-1860314400-1860319800@maisondadoration.org
SUMMARY:Louange et Intercession
DESCRIPTION:
URL:https://maisondadoration.org/agenda/louange-et-adoration/2028-12-13/
LOCATION:MDA\, Rue des Philosophes 2\, Yverdon-les-Bains\, 1400\, Suisse
CATEGORIES:Prière
END:VEVENT
BEGIN:VEVENT
DTSTART;TZID=Europe/Paris:20281220T100000
DTEND;TZID=Europe/Paris:20281220T113000
DTSTAMP:20260423T124339
CREATED:20241029T143619Z
LAST-MODIFIED:20241029T144032Z
UID:10001967-1860919200-1860924600@maisondadoration.org
SUMMARY:Louange et Intercession
DESCRIPTION:
URL:https://maisondadoration.org/agenda/louange-et-adoration/2028-12-20/
LOCATION:MDA\, Rue des Philosophes 2\, Yverdon-les-Bains\, 1400\, Suisse
CATEGORIES:Prière
END:VEVENT
BEGIN:VEVENT
DTSTART;TZID=Europe/Paris:20281227T100000
DTEND;TZID=Europe/Paris:20281227T113000
DTSTAMP:20260423T124339
CREATED:20241029T143619Z
LAST-MODIFIED:20241029T144032Z
UID:10001968-1861524000-1861529400@maisondadoration.org
SUMMARY:Louange et Intercession
DESCRIPTION:
URL:https://maisondadoration.org/agenda/louange-et-adoration/2028-12-27/
LOCATION:MDA\, Rue des Philosophes 2\, Yverdon-les-Bains\, 1400\, Suisse
CATEGORIES:Prière
END:VEVENT
BEGIN:VEVENT
DTSTART;TZID=Europe/Paris:20290103T100000
DTEND;TZID=Europe/Paris:20290103T113000
DTSTAMP:20260423T124339
CREATED:20241029T143619Z
LAST-MODIFIED:20241029T144032Z
UID:10001969-1862128800-1862134200@maisondadoration.org
SUMMARY:Louange et Intercession
DESCRIPTION:
URL:https://maisondadoration.org/agenda/louange-et-adoration/2029-01-03/
LOCATION:MDA\, Rue des Philosophes 2\, Yverdon-les-Bains\, 1400\, Suisse
CATEGORIES:Prière
END:VEVENT
BEGIN:VEVENT
DTSTART;TZID=Europe/Paris:20290110T100000
DTEND;TZID=Europe/Paris:20290110T113000
DTSTAMP:20260423T124339
CREATED:20241029T143619Z
LAST-MODIFIED:20241029T144032Z
UID:10001970-1862733600-1862739000@maisondadoration.org
SUMMARY:Louange et Intercession
DESCRIPTION:
URL:https://maisondadoration.org/agenda/louange-et-adoration/2029-01-10/
LOCATION:MDA\, Rue des Philosophes 2\, Yverdon-les-Bains\, 1400\, Suisse
CATEGORIES:Prière
END:VEVENT
BEGIN:VEVENT
DTSTART;TZID=Europe/Paris:20290117T100000
DTEND;TZID=Europe/Paris:20290117T113000
DTSTAMP:20260423T124339
CREATED:20241029T143619Z
LAST-MODIFIED:20241029T144032Z
UID:10001971-1863338400-1863343800@maisondadoration.org
SUMMARY:Louange et Intercession
DESCRIPTION:
URL:https://maisondadoration.org/agenda/louange-et-adoration/2029-01-17/
LOCATION:MDA\, Rue des Philosophes 2\, Yverdon-les-Bains\, 1400\, Suisse
CATEGORIES:Prière
END:VEVENT
BEGIN:VEVENT
DTSTART;TZID=Europe/Paris:20290124T100000
DTEND;TZID=Europe/Paris:20290124T113000
DTSTAMP:20260423T124339
CREATED:20241029T143619Z
LAST-MODIFIED:20241029T144032Z
UID:10001972-1863943200-1863948600@maisondadoration.org
SUMMARY:Louange et Intercession
DESCRIPTION:
URL:https://maisondadoration.org/agenda/louange-et-adoration/2029-01-24/
LOCATION:MDA\, Rue des Philosophes 2\, Yverdon-les-Bains\, 1400\, Suisse
CATEGORIES:Prière
END:VEVENT
BEGIN:VEVENT
DTSTART;TZID=Europe/Paris:20290131T100000
DTEND;TZID=Europe/Paris:20290131T113000
DTSTAMP:20260423T124339
CREATED:20241029T143619Z
LAST-MODIFIED:20241029T144032Z
UID:10001973-1864548000-1864553400@maisondadoration.org
SUMMARY:Louange et Intercession
DESCRIPTION:
URL:https://maisondadoration.org/agenda/louange-et-adoration/2029-01-31/
LOCATION:MDA\, Rue des Philosophes 2\, Yverdon-les-Bains\, 1400\, Suisse
CATEGORIES:Prière
END:VEVENT
BEGIN:VEVENT
DTSTART;TZID=Europe/Paris:20290207T100000
DTEND;TZID=Europe/Paris:20290207T113000
DTSTAMP:20260423T124339
CREATED:20241029T143619Z
LAST-MODIFIED:20241029T144032Z
UID:10001974-1865152800-1865158200@maisondadoration.org
SUMMARY:Louange et Intercession
DESCRIPTION:
URL:https://maisondadoration.org/agenda/louange-et-adoration/2029-02-07/
LOCATION:MDA\, Rue des Philosophes 2\, Yverdon-les-Bains\, 1400\, Suisse
CATEGORIES:Prière
END:VEVENT
BEGIN:VEVENT
DTSTART;TZID=Europe/Paris:20290214T100000
DTEND;TZID=Europe/Paris:20290214T113000
DTSTAMP:20260423T124339
CREATED:20241029T143619Z
LAST-MODIFIED:20241029T144032Z
UID:10001975-1865757600-1865763000@maisondadoration.org
SUMMARY:Louange et Intercession
DESCRIPTION:
URL:https://maisondadoration.org/agenda/louange-et-adoration/2029-02-14/
LOCATION:MDA\, Rue des Philosophes 2\, Yverdon-les-Bains\, 1400\, Suisse
CATEGORIES:Prière
END:VEVENT
BEGIN:VEVENT
DTSTART;TZID=Europe/Paris:20290221T100000
DTEND;TZID=Europe/Paris:20290221T113000
DTSTAMP:20260423T124339
CREATED:20241029T143619Z
LAST-MODIFIED:20241029T144032Z
UID:10001976-1866362400-1866367800@maisondadoration.org
SUMMARY:Louange et Intercession
DESCRIPTION:
URL:https://maisondadoration.org/agenda/louange-et-adoration/2029-02-21/
LOCATION:MDA\, Rue des Philosophes 2\, Yverdon-les-Bains\, 1400\, Suisse
CATEGORIES:Prière
END:VEVENT
BEGIN:VEVENT
DTSTART;TZID=Europe/Paris:20290228T100000
DTEND;TZID=Europe/Paris:20290228T113000
DTSTAMP:20260423T124339
CREATED:20241029T143619Z
LAST-MODIFIED:20241029T144032Z
UID:10001977-1866967200-1866972600@maisondadoration.org
SUMMARY:Louange et Intercession
DESCRIPTION:
URL:https://maisondadoration.org/agenda/louange-et-adoration/2029-02-28/
LOCATION:MDA\, Rue des Philosophes 2\, Yverdon-les-Bains\, 1400\, Suisse
CATEGORIES:Prière
END:VEVENT
BEGIN:VEVENT
DTSTART;TZID=Europe/Paris:20290307T100000
DTEND;TZID=Europe/Paris:20290307T113000
DTSTAMP:20260423T124339
CREATED:20241029T143619Z
LAST-MODIFIED:20241029T144032Z
UID:10001978-1867572000-1867577400@maisondadoration.org
SUMMARY:Louange et Intercession
DESCRIPTION:
URL:https://maisondadoration.org/agenda/louange-et-adoration/2029-03-07/
LOCATION:MDA\, Rue des Philosophes 2\, Yverdon-les-Bains\, 1400\, Suisse
CATEGORIES:Prière
END:VEVENT
END:VCALENDAR