BEGIN:VCALENDAR
VERSION:2.0
PRODID:-//MDA - Maison d&#039;adoration Yverdon - ECPv6.15.20//NONSGML v1.0//EN
CALSCALE:GREGORIAN
METHOD:PUBLISH
X-ORIGINAL-URL:https://maisondadoration.org
X-WR-CALDESC:Évènements pour MDA - Maison d&#039;adoration Yverdon
REFRESH-INTERVAL;VALUE=DURATION:PT1H
X-Robots-Tag:noindex
X-PUBLISHED-TTL:PT1H
BEGIN:VTIMEZONE
TZID:Europe/Paris
BEGIN:DAYLIGHT
TZOFFSETFROM:+0100
TZOFFSETTO:+0200
TZNAME:CEST
DTSTART:20250330T010000
END:DAYLIGHT
BEGIN:STANDARD
TZOFFSETFROM:+0200
TZOFFSETTO:+0100
TZNAME:CET
DTSTART:20251026T010000
END:STANDARD
BEGIN:DAYLIGHT
TZOFFSETFROM:+0100
TZOFFSETTO:+0200
TZNAME:CEST
DTSTART:20260329T010000
END:DAYLIGHT
BEGIN:STANDARD
TZOFFSETFROM:+0200
TZOFFSETTO:+0100
TZNAME:CET
DTSTART:20261025T010000
END:STANDARD
BEGIN:DAYLIGHT
TZOFFSETFROM:+0100
TZOFFSETTO:+0200
TZNAME:CEST
DTSTART:20270328T010000
END:DAYLIGHT
BEGIN:STANDARD
TZOFFSETFROM:+0200
TZOFFSETTO:+0100
TZNAME:CET
DTSTART:20271031T010000
END:STANDARD
END:VTIMEZONE
BEGIN:VEVENT
DTSTART;TZID=Europe/Paris:20260204T100000
DTEND;TZID=Europe/Paris:20260204T113000
DTSTAMP:20260423T013249
CREATED:20241029T143619Z
LAST-MODIFIED:20241029T144032Z
UID:10001817-1770199200-1770204600@maisondadoration.org
SUMMARY:Louange et Intercession
DESCRIPTION:
URL:https://maisondadoration.org/agenda/louange-et-adoration/2026-02-04/
LOCATION:MDA\, Rue des Philosophes 2\, Yverdon-les-Bains\, 1400\, Suisse
CATEGORIES:Prière
END:VEVENT
BEGIN:VEVENT
DTSTART;TZID=Europe/Paris:20260211T100000
DTEND;TZID=Europe/Paris:20260211T113000
DTSTAMP:20260423T013249
CREATED:20241029T143619Z
LAST-MODIFIED:20241029T144032Z
UID:10001818-1770804000-1770809400@maisondadoration.org
SUMMARY:Louange et Intercession
DESCRIPTION:
URL:https://maisondadoration.org/agenda/louange-et-adoration/2026-02-11/
LOCATION:MDA\, Rue des Philosophes 2\, Yverdon-les-Bains\, 1400\, Suisse
CATEGORIES:Prière
END:VEVENT
BEGIN:VEVENT
DTSTART;TZID=Europe/Paris:20260218T100000
DTEND;TZID=Europe/Paris:20260218T113000
DTSTAMP:20260423T013249
CREATED:20241029T143619Z
LAST-MODIFIED:20241029T144032Z
UID:10001819-1771408800-1771414200@maisondadoration.org
SUMMARY:Louange et Intercession
DESCRIPTION:
URL:https://maisondadoration.org/agenda/louange-et-adoration/2026-02-18/
LOCATION:MDA\, Rue des Philosophes 2\, Yverdon-les-Bains\, 1400\, Suisse
CATEGORIES:Prière
END:VEVENT
BEGIN:VEVENT
DTSTART;TZID=Europe/Paris:20260225T100000
DTEND;TZID=Europe/Paris:20260225T113000
DTSTAMP:20260423T013249
CREATED:20241029T143619Z
LAST-MODIFIED:20241029T144032Z
UID:10001820-1772013600-1772019000@maisondadoration.org
SUMMARY:Louange et Intercession
DESCRIPTION:
URL:https://maisondadoration.org/agenda/louange-et-adoration/2026-02-25/
LOCATION:MDA\, Rue des Philosophes 2\, Yverdon-les-Bains\, 1400\, Suisse
CATEGORIES:Prière
END:VEVENT
BEGIN:VEVENT
DTSTART;TZID=Europe/Paris:20260304T100000
DTEND;TZID=Europe/Paris:20260304T113000
DTSTAMP:20260423T013249
CREATED:20241029T143619Z
LAST-MODIFIED:20241029T144032Z
UID:10001821-1772618400-1772623800@maisondadoration.org
SUMMARY:Louange et Intercession
DESCRIPTION:
URL:https://maisondadoration.org/agenda/louange-et-adoration/2026-03-04/
LOCATION:MDA\, Rue des Philosophes 2\, Yverdon-les-Bains\, 1400\, Suisse
CATEGORIES:Prière
END:VEVENT
BEGIN:VEVENT
DTSTART;TZID=Europe/Paris:20260311T100000
DTEND;TZID=Europe/Paris:20260311T113000
DTSTAMP:20260423T013249
CREATED:20241029T143619Z
LAST-MODIFIED:20241029T144032Z
UID:10001822-1773223200-1773228600@maisondadoration.org
SUMMARY:Louange et Intercession
DESCRIPTION:
URL:https://maisondadoration.org/agenda/louange-et-adoration/2026-03-11/
LOCATION:MDA\, Rue des Philosophes 2\, Yverdon-les-Bains\, 1400\, Suisse
CATEGORIES:Prière
END:VEVENT
BEGIN:VEVENT
DTSTART;TZID=Europe/Paris:20260318T100000
DTEND;TZID=Europe/Paris:20260318T113000
DTSTAMP:20260423T013249
CREATED:20241029T143619Z
LAST-MODIFIED:20241029T144032Z
UID:10001823-1773828000-1773833400@maisondadoration.org
SUMMARY:Louange et Intercession
DESCRIPTION:
URL:https://maisondadoration.org/agenda/louange-et-adoration/2026-03-18/
LOCATION:MDA\, Rue des Philosophes 2\, Yverdon-les-Bains\, 1400\, Suisse
CATEGORIES:Prière
END:VEVENT
BEGIN:VEVENT
DTSTART;TZID=Europe/Paris:20260325T100000
DTEND;TZID=Europe/Paris:20260325T113000
DTSTAMP:20260423T013249
CREATED:20241029T143619Z
LAST-MODIFIED:20241029T144032Z
UID:10001824-1774432800-1774438200@maisondadoration.org
SUMMARY:Louange et Intercession
DESCRIPTION:
URL:https://maisondadoration.org/agenda/louange-et-adoration/2026-03-25/
LOCATION:MDA\, Rue des Philosophes 2\, Yverdon-les-Bains\, 1400\, Suisse
CATEGORIES:Prière
END:VEVENT
BEGIN:VEVENT
DTSTART;TZID=Europe/Paris:20260401T100000
DTEND;TZID=Europe/Paris:20260401T113000
DTSTAMP:20260423T013249
CREATED:20241029T143619Z
LAST-MODIFIED:20241029T144032Z
UID:10001825-1775037600-1775043000@maisondadoration.org
SUMMARY:Louange et Intercession
DESCRIPTION:
URL:https://maisondadoration.org/agenda/louange-et-adoration/2026-04-01/
LOCATION:MDA\, Rue des Philosophes 2\, Yverdon-les-Bains\, 1400\, Suisse
CATEGORIES:Prière
END:VEVENT
BEGIN:VEVENT
DTSTART;TZID=Europe/Paris:20260408T100000
DTEND;TZID=Europe/Paris:20260408T113000
DTSTAMP:20260423T013249
CREATED:20241029T143619Z
LAST-MODIFIED:20241029T144032Z
UID:10001826-1775642400-1775647800@maisondadoration.org
SUMMARY:Louange et Intercession
DESCRIPTION:
URL:https://maisondadoration.org/agenda/louange-et-adoration/2026-04-08/
LOCATION:MDA\, Rue des Philosophes 2\, Yverdon-les-Bains\, 1400\, Suisse
CATEGORIES:Prière
END:VEVENT
BEGIN:VEVENT
DTSTART;TZID=Europe/Paris:20260415T100000
DTEND;TZID=Europe/Paris:20260415T113000
DTSTAMP:20260423T013249
CREATED:20241029T143619Z
LAST-MODIFIED:20241029T144032Z
UID:10001827-1776247200-1776252600@maisondadoration.org
SUMMARY:Louange et Intercession
DESCRIPTION:
URL:https://maisondadoration.org/agenda/louange-et-adoration/2026-04-15/
LOCATION:MDA\, Rue des Philosophes 2\, Yverdon-les-Bains\, 1400\, Suisse
CATEGORIES:Prière
END:VEVENT
BEGIN:VEVENT
DTSTART;TZID=Europe/Paris:20260422T100000
DTEND;TZID=Europe/Paris:20260422T113000
DTSTAMP:20260423T013249
CREATED:20241029T143619Z
LAST-MODIFIED:20241029T144032Z
UID:10001828-1776852000-1776857400@maisondadoration.org
SUMMARY:Louange et Intercession
DESCRIPTION:
URL:https://maisondadoration.org/agenda/louange-et-adoration/2026-04-22/
LOCATION:MDA\, Rue des Philosophes 2\, Yverdon-les-Bains\, 1400\, Suisse
CATEGORIES:Prière
END:VEVENT
BEGIN:VEVENT
DTSTART;TZID=Europe/Paris:20260429T100000
DTEND;TZID=Europe/Paris:20260429T113000
DTSTAMP:20260423T013249
CREATED:20241029T143619Z
LAST-MODIFIED:20241029T144032Z
UID:10001829-1777456800-1777462200@maisondadoration.org
SUMMARY:Louange et Intercession
DESCRIPTION:
URL:https://maisondadoration.org/agenda/louange-et-adoration/2026-04-29/
LOCATION:MDA\, Rue des Philosophes 2\, Yverdon-les-Bains\, 1400\, Suisse
CATEGORIES:Prière
END:VEVENT
BEGIN:VEVENT
DTSTART;TZID=Europe/Paris:20260506T100000
DTEND;TZID=Europe/Paris:20260506T113000
DTSTAMP:20260423T013249
CREATED:20241029T143619Z
LAST-MODIFIED:20241029T144032Z
UID:10001830-1778061600-1778067000@maisondadoration.org
SUMMARY:Louange et Intercession
DESCRIPTION:
URL:https://maisondadoration.org/agenda/louange-et-adoration/2026-05-06/
LOCATION:MDA\, Rue des Philosophes 2\, Yverdon-les-Bains\, 1400\, Suisse
CATEGORIES:Prière
END:VEVENT
BEGIN:VEVENT
DTSTART;TZID=Europe/Paris:20260513T100000
DTEND;TZID=Europe/Paris:20260513T113000
DTSTAMP:20260423T013249
CREATED:20241029T143619Z
LAST-MODIFIED:20241029T144032Z
UID:10001831-1778666400-1778671800@maisondadoration.org
SUMMARY:Louange et Intercession
DESCRIPTION:
URL:https://maisondadoration.org/agenda/louange-et-adoration/2026-05-13/
LOCATION:MDA\, Rue des Philosophes 2\, Yverdon-les-Bains\, 1400\, Suisse
CATEGORIES:Prière
END:VEVENT
BEGIN:VEVENT
DTSTART;TZID=Europe/Paris:20260520T100000
DTEND;TZID=Europe/Paris:20260520T113000
DTSTAMP:20260423T013249
CREATED:20241029T143619Z
LAST-MODIFIED:20241029T144032Z
UID:10001832-1779271200-1779276600@maisondadoration.org
SUMMARY:Louange et Intercession
DESCRIPTION:
URL:https://maisondadoration.org/agenda/louange-et-adoration/2026-05-20/
LOCATION:MDA\, Rue des Philosophes 2\, Yverdon-les-Bains\, 1400\, Suisse
CATEGORIES:Prière
END:VEVENT
BEGIN:VEVENT
DTSTART;TZID=Europe/Paris:20260527T100000
DTEND;TZID=Europe/Paris:20260527T113000
DTSTAMP:20260423T013249
CREATED:20241029T143619Z
LAST-MODIFIED:20241029T144032Z
UID:10001833-1779876000-1779881400@maisondadoration.org
SUMMARY:Louange et Intercession
DESCRIPTION:
URL:https://maisondadoration.org/agenda/louange-et-adoration/2026-05-27/
LOCATION:MDA\, Rue des Philosophes 2\, Yverdon-les-Bains\, 1400\, Suisse
CATEGORIES:Prière
END:VEVENT
BEGIN:VEVENT
DTSTART;TZID=Europe/Paris:20260603T100000
DTEND;TZID=Europe/Paris:20260603T113000
DTSTAMP:20260423T013249
CREATED:20241029T143619Z
LAST-MODIFIED:20241029T144032Z
UID:10001834-1780480800-1780486200@maisondadoration.org
SUMMARY:Louange et Intercession
DESCRIPTION:
URL:https://maisondadoration.org/agenda/louange-et-adoration/2026-06-03/
LOCATION:MDA\, Rue des Philosophes 2\, Yverdon-les-Bains\, 1400\, Suisse
CATEGORIES:Prière
END:VEVENT
BEGIN:VEVENT
DTSTART;TZID=Europe/Paris:20260610T100000
DTEND;TZID=Europe/Paris:20260610T113000
DTSTAMP:20260423T013249
CREATED:20241029T143619Z
LAST-MODIFIED:20241029T144032Z
UID:10001835-1781085600-1781091000@maisondadoration.org
SUMMARY:Louange et Intercession
DESCRIPTION:
URL:https://maisondadoration.org/agenda/louange-et-adoration/2026-06-10/
LOCATION:MDA\, Rue des Philosophes 2\, Yverdon-les-Bains\, 1400\, Suisse
CATEGORIES:Prière
END:VEVENT
BEGIN:VEVENT
DTSTART;TZID=Europe/Paris:20260617T100000
DTEND;TZID=Europe/Paris:20260617T113000
DTSTAMP:20260423T013249
CREATED:20241029T143619Z
LAST-MODIFIED:20241029T144032Z
UID:10001836-1781690400-1781695800@maisondadoration.org
SUMMARY:Louange et Intercession
DESCRIPTION:
URL:https://maisondadoration.org/agenda/louange-et-adoration/2026-06-17/
LOCATION:MDA\, Rue des Philosophes 2\, Yverdon-les-Bains\, 1400\, Suisse
CATEGORIES:Prière
END:VEVENT
BEGIN:VEVENT
DTSTART;TZID=Europe/Paris:20260624T100000
DTEND;TZID=Europe/Paris:20260624T113000
DTSTAMP:20260423T013249
CREATED:20241029T143619Z
LAST-MODIFIED:20241029T144032Z
UID:10001837-1782295200-1782300600@maisondadoration.org
SUMMARY:Louange et Intercession
DESCRIPTION:
URL:https://maisondadoration.org/agenda/louange-et-adoration/2026-06-24/
LOCATION:MDA\, Rue des Philosophes 2\, Yverdon-les-Bains\, 1400\, Suisse
CATEGORIES:Prière
END:VEVENT
BEGIN:VEVENT
DTSTART;TZID=Europe/Paris:20260701T100000
DTEND;TZID=Europe/Paris:20260701T113000
DTSTAMP:20260423T013249
CREATED:20241029T143619Z
LAST-MODIFIED:20241029T144032Z
UID:10001838-1782900000-1782905400@maisondadoration.org
SUMMARY:Louange et Intercession
DESCRIPTION:
URL:https://maisondadoration.org/agenda/louange-et-adoration/2026-07-01/
LOCATION:MDA\, Rue des Philosophes 2\, Yverdon-les-Bains\, 1400\, Suisse
CATEGORIES:Prière
END:VEVENT
BEGIN:VEVENT
DTSTART;TZID=Europe/Paris:20260708T100000
DTEND;TZID=Europe/Paris:20260708T113000
DTSTAMP:20260423T013249
CREATED:20241029T143619Z
LAST-MODIFIED:20241029T144032Z
UID:10001839-1783504800-1783510200@maisondadoration.org
SUMMARY:Louange et Intercession
DESCRIPTION:
URL:https://maisondadoration.org/agenda/louange-et-adoration/2026-07-08/
LOCATION:MDA\, Rue des Philosophes 2\, Yverdon-les-Bains\, 1400\, Suisse
CATEGORIES:Prière
END:VEVENT
BEGIN:VEVENT
DTSTART;TZID=Europe/Paris:20260715T100000
DTEND;TZID=Europe/Paris:20260715T113000
DTSTAMP:20260423T013249
CREATED:20241029T143619Z
LAST-MODIFIED:20241029T144032Z
UID:10001840-1784109600-1784115000@maisondadoration.org
SUMMARY:Louange et Intercession
DESCRIPTION:
URL:https://maisondadoration.org/agenda/louange-et-adoration/2026-07-15/
LOCATION:MDA\, Rue des Philosophes 2\, Yverdon-les-Bains\, 1400\, Suisse
CATEGORIES:Prière
END:VEVENT
BEGIN:VEVENT
DTSTART;TZID=Europe/Paris:20260722T100000
DTEND;TZID=Europe/Paris:20260722T113000
DTSTAMP:20260423T013249
CREATED:20241029T143619Z
LAST-MODIFIED:20241029T144032Z
UID:10001841-1784714400-1784719800@maisondadoration.org
SUMMARY:Louange et Intercession
DESCRIPTION:
URL:https://maisondadoration.org/agenda/louange-et-adoration/2026-07-22/
LOCATION:MDA\, Rue des Philosophes 2\, Yverdon-les-Bains\, 1400\, Suisse
CATEGORIES:Prière
END:VEVENT
BEGIN:VEVENT
DTSTART;TZID=Europe/Paris:20260729T100000
DTEND;TZID=Europe/Paris:20260729T113000
DTSTAMP:20260423T013249
CREATED:20241029T143619Z
LAST-MODIFIED:20241029T144032Z
UID:10001842-1785319200-1785324600@maisondadoration.org
SUMMARY:Louange et Intercession
DESCRIPTION:
URL:https://maisondadoration.org/agenda/louange-et-adoration/2026-07-29/
LOCATION:MDA\, Rue des Philosophes 2\, Yverdon-les-Bains\, 1400\, Suisse
CATEGORIES:Prière
END:VEVENT
BEGIN:VEVENT
DTSTART;TZID=Europe/Paris:20260805T100000
DTEND;TZID=Europe/Paris:20260805T113000
DTSTAMP:20260423T013249
CREATED:20241029T143619Z
LAST-MODIFIED:20241029T144032Z
UID:10001843-1785924000-1785929400@maisondadoration.org
SUMMARY:Louange et Intercession
DESCRIPTION:
URL:https://maisondadoration.org/agenda/louange-et-adoration/2026-08-05/
LOCATION:MDA\, Rue des Philosophes 2\, Yverdon-les-Bains\, 1400\, Suisse
CATEGORIES:Prière
END:VEVENT
BEGIN:VEVENT
DTSTART;TZID=Europe/Paris:20260812T100000
DTEND;TZID=Europe/Paris:20260812T113000
DTSTAMP:20260423T013249
CREATED:20241029T143619Z
LAST-MODIFIED:20241029T144032Z
UID:10001844-1786528800-1786534200@maisondadoration.org
SUMMARY:Louange et Intercession
DESCRIPTION:
URL:https://maisondadoration.org/agenda/louange-et-adoration/2026-08-12/
LOCATION:MDA\, Rue des Philosophes 2\, Yverdon-les-Bains\, 1400\, Suisse
CATEGORIES:Prière
END:VEVENT
BEGIN:VEVENT
DTSTART;TZID=Europe/Paris:20260819T100000
DTEND;TZID=Europe/Paris:20260819T113000
DTSTAMP:20260423T013249
CREATED:20241029T143619Z
LAST-MODIFIED:20241029T144032Z
UID:10001845-1787133600-1787139000@maisondadoration.org
SUMMARY:Louange et Intercession
DESCRIPTION:
URL:https://maisondadoration.org/agenda/louange-et-adoration/2026-08-19/
LOCATION:MDA\, Rue des Philosophes 2\, Yverdon-les-Bains\, 1400\, Suisse
CATEGORIES:Prière
END:VEVENT
BEGIN:VEVENT
DTSTART;TZID=Europe/Paris:20260826T100000
DTEND;TZID=Europe/Paris:20260826T113000
DTSTAMP:20260423T013249
CREATED:20241029T143619Z
LAST-MODIFIED:20241029T144032Z
UID:10001846-1787738400-1787743800@maisondadoration.org
SUMMARY:Louange et Intercession
DESCRIPTION:
URL:https://maisondadoration.org/agenda/louange-et-adoration/2026-08-26/
LOCATION:MDA\, Rue des Philosophes 2\, Yverdon-les-Bains\, 1400\, Suisse
CATEGORIES:Prière
END:VEVENT
END:VCALENDAR