BEGIN:VCALENDAR
VERSION:2.0
PRODID:-//MDA - Maison d&#039;adoration Yverdon - ECPv6.15.20//NONSGML v1.0//EN
CALSCALE:GREGORIAN
METHOD:PUBLISH
X-WR-CALNAME:MDA - Maison d&#039;adoration Yverdon
X-ORIGINAL-URL:https://maisondadoration.org
X-WR-CALDESC:Évènements pour MDA - Maison d&#039;adoration Yverdon
REFRESH-INTERVAL;VALUE=DURATION:PT1H
X-Robots-Tag:noindex
X-PUBLISHED-TTL:PT1H
BEGIN:VTIMEZONE
TZID:Europe/Paris
BEGIN:DAYLIGHT
TZOFFSETFROM:+0100
TZOFFSETTO:+0200
TZNAME:CEST
DTSTART:20260329T010000
END:DAYLIGHT
BEGIN:STANDARD
TZOFFSETFROM:+0200
TZOFFSETTO:+0100
TZNAME:CET
DTSTART:20261025T010000
END:STANDARD
BEGIN:DAYLIGHT
TZOFFSETFROM:+0100
TZOFFSETTO:+0200
TZNAME:CEST
DTSTART:20270328T010000
END:DAYLIGHT
BEGIN:STANDARD
TZOFFSETFROM:+0200
TZOFFSETTO:+0100
TZNAME:CET
DTSTART:20271031T010000
END:STANDARD
BEGIN:DAYLIGHT
TZOFFSETFROM:+0100
TZOFFSETTO:+0200
TZNAME:CEST
DTSTART:20280326T010000
END:DAYLIGHT
BEGIN:STANDARD
TZOFFSETFROM:+0200
TZOFFSETTO:+0100
TZNAME:CET
DTSTART:20281029T010000
END:STANDARD
END:VTIMEZONE
BEGIN:VEVENT
DTSTART;TZID=Europe/Paris:20270407T100000
DTEND;TZID=Europe/Paris:20270407T113000
DTSTAMP:20260423T064140
CREATED:20241029T143619Z
LAST-MODIFIED:20241029T144032Z
UID:10001878-1807092000-1807097400@maisondadoration.org
SUMMARY:Louange et Intercession
DESCRIPTION:
URL:https://maisondadoration.org/agenda/louange-et-adoration/2027-04-07/
LOCATION:MDA\, Rue des Philosophes 2\, Yverdon-les-Bains\, 1400\, Suisse
CATEGORIES:Prière
END:VEVENT
BEGIN:VEVENT
DTSTART;TZID=Europe/Paris:20270414T100000
DTEND;TZID=Europe/Paris:20270414T113000
DTSTAMP:20260423T064140
CREATED:20241029T143619Z
LAST-MODIFIED:20241029T144032Z
UID:10001879-1807696800-1807702200@maisondadoration.org
SUMMARY:Louange et Intercession
DESCRIPTION:
URL:https://maisondadoration.org/agenda/louange-et-adoration/2027-04-14/
LOCATION:MDA\, Rue des Philosophes 2\, Yverdon-les-Bains\, 1400\, Suisse
CATEGORIES:Prière
END:VEVENT
BEGIN:VEVENT
DTSTART;TZID=Europe/Paris:20270421T100000
DTEND;TZID=Europe/Paris:20270421T113000
DTSTAMP:20260423T064140
CREATED:20241029T143619Z
LAST-MODIFIED:20241029T144032Z
UID:10001880-1808301600-1808307000@maisondadoration.org
SUMMARY:Louange et Intercession
DESCRIPTION:
URL:https://maisondadoration.org/agenda/louange-et-adoration/2027-04-21/
LOCATION:MDA\, Rue des Philosophes 2\, Yverdon-les-Bains\, 1400\, Suisse
CATEGORIES:Prière
END:VEVENT
BEGIN:VEVENT
DTSTART;TZID=Europe/Paris:20270428T100000
DTEND;TZID=Europe/Paris:20270428T113000
DTSTAMP:20260423T064140
CREATED:20241029T143619Z
LAST-MODIFIED:20241029T144032Z
UID:10001881-1808906400-1808911800@maisondadoration.org
SUMMARY:Louange et Intercession
DESCRIPTION:
URL:https://maisondadoration.org/agenda/louange-et-adoration/2027-04-28/
LOCATION:MDA\, Rue des Philosophes 2\, Yverdon-les-Bains\, 1400\, Suisse
CATEGORIES:Prière
END:VEVENT
BEGIN:VEVENT
DTSTART;TZID=Europe/Paris:20270505T100000
DTEND;TZID=Europe/Paris:20270505T113000
DTSTAMP:20260423T064140
CREATED:20241029T143619Z
LAST-MODIFIED:20241029T144032Z
UID:10001882-1809511200-1809516600@maisondadoration.org
SUMMARY:Louange et Intercession
DESCRIPTION:
URL:https://maisondadoration.org/agenda/louange-et-adoration/2027-05-05/
LOCATION:MDA\, Rue des Philosophes 2\, Yverdon-les-Bains\, 1400\, Suisse
CATEGORIES:Prière
END:VEVENT
BEGIN:VEVENT
DTSTART;TZID=Europe/Paris:20270512T100000
DTEND;TZID=Europe/Paris:20270512T113000
DTSTAMP:20260423T064140
CREATED:20241029T143619Z
LAST-MODIFIED:20241029T144032Z
UID:10001883-1810116000-1810121400@maisondadoration.org
SUMMARY:Louange et Intercession
DESCRIPTION:
URL:https://maisondadoration.org/agenda/louange-et-adoration/2027-05-12/
LOCATION:MDA\, Rue des Philosophes 2\, Yverdon-les-Bains\, 1400\, Suisse
CATEGORIES:Prière
END:VEVENT
BEGIN:VEVENT
DTSTART;TZID=Europe/Paris:20270519T100000
DTEND;TZID=Europe/Paris:20270519T113000
DTSTAMP:20260423T064140
CREATED:20241029T143619Z
LAST-MODIFIED:20241029T144032Z
UID:10001884-1810720800-1810726200@maisondadoration.org
SUMMARY:Louange et Intercession
DESCRIPTION:
URL:https://maisondadoration.org/agenda/louange-et-adoration/2027-05-19/
LOCATION:MDA\, Rue des Philosophes 2\, Yverdon-les-Bains\, 1400\, Suisse
CATEGORIES:Prière
END:VEVENT
BEGIN:VEVENT
DTSTART;TZID=Europe/Paris:20270526T100000
DTEND;TZID=Europe/Paris:20270526T113000
DTSTAMP:20260423T064140
CREATED:20241029T143619Z
LAST-MODIFIED:20241029T144032Z
UID:10001885-1811325600-1811331000@maisondadoration.org
SUMMARY:Louange et Intercession
DESCRIPTION:
URL:https://maisondadoration.org/agenda/louange-et-adoration/2027-05-26/
LOCATION:MDA\, Rue des Philosophes 2\, Yverdon-les-Bains\, 1400\, Suisse
CATEGORIES:Prière
END:VEVENT
BEGIN:VEVENT
DTSTART;TZID=Europe/Paris:20270602T100000
DTEND;TZID=Europe/Paris:20270602T113000
DTSTAMP:20260423T064140
CREATED:20241029T143619Z
LAST-MODIFIED:20241029T144032Z
UID:10001886-1811930400-1811935800@maisondadoration.org
SUMMARY:Louange et Intercession
DESCRIPTION:
URL:https://maisondadoration.org/agenda/louange-et-adoration/2027-06-02/
LOCATION:MDA\, Rue des Philosophes 2\, Yverdon-les-Bains\, 1400\, Suisse
CATEGORIES:Prière
END:VEVENT
BEGIN:VEVENT
DTSTART;TZID=Europe/Paris:20270609T100000
DTEND;TZID=Europe/Paris:20270609T113000
DTSTAMP:20260423T064140
CREATED:20241029T143619Z
LAST-MODIFIED:20241029T144032Z
UID:10001887-1812535200-1812540600@maisondadoration.org
SUMMARY:Louange et Intercession
DESCRIPTION:
URL:https://maisondadoration.org/agenda/louange-et-adoration/2027-06-09/
LOCATION:MDA\, Rue des Philosophes 2\, Yverdon-les-Bains\, 1400\, Suisse
CATEGORIES:Prière
END:VEVENT
BEGIN:VEVENT
DTSTART;TZID=Europe/Paris:20270616T100000
DTEND;TZID=Europe/Paris:20270616T113000
DTSTAMP:20260423T064140
CREATED:20241029T143619Z
LAST-MODIFIED:20241029T144032Z
UID:10001888-1813140000-1813145400@maisondadoration.org
SUMMARY:Louange et Intercession
DESCRIPTION:
URL:https://maisondadoration.org/agenda/louange-et-adoration/2027-06-16/
LOCATION:MDA\, Rue des Philosophes 2\, Yverdon-les-Bains\, 1400\, Suisse
CATEGORIES:Prière
END:VEVENT
BEGIN:VEVENT
DTSTART;TZID=Europe/Paris:20270623T100000
DTEND;TZID=Europe/Paris:20270623T113000
DTSTAMP:20260423T064140
CREATED:20241029T143619Z
LAST-MODIFIED:20241029T144032Z
UID:10001889-1813744800-1813750200@maisondadoration.org
SUMMARY:Louange et Intercession
DESCRIPTION:
URL:https://maisondadoration.org/agenda/louange-et-adoration/2027-06-23/
LOCATION:MDA\, Rue des Philosophes 2\, Yverdon-les-Bains\, 1400\, Suisse
CATEGORIES:Prière
END:VEVENT
BEGIN:VEVENT
DTSTART;TZID=Europe/Paris:20270630T100000
DTEND;TZID=Europe/Paris:20270630T113000
DTSTAMP:20260423T064140
CREATED:20241029T143619Z
LAST-MODIFIED:20241029T144032Z
UID:10001890-1814349600-1814355000@maisondadoration.org
SUMMARY:Louange et Intercession
DESCRIPTION:
URL:https://maisondadoration.org/agenda/louange-et-adoration/2027-06-30/
LOCATION:MDA\, Rue des Philosophes 2\, Yverdon-les-Bains\, 1400\, Suisse
CATEGORIES:Prière
END:VEVENT
BEGIN:VEVENT
DTSTART;TZID=Europe/Paris:20270707T100000
DTEND;TZID=Europe/Paris:20270707T113000
DTSTAMP:20260423T064140
CREATED:20241029T143619Z
LAST-MODIFIED:20241029T144032Z
UID:10001891-1814954400-1814959800@maisondadoration.org
SUMMARY:Louange et Intercession
DESCRIPTION:
URL:https://maisondadoration.org/agenda/louange-et-adoration/2027-07-07/
LOCATION:MDA\, Rue des Philosophes 2\, Yverdon-les-Bains\, 1400\, Suisse
CATEGORIES:Prière
END:VEVENT
BEGIN:VEVENT
DTSTART;TZID=Europe/Paris:20270714T100000
DTEND;TZID=Europe/Paris:20270714T113000
DTSTAMP:20260423T064140
CREATED:20241029T143619Z
LAST-MODIFIED:20241029T144032Z
UID:10001892-1815559200-1815564600@maisondadoration.org
SUMMARY:Louange et Intercession
DESCRIPTION:
URL:https://maisondadoration.org/agenda/louange-et-adoration/2027-07-14/
LOCATION:MDA\, Rue des Philosophes 2\, Yverdon-les-Bains\, 1400\, Suisse
CATEGORIES:Prière
END:VEVENT
BEGIN:VEVENT
DTSTART;TZID=Europe/Paris:20270721T100000
DTEND;TZID=Europe/Paris:20270721T113000
DTSTAMP:20260423T064140
CREATED:20241029T143619Z
LAST-MODIFIED:20241029T144032Z
UID:10001893-1816164000-1816169400@maisondadoration.org
SUMMARY:Louange et Intercession
DESCRIPTION:
URL:https://maisondadoration.org/agenda/louange-et-adoration/2027-07-21/
LOCATION:MDA\, Rue des Philosophes 2\, Yverdon-les-Bains\, 1400\, Suisse
CATEGORIES:Prière
END:VEVENT
BEGIN:VEVENT
DTSTART;TZID=Europe/Paris:20270728T100000
DTEND;TZID=Europe/Paris:20270728T113000
DTSTAMP:20260423T064140
CREATED:20241029T143619Z
LAST-MODIFIED:20241029T144032Z
UID:10001894-1816768800-1816774200@maisondadoration.org
SUMMARY:Louange et Intercession
DESCRIPTION:
URL:https://maisondadoration.org/agenda/louange-et-adoration/2027-07-28/
LOCATION:MDA\, Rue des Philosophes 2\, Yverdon-les-Bains\, 1400\, Suisse
CATEGORIES:Prière
END:VEVENT
BEGIN:VEVENT
DTSTART;TZID=Europe/Paris:20270804T100000
DTEND;TZID=Europe/Paris:20270804T113000
DTSTAMP:20260423T064140
CREATED:20241029T143619Z
LAST-MODIFIED:20241029T144032Z
UID:10001895-1817373600-1817379000@maisondadoration.org
SUMMARY:Louange et Intercession
DESCRIPTION:
URL:https://maisondadoration.org/agenda/louange-et-adoration/2027-08-04/
LOCATION:MDA\, Rue des Philosophes 2\, Yverdon-les-Bains\, 1400\, Suisse
CATEGORIES:Prière
END:VEVENT
BEGIN:VEVENT
DTSTART;TZID=Europe/Paris:20270811T100000
DTEND;TZID=Europe/Paris:20270811T113000
DTSTAMP:20260423T064140
CREATED:20241029T143619Z
LAST-MODIFIED:20241029T144032Z
UID:10001896-1817978400-1817983800@maisondadoration.org
SUMMARY:Louange et Intercession
DESCRIPTION:
URL:https://maisondadoration.org/agenda/louange-et-adoration/2027-08-11/
LOCATION:MDA\, Rue des Philosophes 2\, Yverdon-les-Bains\, 1400\, Suisse
CATEGORIES:Prière
END:VEVENT
BEGIN:VEVENT
DTSTART;TZID=Europe/Paris:20270818T100000
DTEND;TZID=Europe/Paris:20270818T113000
DTSTAMP:20260423T064140
CREATED:20241029T143619Z
LAST-MODIFIED:20241029T144032Z
UID:10001897-1818583200-1818588600@maisondadoration.org
SUMMARY:Louange et Intercession
DESCRIPTION:
URL:https://maisondadoration.org/agenda/louange-et-adoration/2027-08-18/
LOCATION:MDA\, Rue des Philosophes 2\, Yverdon-les-Bains\, 1400\, Suisse
CATEGORIES:Prière
END:VEVENT
BEGIN:VEVENT
DTSTART;TZID=Europe/Paris:20270825T100000
DTEND;TZID=Europe/Paris:20270825T113000
DTSTAMP:20260423T064140
CREATED:20241029T143619Z
LAST-MODIFIED:20241029T144032Z
UID:10001898-1819188000-1819193400@maisondadoration.org
SUMMARY:Louange et Intercession
DESCRIPTION:
URL:https://maisondadoration.org/agenda/louange-et-adoration/2027-08-25/
LOCATION:MDA\, Rue des Philosophes 2\, Yverdon-les-Bains\, 1400\, Suisse
CATEGORIES:Prière
END:VEVENT
BEGIN:VEVENT
DTSTART;TZID=Europe/Paris:20270901T100000
DTEND;TZID=Europe/Paris:20270901T113000
DTSTAMP:20260423T064140
CREATED:20241029T143619Z
LAST-MODIFIED:20241029T144032Z
UID:10001899-1819792800-1819798200@maisondadoration.org
SUMMARY:Louange et Intercession
DESCRIPTION:
URL:https://maisondadoration.org/agenda/louange-et-adoration/2027-09-01/
LOCATION:MDA\, Rue des Philosophes 2\, Yverdon-les-Bains\, 1400\, Suisse
CATEGORIES:Prière
END:VEVENT
BEGIN:VEVENT
DTSTART;TZID=Europe/Paris:20270908T100000
DTEND;TZID=Europe/Paris:20270908T113000
DTSTAMP:20260423T064140
CREATED:20241029T143619Z
LAST-MODIFIED:20241029T144032Z
UID:10001900-1820397600-1820403000@maisondadoration.org
SUMMARY:Louange et Intercession
DESCRIPTION:
URL:https://maisondadoration.org/agenda/louange-et-adoration/2027-09-08/
LOCATION:MDA\, Rue des Philosophes 2\, Yverdon-les-Bains\, 1400\, Suisse
CATEGORIES:Prière
END:VEVENT
BEGIN:VEVENT
DTSTART;TZID=Europe/Paris:20270915T100000
DTEND;TZID=Europe/Paris:20270915T113000
DTSTAMP:20260423T064140
CREATED:20241029T143619Z
LAST-MODIFIED:20241029T144032Z
UID:10001901-1821002400-1821007800@maisondadoration.org
SUMMARY:Louange et Intercession
DESCRIPTION:
URL:https://maisondadoration.org/agenda/louange-et-adoration/2027-09-15/
LOCATION:MDA\, Rue des Philosophes 2\, Yverdon-les-Bains\, 1400\, Suisse
CATEGORIES:Prière
END:VEVENT
BEGIN:VEVENT
DTSTART;TZID=Europe/Paris:20270922T100000
DTEND;TZID=Europe/Paris:20270922T113000
DTSTAMP:20260423T064140
CREATED:20241029T143619Z
LAST-MODIFIED:20241029T144032Z
UID:10001902-1821607200-1821612600@maisondadoration.org
SUMMARY:Louange et Intercession
DESCRIPTION:
URL:https://maisondadoration.org/agenda/louange-et-adoration/2027-09-22/
LOCATION:MDA\, Rue des Philosophes 2\, Yverdon-les-Bains\, 1400\, Suisse
CATEGORIES:Prière
END:VEVENT
BEGIN:VEVENT
DTSTART;TZID=Europe/Paris:20270929T100000
DTEND;TZID=Europe/Paris:20270929T113000
DTSTAMP:20260423T064140
CREATED:20241029T143619Z
LAST-MODIFIED:20241029T144032Z
UID:10001903-1822212000-1822217400@maisondadoration.org
SUMMARY:Louange et Intercession
DESCRIPTION:
URL:https://maisondadoration.org/agenda/louange-et-adoration/2027-09-29/
LOCATION:MDA\, Rue des Philosophes 2\, Yverdon-les-Bains\, 1400\, Suisse
CATEGORIES:Prière
END:VEVENT
BEGIN:VEVENT
DTSTART;TZID=Europe/Paris:20271006T100000
DTEND;TZID=Europe/Paris:20271006T113000
DTSTAMP:20260423T064140
CREATED:20241029T143619Z
LAST-MODIFIED:20241029T144032Z
UID:10001904-1822816800-1822822200@maisondadoration.org
SUMMARY:Louange et Intercession
DESCRIPTION:
URL:https://maisondadoration.org/agenda/louange-et-adoration/2027-10-06/
LOCATION:MDA\, Rue des Philosophes 2\, Yverdon-les-Bains\, 1400\, Suisse
CATEGORIES:Prière
END:VEVENT
BEGIN:VEVENT
DTSTART;TZID=Europe/Paris:20271013T100000
DTEND;TZID=Europe/Paris:20271013T113000
DTSTAMP:20260423T064140
CREATED:20241029T143619Z
LAST-MODIFIED:20241029T144032Z
UID:10001905-1823421600-1823427000@maisondadoration.org
SUMMARY:Louange et Intercession
DESCRIPTION:
URL:https://maisondadoration.org/agenda/louange-et-adoration/2027-10-13/
LOCATION:MDA\, Rue des Philosophes 2\, Yverdon-les-Bains\, 1400\, Suisse
CATEGORIES:Prière
END:VEVENT
BEGIN:VEVENT
DTSTART;TZID=Europe/Paris:20271020T100000
DTEND;TZID=Europe/Paris:20271020T113000
DTSTAMP:20260423T064140
CREATED:20241029T143619Z
LAST-MODIFIED:20241029T144032Z
UID:10001906-1824026400-1824031800@maisondadoration.org
SUMMARY:Louange et Intercession
DESCRIPTION:
URL:https://maisondadoration.org/agenda/louange-et-adoration/2027-10-20/
LOCATION:MDA\, Rue des Philosophes 2\, Yverdon-les-Bains\, 1400\, Suisse
CATEGORIES:Prière
END:VEVENT
BEGIN:VEVENT
DTSTART;TZID=Europe/Paris:20271027T100000
DTEND;TZID=Europe/Paris:20271027T113000
DTSTAMP:20260423T064140
CREATED:20241029T143619Z
LAST-MODIFIED:20241029T144032Z
UID:10001907-1824631200-1824636600@maisondadoration.org
SUMMARY:Louange et Intercession
DESCRIPTION:
URL:https://maisondadoration.org/agenda/louange-et-adoration/2027-10-27/
LOCATION:MDA\, Rue des Philosophes 2\, Yverdon-les-Bains\, 1400\, Suisse
CATEGORIES:Prière
END:VEVENT
END:VCALENDAR