BEGIN:VCALENDAR
VERSION:2.0
PRODID:-//MDA - Maison d&#039;adoration Yverdon - ECPv6.15.20//NONSGML v1.0//EN
CALSCALE:GREGORIAN
METHOD:PUBLISH
X-WR-CALNAME:MDA - Maison d&#039;adoration Yverdon
X-ORIGINAL-URL:https://maisondadoration.org
X-WR-CALDESC:Évènements pour MDA - Maison d&#039;adoration Yverdon
REFRESH-INTERVAL;VALUE=DURATION:PT1H
X-Robots-Tag:noindex
X-PUBLISHED-TTL:PT1H
BEGIN:VTIMEZONE
TZID:Europe/Paris
BEGIN:DAYLIGHT
TZOFFSETFROM:+0100
TZOFFSETTO:+0200
TZNAME:CEST
DTSTART:20250330T010000
END:DAYLIGHT
BEGIN:STANDARD
TZOFFSETFROM:+0200
TZOFFSETTO:+0100
TZNAME:CET
DTSTART:20251026T010000
END:STANDARD
BEGIN:DAYLIGHT
TZOFFSETFROM:+0100
TZOFFSETTO:+0200
TZNAME:CEST
DTSTART:20260329T010000
END:DAYLIGHT
BEGIN:STANDARD
TZOFFSETFROM:+0200
TZOFFSETTO:+0100
TZNAME:CET
DTSTART:20261025T010000
END:STANDARD
BEGIN:DAYLIGHT
TZOFFSETFROM:+0100
TZOFFSETTO:+0200
TZNAME:CEST
DTSTART:20270328T010000
END:DAYLIGHT
BEGIN:STANDARD
TZOFFSETFROM:+0200
TZOFFSETTO:+0100
TZNAME:CET
DTSTART:20271031T010000
END:STANDARD
BEGIN:DAYLIGHT
TZOFFSETFROM:+0100
TZOFFSETTO:+0200
TZNAME:CEST
DTSTART:20280326T010000
END:DAYLIGHT
BEGIN:STANDARD
TZOFFSETFROM:+0200
TZOFFSETTO:+0100
TZNAME:CET
DTSTART:20281029T010000
END:STANDARD
END:VTIMEZONE
BEGIN:VEVENT
DTSTART;TZID=Europe/Paris:20260916T100000
DTEND;TZID=Europe/Paris:20260916T113000
DTSTAMP:20260423T050108
CREATED:20241029T143619Z
LAST-MODIFIED:20241029T144032Z
UID:10001849-1789552800-1789558200@maisondadoration.org
SUMMARY:Louange et Intercession
DESCRIPTION:
URL:https://maisondadoration.org/agenda/louange-et-adoration/2026-09-16/
LOCATION:MDA\, Rue des Philosophes 2\, Yverdon-les-Bains\, 1400\, Suisse
CATEGORIES:Prière
END:VEVENT
BEGIN:VEVENT
DTSTART;TZID=Europe/Paris:20260923T100000
DTEND;TZID=Europe/Paris:20260923T113000
DTSTAMP:20260423T050108
CREATED:20241029T143619Z
LAST-MODIFIED:20241029T144032Z
UID:10001850-1790157600-1790163000@maisondadoration.org
SUMMARY:Louange et Intercession
DESCRIPTION:
URL:https://maisondadoration.org/agenda/louange-et-adoration/2026-09-23/
LOCATION:MDA\, Rue des Philosophes 2\, Yverdon-les-Bains\, 1400\, Suisse
CATEGORIES:Prière
END:VEVENT
BEGIN:VEVENT
DTSTART;TZID=Europe/Paris:20260930T100000
DTEND;TZID=Europe/Paris:20260930T113000
DTSTAMP:20260423T050108
CREATED:20241029T143619Z
LAST-MODIFIED:20241029T144032Z
UID:10001851-1790762400-1790767800@maisondadoration.org
SUMMARY:Louange et Intercession
DESCRIPTION:
URL:https://maisondadoration.org/agenda/louange-et-adoration/2026-09-30/
LOCATION:MDA\, Rue des Philosophes 2\, Yverdon-les-Bains\, 1400\, Suisse
CATEGORIES:Prière
END:VEVENT
BEGIN:VEVENT
DTSTART;TZID=Europe/Paris:20261007T100000
DTEND;TZID=Europe/Paris:20261007T113000
DTSTAMP:20260423T050108
CREATED:20241029T143619Z
LAST-MODIFIED:20241029T144032Z
UID:10001852-1791367200-1791372600@maisondadoration.org
SUMMARY:Louange et Intercession
DESCRIPTION:
URL:https://maisondadoration.org/agenda/louange-et-adoration/2026-10-07/
LOCATION:MDA\, Rue des Philosophes 2\, Yverdon-les-Bains\, 1400\, Suisse
CATEGORIES:Prière
END:VEVENT
BEGIN:VEVENT
DTSTART;TZID=Europe/Paris:20261014T100000
DTEND;TZID=Europe/Paris:20261014T113000
DTSTAMP:20260423T050108
CREATED:20241029T143619Z
LAST-MODIFIED:20241029T144032Z
UID:10001853-1791972000-1791977400@maisondadoration.org
SUMMARY:Louange et Intercession
DESCRIPTION:
URL:https://maisondadoration.org/agenda/louange-et-adoration/2026-10-14/
LOCATION:MDA\, Rue des Philosophes 2\, Yverdon-les-Bains\, 1400\, Suisse
CATEGORIES:Prière
END:VEVENT
BEGIN:VEVENT
DTSTART;TZID=Europe/Paris:20261021T100000
DTEND;TZID=Europe/Paris:20261021T113000
DTSTAMP:20260423T050108
CREATED:20241029T143619Z
LAST-MODIFIED:20241029T144032Z
UID:10001854-1792576800-1792582200@maisondadoration.org
SUMMARY:Louange et Intercession
DESCRIPTION:
URL:https://maisondadoration.org/agenda/louange-et-adoration/2026-10-21/
LOCATION:MDA\, Rue des Philosophes 2\, Yverdon-les-Bains\, 1400\, Suisse
CATEGORIES:Prière
END:VEVENT
BEGIN:VEVENT
DTSTART;TZID=Europe/Paris:20261028T100000
DTEND;TZID=Europe/Paris:20261028T113000
DTSTAMP:20260423T050108
CREATED:20241029T143619Z
LAST-MODIFIED:20241029T144032Z
UID:10001855-1793181600-1793187000@maisondadoration.org
SUMMARY:Louange et Intercession
DESCRIPTION:
URL:https://maisondadoration.org/agenda/louange-et-adoration/2026-10-28/
LOCATION:MDA\, Rue des Philosophes 2\, Yverdon-les-Bains\, 1400\, Suisse
CATEGORIES:Prière
END:VEVENT
BEGIN:VEVENT
DTSTART;TZID=Europe/Paris:20261104T100000
DTEND;TZID=Europe/Paris:20261104T113000
DTSTAMP:20260423T050108
CREATED:20241029T143619Z
LAST-MODIFIED:20241029T144032Z
UID:10001856-1793786400-1793791800@maisondadoration.org
SUMMARY:Louange et Intercession
DESCRIPTION:
URL:https://maisondadoration.org/agenda/louange-et-adoration/2026-11-04/
LOCATION:MDA\, Rue des Philosophes 2\, Yverdon-les-Bains\, 1400\, Suisse
CATEGORIES:Prière
END:VEVENT
BEGIN:VEVENT
DTSTART;TZID=Europe/Paris:20261111T100000
DTEND;TZID=Europe/Paris:20261111T113000
DTSTAMP:20260423T050108
CREATED:20241029T143619Z
LAST-MODIFIED:20241029T144032Z
UID:10001857-1794391200-1794396600@maisondadoration.org
SUMMARY:Louange et Intercession
DESCRIPTION:
URL:https://maisondadoration.org/agenda/louange-et-adoration/2026-11-11/
LOCATION:MDA\, Rue des Philosophes 2\, Yverdon-les-Bains\, 1400\, Suisse
CATEGORIES:Prière
END:VEVENT
BEGIN:VEVENT
DTSTART;TZID=Europe/Paris:20261118T100000
DTEND;TZID=Europe/Paris:20261118T113000
DTSTAMP:20260423T050108
CREATED:20241029T143619Z
LAST-MODIFIED:20241029T144032Z
UID:10001858-1794996000-1795001400@maisondadoration.org
SUMMARY:Louange et Intercession
DESCRIPTION:
URL:https://maisondadoration.org/agenda/louange-et-adoration/2026-11-18/
LOCATION:MDA\, Rue des Philosophes 2\, Yverdon-les-Bains\, 1400\, Suisse
CATEGORIES:Prière
END:VEVENT
BEGIN:VEVENT
DTSTART;TZID=Europe/Paris:20261125T100000
DTEND;TZID=Europe/Paris:20261125T113000
DTSTAMP:20260423T050108
CREATED:20241029T143619Z
LAST-MODIFIED:20241029T144032Z
UID:10001859-1795600800-1795606200@maisondadoration.org
SUMMARY:Louange et Intercession
DESCRIPTION:
URL:https://maisondadoration.org/agenda/louange-et-adoration/2026-11-25/
LOCATION:MDA\, Rue des Philosophes 2\, Yverdon-les-Bains\, 1400\, Suisse
CATEGORIES:Prière
END:VEVENT
BEGIN:VEVENT
DTSTART;TZID=Europe/Paris:20261202T100000
DTEND;TZID=Europe/Paris:20261202T113000
DTSTAMP:20260423T050108
CREATED:20241029T143619Z
LAST-MODIFIED:20241029T144032Z
UID:10001860-1796205600-1796211000@maisondadoration.org
SUMMARY:Louange et Intercession
DESCRIPTION:
URL:https://maisondadoration.org/agenda/louange-et-adoration/2026-12-02/
LOCATION:MDA\, Rue des Philosophes 2\, Yverdon-les-Bains\, 1400\, Suisse
CATEGORIES:Prière
END:VEVENT
BEGIN:VEVENT
DTSTART;TZID=Europe/Paris:20261209T100000
DTEND;TZID=Europe/Paris:20261209T113000
DTSTAMP:20260423T050108
CREATED:20241029T143619Z
LAST-MODIFIED:20241029T144032Z
UID:10001861-1796810400-1796815800@maisondadoration.org
SUMMARY:Louange et Intercession
DESCRIPTION:
URL:https://maisondadoration.org/agenda/louange-et-adoration/2026-12-09/
LOCATION:MDA\, Rue des Philosophes 2\, Yverdon-les-Bains\, 1400\, Suisse
CATEGORIES:Prière
END:VEVENT
BEGIN:VEVENT
DTSTART;TZID=Europe/Paris:20261216T100000
DTEND;TZID=Europe/Paris:20261216T113000
DTSTAMP:20260423T050108
CREATED:20241029T143619Z
LAST-MODIFIED:20241029T144032Z
UID:10001862-1797415200-1797420600@maisondadoration.org
SUMMARY:Louange et Intercession
DESCRIPTION:
URL:https://maisondadoration.org/agenda/louange-et-adoration/2026-12-16/
LOCATION:MDA\, Rue des Philosophes 2\, Yverdon-les-Bains\, 1400\, Suisse
CATEGORIES:Prière
END:VEVENT
BEGIN:VEVENT
DTSTART;TZID=Europe/Paris:20261223T100000
DTEND;TZID=Europe/Paris:20261223T113000
DTSTAMP:20260423T050108
CREATED:20241029T143619Z
LAST-MODIFIED:20241029T144032Z
UID:10001863-1798020000-1798025400@maisondadoration.org
SUMMARY:Louange et Intercession
DESCRIPTION:
URL:https://maisondadoration.org/agenda/louange-et-adoration/2026-12-23/
LOCATION:MDA\, Rue des Philosophes 2\, Yverdon-les-Bains\, 1400\, Suisse
CATEGORIES:Prière
END:VEVENT
BEGIN:VEVENT
DTSTART;TZID=Europe/Paris:20261230T100000
DTEND;TZID=Europe/Paris:20261230T113000
DTSTAMP:20260423T050108
CREATED:20241029T143619Z
LAST-MODIFIED:20241029T144032Z
UID:10001864-1798624800-1798630200@maisondadoration.org
SUMMARY:Louange et Intercession
DESCRIPTION:
URL:https://maisondadoration.org/agenda/louange-et-adoration/2026-12-30/
LOCATION:MDA\, Rue des Philosophes 2\, Yverdon-les-Bains\, 1400\, Suisse
CATEGORIES:Prière
END:VEVENT
BEGIN:VEVENT
DTSTART;TZID=Europe/Paris:20270106T100000
DTEND;TZID=Europe/Paris:20270106T113000
DTSTAMP:20260423T050108
CREATED:20241029T143619Z
LAST-MODIFIED:20241029T144032Z
UID:10001865-1799229600-1799235000@maisondadoration.org
SUMMARY:Louange et Intercession
DESCRIPTION:
URL:https://maisondadoration.org/agenda/louange-et-adoration/2027-01-06/
LOCATION:MDA\, Rue des Philosophes 2\, Yverdon-les-Bains\, 1400\, Suisse
CATEGORIES:Prière
END:VEVENT
BEGIN:VEVENT
DTSTART;TZID=Europe/Paris:20270113T100000
DTEND;TZID=Europe/Paris:20270113T113000
DTSTAMP:20260423T050108
CREATED:20241029T143619Z
LAST-MODIFIED:20241029T144032Z
UID:10001866-1799834400-1799839800@maisondadoration.org
SUMMARY:Louange et Intercession
DESCRIPTION:
URL:https://maisondadoration.org/agenda/louange-et-adoration/2027-01-13/
LOCATION:MDA\, Rue des Philosophes 2\, Yverdon-les-Bains\, 1400\, Suisse
CATEGORIES:Prière
END:VEVENT
BEGIN:VEVENT
DTSTART;TZID=Europe/Paris:20270120T100000
DTEND;TZID=Europe/Paris:20270120T113000
DTSTAMP:20260423T050108
CREATED:20241029T143619Z
LAST-MODIFIED:20241029T144032Z
UID:10001867-1800439200-1800444600@maisondadoration.org
SUMMARY:Louange et Intercession
DESCRIPTION:
URL:https://maisondadoration.org/agenda/louange-et-adoration/2027-01-20/
LOCATION:MDA\, Rue des Philosophes 2\, Yverdon-les-Bains\, 1400\, Suisse
CATEGORIES:Prière
END:VEVENT
BEGIN:VEVENT
DTSTART;TZID=Europe/Paris:20270127T100000
DTEND;TZID=Europe/Paris:20270127T113000
DTSTAMP:20260423T050108
CREATED:20241029T143619Z
LAST-MODIFIED:20241029T144032Z
UID:10001868-1801044000-1801049400@maisondadoration.org
SUMMARY:Louange et Intercession
DESCRIPTION:
URL:https://maisondadoration.org/agenda/louange-et-adoration/2027-01-27/
LOCATION:MDA\, Rue des Philosophes 2\, Yverdon-les-Bains\, 1400\, Suisse
CATEGORIES:Prière
END:VEVENT
BEGIN:VEVENT
DTSTART;TZID=Europe/Paris:20270203T100000
DTEND;TZID=Europe/Paris:20270203T113000
DTSTAMP:20260423T050108
CREATED:20241029T143619Z
LAST-MODIFIED:20241029T144032Z
UID:10001869-1801648800-1801654200@maisondadoration.org
SUMMARY:Louange et Intercession
DESCRIPTION:
URL:https://maisondadoration.org/agenda/louange-et-adoration/2027-02-03/
LOCATION:MDA\, Rue des Philosophes 2\, Yverdon-les-Bains\, 1400\, Suisse
CATEGORIES:Prière
END:VEVENT
BEGIN:VEVENT
DTSTART;TZID=Europe/Paris:20270210T100000
DTEND;TZID=Europe/Paris:20270210T113000
DTSTAMP:20260423T050108
CREATED:20241029T143619Z
LAST-MODIFIED:20241029T144032Z
UID:10001870-1802253600-1802259000@maisondadoration.org
SUMMARY:Louange et Intercession
DESCRIPTION:
URL:https://maisondadoration.org/agenda/louange-et-adoration/2027-02-10/
LOCATION:MDA\, Rue des Philosophes 2\, Yverdon-les-Bains\, 1400\, Suisse
CATEGORIES:Prière
END:VEVENT
BEGIN:VEVENT
DTSTART;TZID=Europe/Paris:20270217T100000
DTEND;TZID=Europe/Paris:20270217T113000
DTSTAMP:20260423T050108
CREATED:20241029T143619Z
LAST-MODIFIED:20241029T144032Z
UID:10001871-1802858400-1802863800@maisondadoration.org
SUMMARY:Louange et Intercession
DESCRIPTION:
URL:https://maisondadoration.org/agenda/louange-et-adoration/2027-02-17/
LOCATION:MDA\, Rue des Philosophes 2\, Yverdon-les-Bains\, 1400\, Suisse
CATEGORIES:Prière
END:VEVENT
BEGIN:VEVENT
DTSTART;TZID=Europe/Paris:20270224T100000
DTEND;TZID=Europe/Paris:20270224T113000
DTSTAMP:20260423T050108
CREATED:20241029T143619Z
LAST-MODIFIED:20241029T144032Z
UID:10001872-1803463200-1803468600@maisondadoration.org
SUMMARY:Louange et Intercession
DESCRIPTION:
URL:https://maisondadoration.org/agenda/louange-et-adoration/2027-02-24/
LOCATION:MDA\, Rue des Philosophes 2\, Yverdon-les-Bains\, 1400\, Suisse
CATEGORIES:Prière
END:VEVENT
BEGIN:VEVENT
DTSTART;TZID=Europe/Paris:20270303T100000
DTEND;TZID=Europe/Paris:20270303T113000
DTSTAMP:20260423T050108
CREATED:20241029T143619Z
LAST-MODIFIED:20241029T144032Z
UID:10001873-1804068000-1804073400@maisondadoration.org
SUMMARY:Louange et Intercession
DESCRIPTION:
URL:https://maisondadoration.org/agenda/louange-et-adoration/2027-03-03/
LOCATION:MDA\, Rue des Philosophes 2\, Yverdon-les-Bains\, 1400\, Suisse
CATEGORIES:Prière
END:VEVENT
BEGIN:VEVENT
DTSTART;TZID=Europe/Paris:20270310T100000
DTEND;TZID=Europe/Paris:20270310T113000
DTSTAMP:20260423T050108
CREATED:20241029T143619Z
LAST-MODIFIED:20241029T144032Z
UID:10001874-1804672800-1804678200@maisondadoration.org
SUMMARY:Louange et Intercession
DESCRIPTION:
URL:https://maisondadoration.org/agenda/louange-et-adoration/2027-03-10/
LOCATION:MDA\, Rue des Philosophes 2\, Yverdon-les-Bains\, 1400\, Suisse
CATEGORIES:Prière
END:VEVENT
BEGIN:VEVENT
DTSTART;TZID=Europe/Paris:20270317T100000
DTEND;TZID=Europe/Paris:20270317T113000
DTSTAMP:20260423T050108
CREATED:20241029T143619Z
LAST-MODIFIED:20241029T144032Z
UID:10001875-1805277600-1805283000@maisondadoration.org
SUMMARY:Louange et Intercession
DESCRIPTION:
URL:https://maisondadoration.org/agenda/louange-et-adoration/2027-03-17/
LOCATION:MDA\, Rue des Philosophes 2\, Yverdon-les-Bains\, 1400\, Suisse
CATEGORIES:Prière
END:VEVENT
BEGIN:VEVENT
DTSTART;TZID=Europe/Paris:20270324T100000
DTEND;TZID=Europe/Paris:20270324T113000
DTSTAMP:20260423T050108
CREATED:20241029T143619Z
LAST-MODIFIED:20241029T144032Z
UID:10001876-1805882400-1805887800@maisondadoration.org
SUMMARY:Louange et Intercession
DESCRIPTION:
URL:https://maisondadoration.org/agenda/louange-et-adoration/2027-03-24/
LOCATION:MDA\, Rue des Philosophes 2\, Yverdon-les-Bains\, 1400\, Suisse
CATEGORIES:Prière
END:VEVENT
BEGIN:VEVENT
DTSTART;TZID=Europe/Paris:20270331T100000
DTEND;TZID=Europe/Paris:20270331T113000
DTSTAMP:20260423T050108
CREATED:20241029T143619Z
LAST-MODIFIED:20241029T144032Z
UID:10001877-1806487200-1806492600@maisondadoration.org
SUMMARY:Louange et Intercession
DESCRIPTION:
URL:https://maisondadoration.org/agenda/louange-et-adoration/2027-03-31/
LOCATION:MDA\, Rue des Philosophes 2\, Yverdon-les-Bains\, 1400\, Suisse
CATEGORIES:Prière
END:VEVENT
BEGIN:VEVENT
DTSTART;TZID=Europe/Paris:20270407T100000
DTEND;TZID=Europe/Paris:20270407T113000
DTSTAMP:20260423T050108
CREATED:20241029T143619Z
LAST-MODIFIED:20241029T144032Z
UID:10001878-1807092000-1807097400@maisondadoration.org
SUMMARY:Louange et Intercession
DESCRIPTION:
URL:https://maisondadoration.org/agenda/louange-et-adoration/2027-04-07/
LOCATION:MDA\, Rue des Philosophes 2\, Yverdon-les-Bains\, 1400\, Suisse
CATEGORIES:Prière
END:VEVENT
END:VCALENDAR