BEGIN:VCALENDAR
VERSION:2.0
PRODID:-//MDA - Maison d&#039;adoration Yverdon - ECPv6.15.20//NONSGML v1.0//EN
CALSCALE:GREGORIAN
METHOD:PUBLISH
X-WR-CALNAME:MDA - Maison d&#039;adoration Yverdon
X-ORIGINAL-URL:https://maisondadoration.org
X-WR-CALDESC:Évènements pour MDA - Maison d&#039;adoration Yverdon
REFRESH-INTERVAL;VALUE=DURATION:PT1H
X-Robots-Tag:noindex
X-PUBLISHED-TTL:PT1H
BEGIN:VTIMEZONE
TZID:Europe/Paris
BEGIN:DAYLIGHT
TZOFFSETFROM:+0100
TZOFFSETTO:+0200
TZNAME:CEST
DTSTART:20280326T010000
END:DAYLIGHT
BEGIN:STANDARD
TZOFFSETFROM:+0200
TZOFFSETTO:+0100
TZNAME:CET
DTSTART:20281029T010000
END:STANDARD
BEGIN:DAYLIGHT
TZOFFSETFROM:+0100
TZOFFSETTO:+0200
TZNAME:CEST
DTSTART:20290325T010000
END:DAYLIGHT
BEGIN:STANDARD
TZOFFSETFROM:+0200
TZOFFSETTO:+0100
TZNAME:CET
DTSTART:20291028T010000
END:STANDARD
BEGIN:DAYLIGHT
TZOFFSETFROM:+0100
TZOFFSETTO:+0200
TZNAME:CEST
DTSTART:20300331T010000
END:DAYLIGHT
BEGIN:STANDARD
TZOFFSETFROM:+0200
TZOFFSETTO:+0100
TZNAME:CET
DTSTART:20301027T010000
END:STANDARD
BEGIN:DAYLIGHT
TZOFFSETFROM:+0100
TZOFFSETTO:+0200
TZNAME:CEST
DTSTART:20310330T010000
END:DAYLIGHT
BEGIN:STANDARD
TZOFFSETFROM:+0200
TZOFFSETTO:+0100
TZNAME:CET
DTSTART:20311026T010000
END:STANDARD
END:VTIMEZONE
BEGIN:VEVENT
DTSTART;TZID=Europe/Paris:20291010T100000
DTEND;TZID=Europe/Paris:20291010T113000
DTSTAMP:20260423T222822
CREATED:20241029T143619Z
LAST-MODIFIED:20241029T144032Z
UID:10002009-1886320800-1886326200@maisondadoration.org
SUMMARY:Louange et Intercession
DESCRIPTION:
URL:https://maisondadoration.org/agenda/louange-et-adoration/2029-10-10/
LOCATION:MDA\, Rue des Philosophes 2\, Yverdon-les-Bains\, 1400\, Suisse
CATEGORIES:Prière
END:VEVENT
BEGIN:VEVENT
DTSTART;TZID=Europe/Paris:20291017T100000
DTEND;TZID=Europe/Paris:20291017T113000
DTSTAMP:20260423T222822
CREATED:20241029T143619Z
LAST-MODIFIED:20241029T144032Z
UID:10002010-1886925600-1886931000@maisondadoration.org
SUMMARY:Louange et Intercession
DESCRIPTION:
URL:https://maisondadoration.org/agenda/louange-et-adoration/2029-10-17/
LOCATION:MDA\, Rue des Philosophes 2\, Yverdon-les-Bains\, 1400\, Suisse
CATEGORIES:Prière
END:VEVENT
BEGIN:VEVENT
DTSTART;TZID=Europe/Paris:20291024T100000
DTEND;TZID=Europe/Paris:20291024T113000
DTSTAMP:20260423T222822
CREATED:20241029T143619Z
LAST-MODIFIED:20241029T144032Z
UID:10002011-1887530400-1887535800@maisondadoration.org
SUMMARY:Louange et Intercession
DESCRIPTION:
URL:https://maisondadoration.org/agenda/louange-et-adoration/2029-10-24/
LOCATION:MDA\, Rue des Philosophes 2\, Yverdon-les-Bains\, 1400\, Suisse
CATEGORIES:Prière
END:VEVENT
BEGIN:VEVENT
DTSTART;TZID=Europe/Paris:20291031T100000
DTEND;TZID=Europe/Paris:20291031T113000
DTSTAMP:20260423T222822
CREATED:20241029T143619Z
LAST-MODIFIED:20241029T144032Z
UID:10007660-1888135200-1888140600@maisondadoration.org
SUMMARY:Louange et Intercession
DESCRIPTION:
URL:https://maisondadoration.org/agenda/louange-et-adoration/2029-10-31/
LOCATION:MDA\, Rue des Philosophes 2\, Yverdon-les-Bains\, 1400\, Suisse
CATEGORIES:Prière
END:VEVENT
BEGIN:VEVENT
DTSTART;TZID=Europe/Paris:20291107T100000
DTEND;TZID=Europe/Paris:20291107T113000
DTSTAMP:20260423T222822
CREATED:20241029T143619Z
LAST-MODIFIED:20241029T144032Z
UID:10007661-1888740000-1888745400@maisondadoration.org
SUMMARY:Louange et Intercession
DESCRIPTION:
URL:https://maisondadoration.org/agenda/louange-et-adoration/2029-11-07/
LOCATION:MDA\, Rue des Philosophes 2\, Yverdon-les-Bains\, 1400\, Suisse
CATEGORIES:Prière
END:VEVENT
BEGIN:VEVENT
DTSTART;TZID=Europe/Paris:20291114T100000
DTEND;TZID=Europe/Paris:20291114T113000
DTSTAMP:20260423T222822
CREATED:20241029T143619Z
LAST-MODIFIED:20241029T144032Z
UID:10007662-1889344800-1889350200@maisondadoration.org
SUMMARY:Louange et Intercession
DESCRIPTION:
URL:https://maisondadoration.org/agenda/louange-et-adoration/2029-11-14/
LOCATION:MDA\, Rue des Philosophes 2\, Yverdon-les-Bains\, 1400\, Suisse
CATEGORIES:Prière
END:VEVENT
BEGIN:VEVENT
DTSTART;TZID=Europe/Paris:20291121T100000
DTEND;TZID=Europe/Paris:20291121T113000
DTSTAMP:20260423T222822
CREATED:20241029T143619Z
LAST-MODIFIED:20241029T144032Z
UID:10007663-1889949600-1889955000@maisondadoration.org
SUMMARY:Louange et Intercession
DESCRIPTION:
URL:https://maisondadoration.org/agenda/louange-et-adoration/2029-11-21/
LOCATION:MDA\, Rue des Philosophes 2\, Yverdon-les-Bains\, 1400\, Suisse
CATEGORIES:Prière
END:VEVENT
BEGIN:VEVENT
DTSTART;TZID=Europe/Paris:20291128T100000
DTEND;TZID=Europe/Paris:20291128T113000
DTSTAMP:20260423T222822
CREATED:20241029T143619Z
LAST-MODIFIED:20241029T144032Z
UID:10007664-1890554400-1890559800@maisondadoration.org
SUMMARY:Louange et Intercession
DESCRIPTION:
URL:https://maisondadoration.org/agenda/louange-et-adoration/2029-11-28/
LOCATION:MDA\, Rue des Philosophes 2\, Yverdon-les-Bains\, 1400\, Suisse
CATEGORIES:Prière
END:VEVENT
BEGIN:VEVENT
DTSTART;TZID=Europe/Paris:20291205T100000
DTEND;TZID=Europe/Paris:20291205T113000
DTSTAMP:20260423T222822
CREATED:20241029T143619Z
LAST-MODIFIED:20241029T144032Z
UID:10007665-1891159200-1891164600@maisondadoration.org
SUMMARY:Louange et Intercession
DESCRIPTION:
URL:https://maisondadoration.org/agenda/louange-et-adoration/2029-12-05/
LOCATION:MDA\, Rue des Philosophes 2\, Yverdon-les-Bains\, 1400\, Suisse
CATEGORIES:Prière
END:VEVENT
BEGIN:VEVENT
DTSTART;TZID=Europe/Paris:20291212T100000
DTEND;TZID=Europe/Paris:20291212T113000
DTSTAMP:20260423T222822
CREATED:20241029T143619Z
LAST-MODIFIED:20241029T144032Z
UID:10007666-1891764000-1891769400@maisondadoration.org
SUMMARY:Louange et Intercession
DESCRIPTION:
URL:https://maisondadoration.org/agenda/louange-et-adoration/2029-12-12/
LOCATION:MDA\, Rue des Philosophes 2\, Yverdon-les-Bains\, 1400\, Suisse
CATEGORIES:Prière
END:VEVENT
BEGIN:VEVENT
DTSTART;TZID=Europe/Paris:20291219T100000
DTEND;TZID=Europe/Paris:20291219T113000
DTSTAMP:20260423T222822
CREATED:20241029T143619Z
LAST-MODIFIED:20241029T144032Z
UID:10007667-1892368800-1892374200@maisondadoration.org
SUMMARY:Louange et Intercession
DESCRIPTION:
URL:https://maisondadoration.org/agenda/louange-et-adoration/2029-12-19/
LOCATION:MDA\, Rue des Philosophes 2\, Yverdon-les-Bains\, 1400\, Suisse
CATEGORIES:Prière
END:VEVENT
BEGIN:VEVENT
DTSTART;TZID=Europe/Paris:20291226T100000
DTEND;TZID=Europe/Paris:20291226T113000
DTSTAMP:20260423T222822
CREATED:20241029T143619Z
LAST-MODIFIED:20241029T144032Z
UID:10007668-1892973600-1892979000@maisondadoration.org
SUMMARY:Louange et Intercession
DESCRIPTION:
URL:https://maisondadoration.org/agenda/louange-et-adoration/2029-12-26/
LOCATION:MDA\, Rue des Philosophes 2\, Yverdon-les-Bains\, 1400\, Suisse
CATEGORIES:Prière
END:VEVENT
BEGIN:VEVENT
DTSTART;TZID=Europe/Paris:20300102T100000
DTEND;TZID=Europe/Paris:20300102T113000
DTSTAMP:20260423T222822
CREATED:20241029T143619Z
LAST-MODIFIED:20241029T144032Z
UID:10007669-1893578400-1893583800@maisondadoration.org
SUMMARY:Louange et Intercession
DESCRIPTION:
URL:https://maisondadoration.org/agenda/louange-et-adoration/2030-01-02/
LOCATION:MDA\, Rue des Philosophes 2\, Yverdon-les-Bains\, 1400\, Suisse
CATEGORIES:Prière
END:VEVENT
BEGIN:VEVENT
DTSTART;TZID=Europe/Paris:20300109T100000
DTEND;TZID=Europe/Paris:20300109T113000
DTSTAMP:20260423T222822
CREATED:20241029T143619Z
LAST-MODIFIED:20241029T144032Z
UID:10007670-1894183200-1894188600@maisondadoration.org
SUMMARY:Louange et Intercession
DESCRIPTION:
URL:https://maisondadoration.org/agenda/louange-et-adoration/2030-01-09/
LOCATION:MDA\, Rue des Philosophes 2\, Yverdon-les-Bains\, 1400\, Suisse
CATEGORIES:Prière
END:VEVENT
BEGIN:VEVENT
DTSTART;TZID=Europe/Paris:20300116T100000
DTEND;TZID=Europe/Paris:20300116T113000
DTSTAMP:20260423T222822
CREATED:20241029T143619Z
LAST-MODIFIED:20241029T144032Z
UID:10007671-1894788000-1894793400@maisondadoration.org
SUMMARY:Louange et Intercession
DESCRIPTION:
URL:https://maisondadoration.org/agenda/louange-et-adoration/2030-01-16/
LOCATION:MDA\, Rue des Philosophes 2\, Yverdon-les-Bains\, 1400\, Suisse
CATEGORIES:Prière
END:VEVENT
BEGIN:VEVENT
DTSTART;TZID=Europe/Paris:20300123T100000
DTEND;TZID=Europe/Paris:20300123T113000
DTSTAMP:20260423T222822
CREATED:20241029T143619Z
LAST-MODIFIED:20241029T144032Z
UID:10007672-1895392800-1895398200@maisondadoration.org
SUMMARY:Louange et Intercession
DESCRIPTION:
URL:https://maisondadoration.org/agenda/louange-et-adoration/2030-01-23/
LOCATION:MDA\, Rue des Philosophes 2\, Yverdon-les-Bains\, 1400\, Suisse
CATEGORIES:Prière
END:VEVENT
BEGIN:VEVENT
DTSTART;TZID=Europe/Paris:20300130T100000
DTEND;TZID=Europe/Paris:20300130T113000
DTSTAMP:20260423T222822
CREATED:20241029T143619Z
LAST-MODIFIED:20241029T144032Z
UID:10007673-1895997600-1896003000@maisondadoration.org
SUMMARY:Louange et Intercession
DESCRIPTION:
URL:https://maisondadoration.org/agenda/louange-et-adoration/2030-01-30/
LOCATION:MDA\, Rue des Philosophes 2\, Yverdon-les-Bains\, 1400\, Suisse
CATEGORIES:Prière
END:VEVENT
BEGIN:VEVENT
DTSTART;TZID=Europe/Paris:20300206T100000
DTEND;TZID=Europe/Paris:20300206T113000
DTSTAMP:20260423T222822
CREATED:20241029T143619Z
LAST-MODIFIED:20241029T144032Z
UID:10007674-1896602400-1896607800@maisondadoration.org
SUMMARY:Louange et Intercession
DESCRIPTION:
URL:https://maisondadoration.org/agenda/louange-et-adoration/2030-02-06/
LOCATION:MDA\, Rue des Philosophes 2\, Yverdon-les-Bains\, 1400\, Suisse
CATEGORIES:Prière
END:VEVENT
BEGIN:VEVENT
DTSTART;TZID=Europe/Paris:20300213T100000
DTEND;TZID=Europe/Paris:20300213T113000
DTSTAMP:20260423T222822
CREATED:20241029T143619Z
LAST-MODIFIED:20241029T144032Z
UID:10007675-1897207200-1897212600@maisondadoration.org
SUMMARY:Louange et Intercession
DESCRIPTION:
URL:https://maisondadoration.org/agenda/louange-et-adoration/2030-02-13/
LOCATION:MDA\, Rue des Philosophes 2\, Yverdon-les-Bains\, 1400\, Suisse
CATEGORIES:Prière
END:VEVENT
BEGIN:VEVENT
DTSTART;TZID=Europe/Paris:20300220T100000
DTEND;TZID=Europe/Paris:20300220T113000
DTSTAMP:20260423T222822
CREATED:20241029T143619Z
LAST-MODIFIED:20241029T144032Z
UID:10007676-1897812000-1897817400@maisondadoration.org
SUMMARY:Louange et Intercession
DESCRIPTION:
URL:https://maisondadoration.org/agenda/louange-et-adoration/2030-02-20/
LOCATION:MDA\, Rue des Philosophes 2\, Yverdon-les-Bains\, 1400\, Suisse
CATEGORIES:Prière
END:VEVENT
BEGIN:VEVENT
DTSTART;TZID=Europe/Paris:20300227T100000
DTEND;TZID=Europe/Paris:20300227T113000
DTSTAMP:20260423T222822
CREATED:20241029T143619Z
LAST-MODIFIED:20241029T144032Z
UID:10007677-1898416800-1898422200@maisondadoration.org
SUMMARY:Louange et Intercession
DESCRIPTION:
URL:https://maisondadoration.org/agenda/louange-et-adoration/2030-02-27/
LOCATION:MDA\, Rue des Philosophes 2\, Yverdon-les-Bains\, 1400\, Suisse
CATEGORIES:Prière
END:VEVENT
BEGIN:VEVENT
DTSTART;TZID=Europe/Paris:20300306T100000
DTEND;TZID=Europe/Paris:20300306T113000
DTSTAMP:20260423T222822
CREATED:20241029T143619Z
LAST-MODIFIED:20241029T144032Z
UID:10007678-1899021600-1899027000@maisondadoration.org
SUMMARY:Louange et Intercession
DESCRIPTION:
URL:https://maisondadoration.org/agenda/louange-et-adoration/2030-03-06/
LOCATION:MDA\, Rue des Philosophes 2\, Yverdon-les-Bains\, 1400\, Suisse
CATEGORIES:Prière
END:VEVENT
BEGIN:VEVENT
DTSTART;TZID=Europe/Paris:20300313T100000
DTEND;TZID=Europe/Paris:20300313T113000
DTSTAMP:20260423T222822
CREATED:20241029T143619Z
LAST-MODIFIED:20241029T144032Z
UID:10007679-1899626400-1899631800@maisondadoration.org
SUMMARY:Louange et Intercession
DESCRIPTION:
URL:https://maisondadoration.org/agenda/louange-et-adoration/2030-03-13/
LOCATION:MDA\, Rue des Philosophes 2\, Yverdon-les-Bains\, 1400\, Suisse
CATEGORIES:Prière
END:VEVENT
BEGIN:VEVENT
DTSTART;TZID=Europe/Paris:20300320T100000
DTEND;TZID=Europe/Paris:20300320T113000
DTSTAMP:20260423T222822
CREATED:20241029T143619Z
LAST-MODIFIED:20241029T144032Z
UID:10007680-1900231200-1900236600@maisondadoration.org
SUMMARY:Louange et Intercession
DESCRIPTION:
URL:https://maisondadoration.org/agenda/louange-et-adoration/2030-03-20/
LOCATION:MDA\, Rue des Philosophes 2\, Yverdon-les-Bains\, 1400\, Suisse
CATEGORIES:Prière
END:VEVENT
BEGIN:VEVENT
DTSTART;TZID=Europe/Paris:20300327T100000
DTEND;TZID=Europe/Paris:20300327T113000
DTSTAMP:20260423T222822
CREATED:20241029T143619Z
LAST-MODIFIED:20241029T144032Z
UID:10007681-1900836000-1900841400@maisondadoration.org
SUMMARY:Louange et Intercession
DESCRIPTION:
URL:https://maisondadoration.org/agenda/louange-et-adoration/2030-03-27/
LOCATION:MDA\, Rue des Philosophes 2\, Yverdon-les-Bains\, 1400\, Suisse
CATEGORIES:Prière
END:VEVENT
BEGIN:VEVENT
DTSTART;TZID=Europe/Paris:20300403T100000
DTEND;TZID=Europe/Paris:20300403T113000
DTSTAMP:20260423T222822
CREATED:20241029T143619Z
LAST-MODIFIED:20241029T144032Z
UID:10007682-1901440800-1901446200@maisondadoration.org
SUMMARY:Louange et Intercession
DESCRIPTION:
URL:https://maisondadoration.org/agenda/louange-et-adoration/2030-04-03/
LOCATION:MDA\, Rue des Philosophes 2\, Yverdon-les-Bains\, 1400\, Suisse
CATEGORIES:Prière
END:VEVENT
BEGIN:VEVENT
DTSTART;TZID=Europe/Paris:20300410T100000
DTEND;TZID=Europe/Paris:20300410T113000
DTSTAMP:20260423T222822
CREATED:20241029T143619Z
LAST-MODIFIED:20241029T144032Z
UID:10007683-1902045600-1902051000@maisondadoration.org
SUMMARY:Louange et Intercession
DESCRIPTION:
URL:https://maisondadoration.org/agenda/louange-et-adoration/2030-04-10/
LOCATION:MDA\, Rue des Philosophes 2\, Yverdon-les-Bains\, 1400\, Suisse
CATEGORIES:Prière
END:VEVENT
BEGIN:VEVENT
DTSTART;TZID=Europe/Paris:20300417T100000
DTEND;TZID=Europe/Paris:20300417T113000
DTSTAMP:20260423T222822
CREATED:20241029T143619Z
LAST-MODIFIED:20241029T144032Z
UID:10007684-1902650400-1902655800@maisondadoration.org
SUMMARY:Louange et Intercession
DESCRIPTION:
URL:https://maisondadoration.org/agenda/louange-et-adoration/2030-04-17/
LOCATION:MDA\, Rue des Philosophes 2\, Yverdon-les-Bains\, 1400\, Suisse
CATEGORIES:Prière
END:VEVENT
BEGIN:VEVENT
DTSTART;TZID=Europe/Paris:20300424T100000
DTEND;TZID=Europe/Paris:20300424T113000
DTSTAMP:20260423T222822
CREATED:20241029T143619Z
LAST-MODIFIED:20241029T144032Z
UID:10007685-1903255200-1903260600@maisondadoration.org
SUMMARY:Louange et Intercession
DESCRIPTION:
URL:https://maisondadoration.org/agenda/louange-et-adoration/2030-04-24/
LOCATION:MDA\, Rue des Philosophes 2\, Yverdon-les-Bains\, 1400\, Suisse
CATEGORIES:Prière
END:VEVENT
BEGIN:VEVENT
DTSTART;TZID=Europe/Paris:20300501T100000
DTEND;TZID=Europe/Paris:20300501T113000
DTSTAMP:20260423T222822
CREATED:20241029T143619Z
LAST-MODIFIED:20241029T144032Z
UID:10007686-1903860000-1903865400@maisondadoration.org
SUMMARY:Louange et Intercession
DESCRIPTION:
URL:https://maisondadoration.org/agenda/louange-et-adoration/2030-05-01/
LOCATION:MDA\, Rue des Philosophes 2\, Yverdon-les-Bains\, 1400\, Suisse
CATEGORIES:Prière
END:VEVENT
END:VCALENDAR