BEGIN:VCALENDAR
VERSION:2.0
PRODID:-//MDA - Maison d&#039;adoration Yverdon - ECPv6.15.20//NONSGML v1.0//EN
CALSCALE:GREGORIAN
METHOD:PUBLISH
X-WR-CALNAME:MDA - Maison d&#039;adoration Yverdon
X-ORIGINAL-URL:https://maisondadoration.org
X-WR-CALDESC:Évènements pour MDA - Maison d&#039;adoration Yverdon
REFRESH-INTERVAL;VALUE=DURATION:PT1H
X-Robots-Tag:noindex
X-PUBLISHED-TTL:PT1H
BEGIN:VTIMEZONE
TZID:Europe/Paris
BEGIN:DAYLIGHT
TZOFFSETFROM:+0100
TZOFFSETTO:+0200
TZNAME:CEST
DTSTART:20250330T010000
END:DAYLIGHT
BEGIN:STANDARD
TZOFFSETFROM:+0200
TZOFFSETTO:+0100
TZNAME:CET
DTSTART:20251026T010000
END:STANDARD
BEGIN:DAYLIGHT
TZOFFSETFROM:+0100
TZOFFSETTO:+0200
TZNAME:CEST
DTSTART:20260329T010000
END:DAYLIGHT
BEGIN:STANDARD
TZOFFSETFROM:+0200
TZOFFSETTO:+0100
TZNAME:CET
DTSTART:20261025T010000
END:STANDARD
BEGIN:DAYLIGHT
TZOFFSETFROM:+0100
TZOFFSETTO:+0200
TZNAME:CEST
DTSTART:20270328T010000
END:DAYLIGHT
BEGIN:STANDARD
TZOFFSETFROM:+0200
TZOFFSETTO:+0100
TZNAME:CET
DTSTART:20271031T010000
END:STANDARD
END:VTIMEZONE
BEGIN:VEVENT
DTSTART;TZID=Europe/Paris:20260421T081500
DTEND;TZID=Europe/Paris:20260421T091500
DTSTAMP:20260421T120409
CREATED:20260311T121558Z
LAST-MODIFIED:20260311T121558Z
UID:10007740-1776759300-1776762900@maisondadoration.org
SUMMARY:Louange JEM Eternal Treasure
DESCRIPTION:
URL:https://maisondadoration.org/agenda/louange-jem-eternal-treasure/2026-04-21/
LOCATION:MDA\, Rue des Philosophes 2\, Yverdon-les-Bains\, 1400\, Suisse
END:VEVENT
BEGIN:VEVENT
DTSTART;TZID=Europe/Paris:20260421T181500
DTEND;TZID=Europe/Paris:20260421T184500
DTSTAMP:20260421T120409
CREATED:20251029T183405Z
LAST-MODIFIED:20251029T183405Z
UID:10006264-1776795300-1776797100@maisondadoration.org
SUMMARY:louange et intercession
DESCRIPTION:Communauté de la Maison du grain
URL:https://maisondadoration.org/agenda/louange-et-intercession-11/2026-04-21/
LOCATION:MDA\, Rue des Philosophes 2\, Yverdon-les-Bains\, 1400\, Suisse
END:VEVENT
BEGIN:VEVENT
DTSTART;TZID=Europe/Paris:20260421T200000
DTEND;TZID=Europe/Paris:20260421T213000
DTSTAMP:20260421T120409
CREATED:20251212T101443Z
LAST-MODIFIED:20251212T101443Z
UID:10006347-1776801600-1776807000@maisondadoration.org
SUMMARY:Louange et intercession
DESCRIPTION:avec S. Freymond
URL:https://maisondadoration.org/agenda/louange-et-intercession-4/2026-04-21/
LOCATION:MDA\, Rue des Philosophes 2\, Yverdon-les-Bains\, 1400\, Suisse
END:VEVENT
END:VCALENDAR